BEGIN:VCALENDAR
VERSION:2.0
PRODID:-//Sacramento Insight Meditation - ECPv6.15.16.1//NONSGML v1.0//EN
CALSCALE:GREGORIAN
METHOD:PUBLISH
X-ORIGINAL-URL:https://sactoinsight.org
X-WR-CALDESC:Events for Sacramento Insight Meditation
REFRESH-INTERVAL;VALUE=DURATION:PT1H
X-Robots-Tag:noindex
X-PUBLISHED-TTL:PT1H
BEGIN:VTIMEZONE
TZID:America/Los_Angeles
BEGIN:DAYLIGHT
TZOFFSETFROM:-0800
TZOFFSETTO:-0700
TZNAME:PDT
DTSTART:20190310T100000
END:DAYLIGHT
BEGIN:STANDARD
TZOFFSETFROM:-0700
TZOFFSETTO:-0800
TZNAME:PST
DTSTART:20191103T090000
END:STANDARD
BEGIN:DAYLIGHT
TZOFFSETFROM:-0800
TZOFFSETTO:-0700
TZNAME:PDT
DTSTART:20200308T100000
END:DAYLIGHT
BEGIN:STANDARD
TZOFFSETFROM:-0700
TZOFFSETTO:-0800
TZNAME:PST
DTSTART:20201101T090000
END:STANDARD
BEGIN:DAYLIGHT
TZOFFSETFROM:-0800
TZOFFSETTO:-0700
TZNAME:PDT
DTSTART:20210314T100000
END:DAYLIGHT
BEGIN:STANDARD
TZOFFSETFROM:-0700
TZOFFSETTO:-0800
TZNAME:PST
DTSTART:20211107T090000
END:STANDARD
END:VTIMEZONE
BEGIN:VEVENT
DTSTART;TZID=America/Los_Angeles:20200803T183000
DTEND;TZID=America/Los_Angeles:20200803T200000
DTSTAMP:20260420T051818
CREATED:20200705T200550Z
LAST-MODIFIED:20200705T200605Z
UID:16059-1596479400-1596484800@sactoinsight.org
SUMMARY:(Remote) Buddhist Recovery Group
DESCRIPTION:Join online meeting: https://zoom.us/j/130258786\nJoin by phone: 1-669-900-6833 ( Meeting ID: 130 258 786 ) \nOur Buddhist Recovery Group meets every Monday evening. For additional information\, visit the 12 Step Sangha page at https://sactoinsight.org/activities/practice-opportunities/12-step-sangha/. \n \nClick the button to make a donation specifically for this recovery group or alternately\, you may donate generally to SIM by clicking here.
URL:https://sactoinsight.org/event/buddhist-recovery-group-250/
LOCATION:Remote Meeting Zoom
CATEGORIES:Buddhist Recovery Group,Online Remote,Weekly Meditation
ORGANIZER;CN="Tom Hopkins":MAILTO:thopkins415@gmail.com
END:VEVENT
BEGIN:VEVENT
DTSTART;TZID=America/Los_Angeles:20200806T190000
DTEND;TZID=America/Los_Angeles:20200806T211500
DTSTAMP:20260420T051818
CREATED:20200711T165613Z
LAST-MODIFIED:20200801T010338Z
UID:16145-1596740400-1596748500@sactoinsight.org
SUMMARY:(Remote) *Sit & Dharma Talk with Visiting Teacher Neesha Patel
DESCRIPTION:Talk Topic: to be announced\nSit & Dharma Talk with Visiting Teacher Neesha Patel \nJoin online meeting: https://us02web.zoom.us/j/86342293049\nPasscode: 029207\nJoin by phone: 1-669-900-6833 ( Meeting ID: 863 4229 3049 )\nFor tips and instructions on how to participate\, check this news blog. \nWe are fortunate to have NEESHA PATEL\, PhD returning to SIM this evening. \n \nNEESHA PATEL\, PhD is deeply grateful for the liberative teachings of the Buddha. She has been fortunate to have practiced in both Asia and the US. Her practice has been influenced by the guidance of many wonderful teachers including Sayadaw U Tejaniya and Thai Forest Tradition teachers. She teaches mindfulness meditation at UC Davis and is a participant in the 2017-2021 Insight Meditation Society Teacher Training Program. \nThursday Night Talk Dana\n[give_form id=”16147″ show_title=”false” show_content=”none” display_style=”reveal”] “Generosity is the virtue that leads to peace.” – The Historical Buddha\nFor remote meetings\, please use the form above to donate by credit card or your PayPal account. Enter the amount you’d like to give and 75% of your donation will be shared with Neesha Patel. \nTopic details: \nto be announced.
URL:https://sactoinsight.org/event/sit-dharma-talk-visiting-teacher-neesha-patel-4/
LOCATION:Remote Meeting Zoom
CATEGORIES:Online Remote,Weekly Meditation
END:VEVENT
BEGIN:VEVENT
DTSTART;TZID=America/Los_Angeles:20200810T183000
DTEND;TZID=America/Los_Angeles:20200810T200000
DTSTAMP:20260420T051818
CREATED:20200705T200705Z
LAST-MODIFIED:20200705T200721Z
UID:16062-1597084200-1597089600@sactoinsight.org
SUMMARY:(Remote) Buddhist Recovery Group
DESCRIPTION:Join online meeting: https://zoom.us/j/130258786\nJoin by phone: 1-669-900-6833 ( Meeting ID: 130 258 786 ) \nOur Buddhist Recovery Group meets every Monday evening. For additional information\, visit the 12 Step Sangha page at https://sactoinsight.org/activities/practice-opportunities/12-step-sangha/. \n \nClick the button to make a donation specifically for this recovery group or alternately\, you may donate generally to SIM by clicking here.
URL:https://sactoinsight.org/event/buddhist-recovery-group-251/
LOCATION:Remote Meeting Zoom
CATEGORIES:Buddhist Recovery Group,Online Remote,Weekly Meditation
ORGANIZER;CN="Tom Hopkins":MAILTO:thopkins415@gmail.com
END:VEVENT
BEGIN:VEVENT
DTSTART;TZID=America/Los_Angeles:20200813T190000
DTEND;TZID=America/Los_Angeles:20200813T211500
DTSTAMP:20260420T051819
CREATED:20200711T171755Z
LAST-MODIFIED:20200809T220826Z
UID:16152-1597345200-1597353300@sactoinsight.org
SUMMARY:(Remote) Sit & Dharma Talk - Rich Howard - Awareness and Friends
DESCRIPTION:Talk Topic: Awareness and Friends: An Introduction\nSit & Dharma Talk with Community Teacher Rich Howard \nJoin online meeting: https://us02web.zoom.us/j/85362255266\nPasscode: 302533\nJoin by phone: 1-669-900-9128 ( Meeting ID: 853 6225 5266 )\nFor tips and instructions on how to participate\, check this news blog. \nThursday Night Talk Dana\n[give_form id=”10304″ show_title=”false” show_content=”none” display_style=”reveal”] “Generosity is the virtue that leads to peace.” – The Historical Buddha\nFor remote meetings\, please use the form above to donate by credit card or your PayPal account. Enter the amount you’d like to give and 75% of your donation will be shared with Rich Howard. \nTopic details:\nMindful awareness is at the core of our meditation practice. When cultivated properly\, awareness is joined and supported by other mental factors that arise naturally: clear seeing\, clear comprehension\, tranquility\, acceptance\, joy\, and eventually non-attachment\, compassion\, equanimity\, and wisdom. We will explore the role of awareness in our practice and look more deeply at this circle of “friends” that accompany awareness.\nThis evening will stand alone and will also serve as an introduction to the daylong on Saturday August 29. This day of practice will be in the style of Sayadaw U Tejaniya\, a contemporary Burmese monk\, with an open schedule conducive to home practice. It should work well on Zoom.
URL:https://sactoinsight.org/event/sit-dharma-talk-sim-community-teacher-rich-howard-15/
LOCATION:Remote Meeting Zoom
CATEGORIES:Online Remote,Weekly Meditation
END:VEVENT
BEGIN:VEVENT
DTSTART;TZID=America/Los_Angeles:20200817T183000
DTEND;TZID=America/Los_Angeles:20200817T200000
DTSTAMP:20260420T051819
CREATED:20200705T200827Z
LAST-MODIFIED:20200705T200841Z
UID:16065-1597689000-1597694400@sactoinsight.org
SUMMARY:(Remote) Buddhist Recovery Group
DESCRIPTION:Join online meeting: https://zoom.us/j/130258786\nJoin by phone: 1-669-900-6833 ( Meeting ID: 130 258 786 ) \nOur Buddhist Recovery Group meets every Monday evening. For additional information\, visit the 12 Step Sangha page at https://sactoinsight.org/activities/practice-opportunities/12-step-sangha/. \n \nClick the button to make a donation specifically for this recovery group or alternately\, you may donate generally to SIM by clicking here.
URL:https://sactoinsight.org/event/buddhist-recovery-group-252/
LOCATION:Remote Meeting Zoom
CATEGORIES:Buddhist Recovery Group,Online Remote,Weekly Meditation
ORGANIZER;CN="Tom Hopkins":MAILTO:thopkins415@gmail.com
END:VEVENT
BEGIN:VEVENT
DTSTART;TZID=America/Los_Angeles:20200820T190000
DTEND;TZID=America/Los_Angeles:20200820T211500
DTSTAMP:20260420T051819
CREATED:20200711T172955Z
LAST-MODIFIED:20200819T225352Z
UID:16155-1597950000-1597958100@sactoinsight.org
SUMMARY:(Remote) Sit & Dharma Talk - Seth Castleman- Big Mind\, Small Mind
DESCRIPTION:Talk Topic: Big Mind and Small Mind\nSit & Dharma Talk with Visiting Teacher Rabbi Seth Castleman \nHow we can move out of our small-mindedness into a more expansive “Big Mind.” \nJoin online meeting: https://us02web.zoom.us/j/81560805271\nPasscode: 944656\nJoin by phone: 1-669-900-9128 ( Meeting ID: 815 6080 5271 )\nFor tips and instructions on how to participate\, check this news blog.\nThursday Night Talk Dana\n[give_form id=”16677″ show_title=”false” show_content=”none” display_style=”reveal”] “Generosity is the virtue that leads to peace.” – The Historical Buddha\nFor remote meetings\, please use the form above to donate by credit card or your PayPal account. Enter the amount you’d like to give and 75% of your donation will be shared with Seth Castleman. \nRABBI SETH CASTLEMAN is a teacher\, writer\, and storyteller with over twenty years experience teaching mindfulness and spiritual practice. Castleman is trained in both the Jewish and Buddhist traditions. After 20 years of meditation practice and two years of silent retreat as a lay-person in the US\, India\, and Nepal and as a monk in Burma\, Seth was trained as a teacher by Jack Kornfield at Spirit Rock Meditation Center in Woodacre\, CA. He was authorized as a meditation/dharma teacher in 2008. Following eight years of rabbinical studies in the US and Israel/Palestine\, Castleman was ordained in 2011 as a rabbi by one Orthodox\, one Conservative\, and one Reform rabbi. Castleman has published in two dozen newspapers\, periodicals\, and anthologies on the intersection of contemplative practice and social justice and the transformational power of brokenness. As a storyteller\, Seth has performed in theaters\, on radio and television\, and at countless kitchen tables. Seth uses myth\, storytelling\, and humor as central tools in his teaching and counseling work. Seth Castleman is married to Reverend Elizabeth Griswold\, making them\, quite possibly\, the only rabbi—Christian minister married couple in the US. Seth and Elizabeth live in Davis\, CA with their three children.
URL:https://sactoinsight.org/event/sit-dharma-talk-visiting-teacher-seth-castleman/
LOCATION:Remote Meeting Zoom
CATEGORIES:Online Remote,Weekly Meditation
END:VEVENT
BEGIN:VEVENT
DTSTART;TZID=America/Los_Angeles:20200824T183000
DTEND;TZID=America/Los_Angeles:20200824T200000
DTSTAMP:20260420T051819
CREATED:20200705T201006Z
LAST-MODIFIED:20200705T201020Z
UID:16068-1598293800-1598299200@sactoinsight.org
SUMMARY:(Remote) Buddhist Recovery Group
DESCRIPTION:Join online meeting: https://zoom.us/j/130258786\nJoin by phone: 1-669-900-6833 ( Meeting ID: 130 258 786 ) \nOur Buddhist Recovery Group meets every Monday evening. For additional information\, visit the 12 Step Sangha page at https://sactoinsight.org/activities/practice-opportunities/12-step-sangha/. \n \nClick the button to make a donation specifically for this recovery group or alternately\, you may donate generally to SIM by clicking here.
URL:https://sactoinsight.org/event/buddhist-recovery-group-253/
LOCATION:Remote Meeting Zoom
CATEGORIES:Buddhist Recovery Group,Online Remote,Weekly Meditation
ORGANIZER;CN="Tom Hopkins":MAILTO:thopkins415@gmail.com
END:VEVENT
BEGIN:VEVENT
DTSTART;TZID=America/Los_Angeles:20200827T190000
DTEND;TZID=America/Los_Angeles:20200827T211500
DTSTAMP:20260420T051819
CREATED:20200711T171416Z
LAST-MODIFIED:20200825T222615Z
UID:16150-1598554800-1598562900@sactoinsight.org
SUMMARY:(Remote) Sit & Dharma Talk - Dennis Warren - A Meditation to Rest\, Recharge and...
DESCRIPTION:A Meditation To Rest\, Recharge and Prepared To Engage Your Life\nSit & Dharma Talk with SIM Founding Teacher Dennis Warren \nJoin online meeting: https://zoom.us/j/92062095534\nPasscode: 846496\nJoin by phone: 1-669-900-6833 ( Meeting ID: 920 6209 5534 )\nFor tips and instructions on how to participate\, check this news blog. \nThursday Night Talk Dana\n[give_form id=”10310″ show_title=”false” show_content=”none” display_style=”reveal”] “Generosity is the virtue that leads to peace.” – The Historical Buddha\nFor remote meetings\, please use the form above to donate by credit card or your PayPal account. Enter the amount you’d like to give and 75% of your donation will be shared with Dennis Warren.
URL:https://sactoinsight.org/event/sit-dharma-talk-sim-founding-teacher-dennis-warren-41/
LOCATION:Remote Meeting Zoom
CATEGORIES:Online Remote,Weekly Meditation
END:VEVENT
BEGIN:VEVENT
DTSTART;TZID=America/Los_Angeles:20200831T183000
DTEND;TZID=America/Los_Angeles:20200831T200000
DTSTAMP:20260420T051819
CREATED:20200705T201128Z
LAST-MODIFIED:20200705T201155Z
UID:16071-1598898600-1598904000@sactoinsight.org
SUMMARY:(Remote) Buddhist Recovery Group
DESCRIPTION:Join online meeting: https://zoom.us/j/130258786\nJoin by phone: 1-669-900-6833 ( Meeting ID: 130 258 786 ) \nOur Buddhist Recovery Group meets every Monday evening. For additional information\, visit the 12 Step Sangha page at https://sactoinsight.org/activities/practice-opportunities/12-step-sangha/. \n \nClick the button to make a donation specifically for this recovery group or alternately\, you may donate generally to SIM by clicking here.
URL:https://sactoinsight.org/event/buddhist-recovery-group-254/
LOCATION:Remote Meeting Zoom
CATEGORIES:Buddhist Recovery Group,Online Remote,Weekly Meditation
ORGANIZER;CN="Tom Hopkins":MAILTO:thopkins415@gmail.com
END:VEVENT
END:VCALENDAR