BEGIN:VCALENDAR
VERSION:2.0
PRODID:-//Sacramento Insight Meditation - ECPv6.15.16.1//NONSGML v1.0//EN
CALSCALE:GREGORIAN
METHOD:PUBLISH
X-WR-CALNAME:Sacramento Insight Meditation
X-ORIGINAL-URL:https://sactoinsight.org
X-WR-CALDESC:Events for Sacramento Insight Meditation
REFRESH-INTERVAL;VALUE=DURATION:PT1H
X-Robots-Tag:noindex
X-PUBLISHED-TTL:PT1H
BEGIN:VTIMEZONE
TZID:America/Los_Angeles
BEGIN:DAYLIGHT
TZOFFSETFROM:-0800
TZOFFSETTO:-0700
TZNAME:PDT
DTSTART:20170312T100000
END:DAYLIGHT
BEGIN:STANDARD
TZOFFSETFROM:-0700
TZOFFSETTO:-0800
TZNAME:PST
DTSTART:20171105T090000
END:STANDARD
BEGIN:DAYLIGHT
TZOFFSETFROM:-0800
TZOFFSETTO:-0700
TZNAME:PDT
DTSTART:20180311T100000
END:DAYLIGHT
BEGIN:STANDARD
TZOFFSETFROM:-0700
TZOFFSETTO:-0800
TZNAME:PST
DTSTART:20181104T090000
END:STANDARD
BEGIN:DAYLIGHT
TZOFFSETFROM:-0800
TZOFFSETTO:-0700
TZNAME:PDT
DTSTART:20190310T100000
END:DAYLIGHT
BEGIN:STANDARD
TZOFFSETFROM:-0700
TZOFFSETTO:-0800
TZNAME:PST
DTSTART:20191103T090000
END:STANDARD
END:VTIMEZONE
BEGIN:VEVENT
DTSTART;TZID=America/Los_Angeles:20180305T183000
DTEND;TZID=America/Los_Angeles:20180305T200000
DTSTAMP:20260422T031034
CREATED:20180213T231912Z
LAST-MODIFIED:20180213T231912Z
UID:7327-1520274600-1520280000@sactoinsight.org
SUMMARY:Buddhist Recovery Group
DESCRIPTION:Our Buddhist Recovery Group meets every Monday evening. For additional information\, visit the 12 Step Sangha page at https://sactoinsight.org/activities/practice-opportunities/12-step-sangha/
URL:https://sactoinsight.org/event/buddhist-recovery-group-124/
LOCATION:CA
CATEGORIES:Buddhist Recovery Group
ORGANIZER;CN="Tom Hopkins":MAILTO:thopkins415@gmail.com
END:VEVENT
BEGIN:VEVENT
DTSTART;TZID=America/Los_Angeles:20180312T183000
DTEND;TZID=America/Los_Angeles:20180312T200000
DTSTAMP:20260422T031034
CREATED:20180213T232028Z
LAST-MODIFIED:20180213T232028Z
UID:7329-1520879400-1520884800@sactoinsight.org
SUMMARY:Buddhist Recovery Group
DESCRIPTION:Our Buddhist Recovery Group meets every Monday evening. For additional information\, visit the 12 Step Sangha page at https://sactoinsight.org/activities/practice-opportunities/12-step-sangha/
URL:https://sactoinsight.org/event/buddhist-recovery-group-125/
LOCATION:CA
CATEGORIES:Buddhist Recovery Group
ORGANIZER;CN="Tom Hopkins":MAILTO:thopkins415@gmail.com
END:VEVENT
BEGIN:VEVENT
DTSTART;TZID=America/Los_Angeles:20180319T183000
DTEND;TZID=America/Los_Angeles:20180319T200000
DTSTAMP:20260422T031034
CREATED:20180213T232138Z
LAST-MODIFIED:20180213T232138Z
UID:7331-1521484200-1521489600@sactoinsight.org
SUMMARY:Buddhist Recovery Group
DESCRIPTION:Our Buddhist Recovery Group meets every Monday evening. For additional information\, visit the 12 Step Sangha page at https://sactoinsight.org/activities/practice-opportunities/12-step-sangha/
URL:https://sactoinsight.org/event/buddhist-recovery-group-126/
LOCATION:CA
CATEGORIES:Buddhist Recovery Group
ORGANIZER;CN="Tom Hopkins":MAILTO:thopkins415@gmail.com
END:VEVENT
BEGIN:VEVENT
DTSTART;TZID=America/Los_Angeles:20180326T183000
DTEND;TZID=America/Los_Angeles:20180326T200000
DTSTAMP:20260422T031034
CREATED:20180213T232249Z
LAST-MODIFIED:20180213T232249Z
UID:7333-1522089000-1522094400@sactoinsight.org
SUMMARY:Buddhist Recovery Group
DESCRIPTION:Our Buddhist Recovery Group meets every Monday evening. For additional information\, visit the 12 Step Sangha page at https://sactoinsight.org/activities/practice-opportunities/12-step-sangha/
URL:https://sactoinsight.org/event/buddhist-recovery-group-127/
LOCATION:CA
CATEGORIES:Buddhist Recovery Group
ORGANIZER;CN="Tom Hopkins":MAILTO:thopkins415@gmail.com
END:VEVENT
END:VCALENDAR