BEGIN:VCALENDAR
VERSION:2.0
PRODID:-//Sacramento Insight Meditation - ECPv6.15.16.1//NONSGML v1.0//EN
CALSCALE:GREGORIAN
METHOD:PUBLISH
X-ORIGINAL-URL:https://sactoinsight.org
X-WR-CALDESC:Events for Sacramento Insight Meditation
REFRESH-INTERVAL;VALUE=DURATION:PT1H
X-Robots-Tag:noindex
X-PUBLISHED-TTL:PT1H
BEGIN:VTIMEZONE
TZID:America/Los_Angeles
BEGIN:DAYLIGHT
TZOFFSETFROM:-0800
TZOFFSETTO:-0700
TZNAME:PDT
DTSTART:20160313T100000
END:DAYLIGHT
BEGIN:STANDARD
TZOFFSETFROM:-0700
TZOFFSETTO:-0800
TZNAME:PST
DTSTART:20161106T090000
END:STANDARD
BEGIN:DAYLIGHT
TZOFFSETFROM:-0800
TZOFFSETTO:-0700
TZNAME:PDT
DTSTART:20170312T100000
END:DAYLIGHT
BEGIN:STANDARD
TZOFFSETFROM:-0700
TZOFFSETTO:-0800
TZNAME:PST
DTSTART:20171105T090000
END:STANDARD
BEGIN:DAYLIGHT
TZOFFSETFROM:-0800
TZOFFSETTO:-0700
TZNAME:PDT
DTSTART:20180311T100000
END:DAYLIGHT
BEGIN:STANDARD
TZOFFSETFROM:-0700
TZOFFSETTO:-0800
TZNAME:PST
DTSTART:20181104T090000
END:STANDARD
END:VTIMEZONE
BEGIN:VEVENT
DTSTART;TZID=America/Los_Angeles:20171002T183000
DTEND;TZID=America/Los_Angeles:20171002T200000
DTSTAMP:20260422T095523
CREATED:20170920T045057Z
LAST-MODIFIED:20170920T045057Z
UID:5590-1506969000-1506974400@sactoinsight.org
SUMMARY:Buddhist Recovery Group
DESCRIPTION:Our Buddhist Recovery Group meets every Monday evening. For additional information\, visit the 12 Step Sangha page at https://sactoinsight.org/activities/practice-opportunities/12-step-sangha/
URL:https://sactoinsight.org/event/buddhist-recovery-group-102/
LOCATION:CA
CATEGORIES:Buddhist Recovery Group
ORGANIZER;CN="Diane Balter":MAILTO:dianebalter2003@yahoo.com
END:VEVENT
BEGIN:VEVENT
DTSTART;TZID=America/Los_Angeles:20171009T183000
DTEND;TZID=America/Los_Angeles:20171009T200000
DTSTAMP:20260422T095523
CREATED:20170920T045200Z
LAST-MODIFIED:20170920T045200Z
UID:5592-1507573800-1507579200@sactoinsight.org
SUMMARY:Buddhist Recovery Group
DESCRIPTION:Our Buddhist Recovery Group meets every Monday evening. For additional information\, visit the 12 Step Sangha page at https://sactoinsight.org/activities/practice-opportunities/12-step-sangha/
URL:https://sactoinsight.org/event/buddhist-recovery-group-103/
LOCATION:CA
CATEGORIES:Buddhist Recovery Group
ORGANIZER;CN="Diane Balter":MAILTO:dianebalter2003@yahoo.com
END:VEVENT
BEGIN:VEVENT
DTSTART;TZID=America/Los_Angeles:20171016T183000
DTEND;TZID=America/Los_Angeles:20171016T200000
DTSTAMP:20260422T095523
CREATED:20170920T045300Z
LAST-MODIFIED:20170920T045300Z
UID:5594-1508178600-1508184000@sactoinsight.org
SUMMARY:Buddhist Recovery Group
DESCRIPTION:Our Buddhist Recovery Group meets every Monday evening. For additional information\, visit the 12 Step Sangha page at https://sactoinsight.org/activities/practice-opportunities/12-step-sangha/
URL:https://sactoinsight.org/event/buddhist-recovery-group-104/
LOCATION:CA
CATEGORIES:Buddhist Recovery Group
ORGANIZER;CN="Diane Balter":MAILTO:dianebalter2003@yahoo.com
END:VEVENT
BEGIN:VEVENT
DTSTART;TZID=America/Los_Angeles:20171023T183000
DTEND;TZID=America/Los_Angeles:20171023T200000
DTSTAMP:20260422T095523
CREATED:20170920T045356Z
LAST-MODIFIED:20170920T045356Z
UID:5596-1508783400-1508788800@sactoinsight.org
SUMMARY:Buddhist Recovery Group
DESCRIPTION:Our Buddhist Recovery Group meets every Monday evening. For additional information\, visit the 12 Step Sangha page at https://sactoinsight.org/activities/practice-opportunities/12-step-sangha/
URL:https://sactoinsight.org/event/buddhist-recovery-group-105/
LOCATION:CA
CATEGORIES:Buddhist Recovery Group
ORGANIZER;CN="Diane Balter":MAILTO:dianebalter2003@yahoo.com
END:VEVENT
BEGIN:VEVENT
DTSTART;TZID=America/Los_Angeles:20171030T183000
DTEND;TZID=America/Los_Angeles:20171030T200000
DTSTAMP:20260422T095523
CREATED:20170920T045452Z
LAST-MODIFIED:20170920T045452Z
UID:5598-1509388200-1509393600@sactoinsight.org
SUMMARY:Buddhist Recovery Group
DESCRIPTION:Our Buddhist Recovery Group meets every Monday evening. For additional information\, visit the 12 Step Sangha page at https://sactoinsight.org/activities/practice-opportunities/12-step-sangha/
URL:https://sactoinsight.org/event/buddhist-recovery-group-106/
LOCATION:CA
CATEGORIES:Buddhist Recovery Group
ORGANIZER;CN="Diane Balter":MAILTO:dianebalter2003@yahoo.com
END:VEVENT
END:VCALENDAR