BEGIN:VCALENDAR
VERSION:2.0
PRODID:-//Sacramento Insight Meditation - ECPv6.15.16.1//NONSGML v1.0//EN
CALSCALE:GREGORIAN
METHOD:PUBLISH
X-ORIGINAL-URL:https://sactoinsight.org
X-WR-CALDESC:Events for Sacramento Insight Meditation
REFRESH-INTERVAL;VALUE=DURATION:PT1H
X-Robots-Tag:noindex
X-PUBLISHED-TTL:PT1H
BEGIN:VTIMEZONE
TZID:America/Los_Angeles
BEGIN:DAYLIGHT
TZOFFSETFROM:-0800
TZOFFSETTO:-0700
TZNAME:PDT
DTSTART:20160313T100000
END:DAYLIGHT
BEGIN:STANDARD
TZOFFSETFROM:-0700
TZOFFSETTO:-0800
TZNAME:PST
DTSTART:20161106T090000
END:STANDARD
BEGIN:DAYLIGHT
TZOFFSETFROM:-0800
TZOFFSETTO:-0700
TZNAME:PDT
DTSTART:20170312T100000
END:DAYLIGHT
BEGIN:STANDARD
TZOFFSETFROM:-0700
TZOFFSETTO:-0800
TZNAME:PST
DTSTART:20171105T090000
END:STANDARD
BEGIN:DAYLIGHT
TZOFFSETFROM:-0800
TZOFFSETTO:-0700
TZNAME:PDT
DTSTART:20180311T100000
END:DAYLIGHT
BEGIN:STANDARD
TZOFFSETFROM:-0700
TZOFFSETTO:-0800
TZNAME:PST
DTSTART:20181104T090000
END:STANDARD
END:VTIMEZONE
BEGIN:VEVENT
DTSTART;TZID=America/Los_Angeles:20170807T183000
DTEND;TZID=America/Los_Angeles:20170807T200000
DTSTAMP:20260422T122436
CREATED:20170621T050653Z
LAST-MODIFIED:20170621T050653Z
UID:4674-1502130600-1502136000@sactoinsight.org
SUMMARY:Buddhist Recovery Group
DESCRIPTION:Our Buddhist Recovery Group meets every Monday evening. For additional information\, visit the 12 Step Sangha page at https://sactoinsight.org/activities/practice-opportunities/12-step-sangha/
URL:https://sactoinsight.org/event/buddhist-recovery-group-94/
LOCATION:CA
CATEGORIES:Buddhist Recovery Group
ORGANIZER;CN="Diane Balter":MAILTO:dianebalter2003@yahoo.com
END:VEVENT
BEGIN:VEVENT
DTSTART;TZID=America/Los_Angeles:20170814T183000
DTEND;TZID=America/Los_Angeles:20170814T200000
DTSTAMP:20260422T122436
CREATED:20170621T050750Z
LAST-MODIFIED:20170621T050750Z
UID:4676-1502735400-1502740800@sactoinsight.org
SUMMARY:Buddhist Recovery Group
DESCRIPTION:Our Buddhist Recovery Group meets every Monday evening. For additional information\, visit the 12 Step Sangha page at https://sactoinsight.org/activities/practice-opportunities/12-step-sangha/
URL:https://sactoinsight.org/event/buddhist-recovery-group-95/
LOCATION:CA
CATEGORIES:Buddhist Recovery Group
ORGANIZER;CN="Diane Balter":MAILTO:dianebalter2003@yahoo.com
END:VEVENT
BEGIN:VEVENT
DTSTART;TZID=America/Los_Angeles:20170821T183000
DTEND;TZID=America/Los_Angeles:20170821T200000
DTSTAMP:20260422T122436
CREATED:20170621T050850Z
LAST-MODIFIED:20170621T050850Z
UID:4678-1503340200-1503345600@sactoinsight.org
SUMMARY:Buddhist Recovery Group
DESCRIPTION:Our Buddhist Recovery Group meets every Monday evening. For additional information\, visit the 12 Step Sangha page at https://sactoinsight.org/activities/practice-opportunities/12-step-sangha/
URL:https://sactoinsight.org/event/buddhist-recovery-group-96/
LOCATION:CA
CATEGORIES:Buddhist Recovery Group
ORGANIZER;CN="Diane Balter":MAILTO:dianebalter2003@yahoo.com
END:VEVENT
BEGIN:VEVENT
DTSTART;TZID=America/Los_Angeles:20170828T183000
DTEND;TZID=America/Los_Angeles:20170828T200000
DTSTAMP:20260422T122436
CREATED:20170621T050945Z
LAST-MODIFIED:20170621T050945Z
UID:4680-1503945000-1503950400@sactoinsight.org
SUMMARY:Buddhist Recovery Group
DESCRIPTION:Our Buddhist Recovery Group meets every Monday evening. For additional information\, visit the 12 Step Sangha page at https://sactoinsight.org/activities/practice-opportunities/12-step-sangha/
URL:https://sactoinsight.org/event/buddhist-recovery-group-97/
LOCATION:CA
CATEGORIES:Buddhist Recovery Group
ORGANIZER;CN="Diane Balter":MAILTO:dianebalter2003@yahoo.com
END:VEVENT
END:VCALENDAR