BEGIN:VCALENDAR
VERSION:2.0
PRODID:-//Sacramento Insight Meditation - ECPv6.15.16.1//NONSGML v1.0//EN
CALSCALE:GREGORIAN
METHOD:PUBLISH
X-WR-CALNAME:Sacramento Insight Meditation
X-ORIGINAL-URL:https://sactoinsight.org
X-WR-CALDESC:Events for Sacramento Insight Meditation
REFRESH-INTERVAL;VALUE=DURATION:PT1H
X-Robots-Tag:noindex
X-PUBLISHED-TTL:PT1H
BEGIN:VTIMEZONE
TZID:America/Los_Angeles
BEGIN:DAYLIGHT
TZOFFSETFROM:-0800
TZOFFSETTO:-0700
TZNAME:PDT
DTSTART:20160313T100000
END:DAYLIGHT
BEGIN:STANDARD
TZOFFSETFROM:-0700
TZOFFSETTO:-0800
TZNAME:PST
DTSTART:20161106T090000
END:STANDARD
BEGIN:DAYLIGHT
TZOFFSETFROM:-0800
TZOFFSETTO:-0700
TZNAME:PDT
DTSTART:20170312T100000
END:DAYLIGHT
BEGIN:STANDARD
TZOFFSETFROM:-0700
TZOFFSETTO:-0800
TZNAME:PST
DTSTART:20171105T090000
END:STANDARD
BEGIN:DAYLIGHT
TZOFFSETFROM:-0800
TZOFFSETTO:-0700
TZNAME:PDT
DTSTART:20180311T100000
END:DAYLIGHT
BEGIN:STANDARD
TZOFFSETFROM:-0700
TZOFFSETTO:-0800
TZNAME:PST
DTSTART:20181104T090000
END:STANDARD
END:VTIMEZONE
BEGIN:VEVENT
DTSTART;TZID=America/Los_Angeles:20170703T183000
DTEND;TZID=America/Los_Angeles:20170703T200000
DTSTAMP:20260422T133908
CREATED:20170621T050146Z
LAST-MODIFIED:20170621T050146Z
UID:4664-1499106600-1499112000@sactoinsight.org
SUMMARY:Buddhist Recovery Group
DESCRIPTION:Our Buddhist Recovery Group meets every Monday evening. For additional information\, visit the 12 Step Sangha page at https://sactoinsight.org/activities/practice-opportunities/12-step-sangha/
URL:https://sactoinsight.org/event/buddhist-recovery-group-89/
LOCATION:CA
CATEGORIES:Buddhist Recovery Group
ORGANIZER;CN="Diane Balter":MAILTO:dianebalter2003@yahoo.com
END:VEVENT
BEGIN:VEVENT
DTSTART;TZID=America/Los_Angeles:20170710T183000
DTEND;TZID=America/Los_Angeles:20170710T203000
DTSTAMP:20260422T133908
CREATED:20170621T050240Z
LAST-MODIFIED:20170621T050240Z
UID:4666-1499711400-1499718600@sactoinsight.org
SUMMARY:Buddhist Recovery Group
DESCRIPTION:Our Buddhist Recovery Group meets every Monday evening. For additional information\, visit the 12 Step Sangha page at https://sactoinsight.org/activities/practice-opportunities/12-step-sangha/
URL:https://sactoinsight.org/event/buddhist-recovery-group-90/
LOCATION:CA
CATEGORIES:Buddhist Recovery Group
ORGANIZER;CN="Diane Balter":MAILTO:dianebalter2003@yahoo.com
END:VEVENT
BEGIN:VEVENT
DTSTART;TZID=America/Los_Angeles:20170717T183000
DTEND;TZID=America/Los_Angeles:20170717T200000
DTSTAMP:20260422T133908
CREATED:20170621T050329Z
LAST-MODIFIED:20170621T050329Z
UID:4668-1500316200-1500321600@sactoinsight.org
SUMMARY:Buddhist Recovery Group
DESCRIPTION:Our Buddhist Recovery Group meets every Monday evening. For additional information\, visit the 12 Step Sangha page at https://sactoinsight.org/activities/practice-opportunities/12-step-sangha/
URL:https://sactoinsight.org/event/buddhist-recovery-group-91/
LOCATION:CA
CATEGORIES:Buddhist Recovery Group
ORGANIZER;CN="Diane Balter":MAILTO:dianebalter2003@yahoo.com
END:VEVENT
BEGIN:VEVENT
DTSTART;TZID=America/Los_Angeles:20170724T183000
DTEND;TZID=America/Los_Angeles:20170724T200000
DTSTAMP:20260422T133908
CREATED:20170621T050421Z
LAST-MODIFIED:20170621T050421Z
UID:4670-1500921000-1500926400@sactoinsight.org
SUMMARY:Buddhist Recovery Group
DESCRIPTION:Our Buddhist Recovery Group meets every Monday evening. For additional information\, visit the 12 Step Sangha page at https://sactoinsight.org/activities/practice-opportunities/12-step-sangha/
URL:https://sactoinsight.org/event/buddhist-recovery-group-92/
LOCATION:CA
CATEGORIES:Buddhist Recovery Group
ORGANIZER;CN="Diane Balter":MAILTO:dianebalter2003@yahoo.com
END:VEVENT
BEGIN:VEVENT
DTSTART;TZID=America/Los_Angeles:20170731T183000
DTEND;TZID=America/Los_Angeles:20170731T200000
DTSTAMP:20260422T133908
CREATED:20170621T050540Z
LAST-MODIFIED:20170621T050540Z
UID:4672-1501525800-1501531200@sactoinsight.org
SUMMARY:Buddhist Recovery Group
DESCRIPTION:Our Buddhist Recovery Group meets every Monday evening. For additional information\, visit the 12 Step Sangha page at https://sactoinsight.org/activities/practice-opportunities/12-step-sangha/
URL:https://sactoinsight.org/event/buddhist-recovery-group-93/
LOCATION:CA
CATEGORIES:Buddhist Recovery Group
ORGANIZER;CN="Diane Balter":MAILTO:dianebalter2003@yahoo.com
END:VEVENT
END:VCALENDAR