BEGIN:VCALENDAR
VERSION:2.0
PRODID:-//Sacramento Insight Meditation - ECPv6.15.16.1//NONSGML v1.0//EN
CALSCALE:GREGORIAN
METHOD:PUBLISH
X-WR-CALNAME:Sacramento Insight Meditation
X-ORIGINAL-URL:https://sactoinsight.org
X-WR-CALDESC:Events for Sacramento Insight Meditation
REFRESH-INTERVAL;VALUE=DURATION:PT1H
X-Robots-Tag:noindex
X-PUBLISHED-TTL:PT1H
BEGIN:VTIMEZONE
TZID:America/Los_Angeles
BEGIN:DAYLIGHT
TZOFFSETFROM:-0800
TZOFFSETTO:-0700
TZNAME:PDT
DTSTART:20160313T100000
END:DAYLIGHT
BEGIN:STANDARD
TZOFFSETFROM:-0700
TZOFFSETTO:-0800
TZNAME:PST
DTSTART:20161106T090000
END:STANDARD
BEGIN:DAYLIGHT
TZOFFSETFROM:-0800
TZOFFSETTO:-0700
TZNAME:PDT
DTSTART:20170312T100000
END:DAYLIGHT
BEGIN:STANDARD
TZOFFSETFROM:-0700
TZOFFSETTO:-0800
TZNAME:PST
DTSTART:20171105T090000
END:STANDARD
BEGIN:DAYLIGHT
TZOFFSETFROM:-0800
TZOFFSETTO:-0700
TZNAME:PDT
DTSTART:20180311T100000
END:DAYLIGHT
BEGIN:STANDARD
TZOFFSETFROM:-0700
TZOFFSETTO:-0800
TZNAME:PST
DTSTART:20181104T090000
END:STANDARD
END:VTIMEZONE
BEGIN:VEVENT
DTSTART;TZID=America/Los_Angeles:20170501T183000
DTEND;TZID=America/Los_Angeles:20170501T200000
DTSTAMP:20260422T160850
CREATED:20170303T055144Z
LAST-MODIFIED:20170303T055144Z
UID:3567-1493663400-1493668800@sactoinsight.org
SUMMARY:Buddhist Recovery Group
DESCRIPTION:Our Buddhist Recovery Group meets every Monday evening. For additional information\, visit the 12 Step Sangha page at https://sactoinsight.org/activities/practice-opportunities/12-step-sangha/
URL:https://sactoinsight.org/event/buddhist-recovery-group-80/
LOCATION:CA
CATEGORIES:Buddhist Recovery Group
ORGANIZER;CN="Diane Balter":MAILTO:dianebalter2003@yahoo.com
END:VEVENT
BEGIN:VEVENT
DTSTART;TZID=America/Los_Angeles:20170508T183000
DTEND;TZID=America/Los_Angeles:20170508T200000
DTSTAMP:20260422T160850
CREATED:20170303T055237Z
LAST-MODIFIED:20170303T055237Z
UID:3569-1494268200-1494273600@sactoinsight.org
SUMMARY:Buddhist Recovery Group
DESCRIPTION:Our Buddhist Recovery Group meets every Monday evening. For additional information\, visit the 12 Step Sangha page at https://sactoinsight.org/activities/practice-opportunities/12-step-sangha/
URL:https://sactoinsight.org/event/buddhist-recovery-group-81/
LOCATION:CA
CATEGORIES:Buddhist Recovery Group
ORGANIZER;CN="Diane Balter":MAILTO:dianebalter2003@yahoo.com
END:VEVENT
BEGIN:VEVENT
DTSTART;TZID=America/Los_Angeles:20170515T183000
DTEND;TZID=America/Los_Angeles:20170515T200000
DTSTAMP:20260422T160850
CREATED:20170303T055330Z
LAST-MODIFIED:20170303T055330Z
UID:3571-1494873000-1494878400@sactoinsight.org
SUMMARY:Buddhist Recovery Group
DESCRIPTION:Our Buddhist Recovery Group meets every Monday evening. For additional information\, visit the 12 Step Sangha page at https://sactoinsight.org/activities/practice-opportunities/12-step-sangha/
URL:https://sactoinsight.org/event/buddhist-recovery-group-82/
LOCATION:CA
CATEGORIES:Buddhist Recovery Group
ORGANIZER;CN="Diane Balter":MAILTO:dianebalter2003@yahoo.com
END:VEVENT
BEGIN:VEVENT
DTSTART;TZID=America/Los_Angeles:20170522T183000
DTEND;TZID=America/Los_Angeles:20170522T200000
DTSTAMP:20260422T160850
CREATED:20170303T055459Z
LAST-MODIFIED:20170303T055459Z
UID:3573-1495477800-1495483200@sactoinsight.org
SUMMARY:Buddhist Recovery Group
DESCRIPTION:Our Buddhist Recovery Group meets every Monday evening. For additional information\, visit the 12 Step Sangha page at https://sactoinsight.org/activities/practice-opportunities/12-step-sangha/
URL:https://sactoinsight.org/event/buddhist-recovery-group-83/
LOCATION:CA
CATEGORIES:Buddhist Recovery Group
ORGANIZER;CN="Diane Balter":MAILTO:dianebalter2003@yahoo.com
END:VEVENT
BEGIN:VEVENT
DTSTART;TZID=America/Los_Angeles:20170529T183000
DTEND;TZID=America/Los_Angeles:20170529T200000
DTSTAMP:20260422T160850
CREATED:20170303T055609Z
LAST-MODIFIED:20170303T055609Z
UID:3575-1496082600-1496088000@sactoinsight.org
SUMMARY:Buddhist Recovery Group
DESCRIPTION:Our Buddhist Recovery Group meets every Monday evening. For additional information\, visit the 12 Step Sangha page at https://sactoinsight.org/activities/practice-opportunities/12-step-sangha/
URL:https://sactoinsight.org/event/buddhist-recovery-group-84/
LOCATION:CA
CATEGORIES:Buddhist Recovery Group
ORGANIZER;CN="Diane Balter":MAILTO:dianebalter2003@yahoo.com
END:VEVENT
END:VCALENDAR