BEGIN:VCALENDAR
VERSION:2.0
PRODID:-//Sacramento Insight Meditation - ECPv6.15.16.1//NONSGML v1.0//EN
CALSCALE:GREGORIAN
METHOD:PUBLISH
X-ORIGINAL-URL:https://sactoinsight.org
X-WR-CALDESC:Events for Sacramento Insight Meditation
REFRESH-INTERVAL;VALUE=DURATION:PT1H
X-Robots-Tag:noindex
X-PUBLISHED-TTL:PT1H
BEGIN:VTIMEZONE
TZID:America/Los_Angeles
BEGIN:DAYLIGHT
TZOFFSETFROM:-0800
TZOFFSETTO:-0700
TZNAME:PDT
DTSTART:20150308T100000
END:DAYLIGHT
BEGIN:STANDARD
TZOFFSETFROM:-0700
TZOFFSETTO:-0800
TZNAME:PST
DTSTART:20151101T090000
END:STANDARD
BEGIN:DAYLIGHT
TZOFFSETFROM:-0800
TZOFFSETTO:-0700
TZNAME:PDT
DTSTART:20160313T100000
END:DAYLIGHT
BEGIN:STANDARD
TZOFFSETFROM:-0700
TZOFFSETTO:-0800
TZNAME:PST
DTSTART:20161106T090000
END:STANDARD
BEGIN:DAYLIGHT
TZOFFSETFROM:-0800
TZOFFSETTO:-0700
TZNAME:PDT
DTSTART:20170312T100000
END:DAYLIGHT
BEGIN:STANDARD
TZOFFSETFROM:-0700
TZOFFSETTO:-0800
TZNAME:PST
DTSTART:20171105T090000
END:STANDARD
END:VTIMEZONE
BEGIN:VEVENT
DTSTART;TZID=America/Los_Angeles:20161205T183000
DTEND;TZID=America/Los_Angeles:20161205T200000
DTSTAMP:20260422T220240
CREATED:20161022T015602Z
LAST-MODIFIED:20161110T062418Z
UID:1966-1480962600-1480968000@sactoinsight.org
SUMMARY:Buddhist Recovery Group
DESCRIPTION:Our Buddhist Recovery Group meets every Monday evening from 6:30 pm–8:00 pm at the Sacramento Dharma Center\, 3111 Wissemann Drive\, Sacramento\, CA 95826 . \nFor additional information\, visit the 12 Step Sangha page at https://sactoinsight.org/activities/practice-opportunities/12-step-sangha/
URL:https://sactoinsight.org/event/buddhist-recovery-group-59/
LOCATION:CA
CATEGORIES:Buddhist Recovery Group,Weekly Meditation
END:VEVENT
BEGIN:VEVENT
DTSTART;TZID=America/Los_Angeles:20161212T063000
DTEND;TZID=America/Los_Angeles:20161212T200000
DTSTAMP:20260422T220240
CREATED:20161022T015728Z
LAST-MODIFIED:20161101T025813Z
UID:1968-1481524200-1481572800@sactoinsight.org
SUMMARY:Buddhist Recovery Group
DESCRIPTION:Our Buddhist Recovery Group meets every Monday evening from 6:30 pm–8:00 pm at the Sacramento Dharma Center\, 3111 Wissemann Drive\, Sacramento\, CA 95826 . \nFor additional information\, visit the 12 Step Sangha page at https://sactoinsight.org/activities/practice-opportunities/12-step-sangha/
URL:https://sactoinsight.org/event/buddhist-recovery-group-60/
LOCATION:CA
CATEGORIES:Buddhist Recovery Group,Weekly Meditation
END:VEVENT
BEGIN:VEVENT
DTSTART;TZID=America/Los_Angeles:20161219T183000
DTEND;TZID=America/Los_Angeles:20161219T200000
DTSTAMP:20260422T220240
CREATED:20161022T015927Z
LAST-MODIFIED:20161101T025853Z
UID:1970-1482172200-1482177600@sactoinsight.org
SUMMARY:Buddhist Recovery Group
DESCRIPTION:Our Buddhist Recovery Group meets every Monday evening from 6:30 pm–8:00 pm at the Sacramento Dharma Center\, 3111 Wissemann Drive\, Sacramento\, CA 95826 . \nFor additional information\, visit the 12 Step Sangha page at https://sactoinsight.org/activities/practice-opportunities/12-step-sangha/
URL:https://sactoinsight.org/event/buddhist-recovery-group-61/
LOCATION:CA
CATEGORIES:Buddhist Recovery Group,Weekly Meditation
END:VEVENT
BEGIN:VEVENT
DTSTART;TZID=America/Los_Angeles:20161226T183000
DTEND;TZID=America/Los_Angeles:20161226T200000
DTSTAMP:20260422T220240
CREATED:20161022T020105Z
LAST-MODIFIED:20161222T235428Z
UID:1972-1482777000-1482782400@sactoinsight.org
SUMMARY:Buddhist Recovery Group
DESCRIPTION:Our Buddhist Recovery Group meets every Monday evening from 6:30 pm–8:00 pm at the Sacramento Dharma Center\, 3111 Wissemann Drive\, Sacramento\, CA 95826 . \nFor additional information\, visit the 12 Step Sangha page at https://sactoinsight.org/activities/practice-opportunities/12-step-sangha/
URL:https://sactoinsight.org/event/buddhist-recovery-group-62/
LOCATION:CA
CATEGORIES:Buddhist Recovery Group,Weekly Meditation
ORGANIZER;CN="Diane Balter":MAILTO:dianebalter2003@yahoo.com
END:VEVENT
END:VCALENDAR