BEGIN:VCALENDAR
VERSION:2.0
PRODID:-//Sacramento Insight Meditation - ECPv6.15.16.1//NONSGML v1.0//EN
CALSCALE:GREGORIAN
METHOD:PUBLISH
X-WR-CALNAME:Sacramento Insight Meditation
X-ORIGINAL-URL:https://sactoinsight.org
X-WR-CALDESC:Events for Sacramento Insight Meditation
REFRESH-INTERVAL;VALUE=DURATION:PT1H
X-Robots-Tag:noindex
X-PUBLISHED-TTL:PT1H
BEGIN:VTIMEZONE
TZID:America/Los_Angeles
BEGIN:DAYLIGHT
TZOFFSETFROM:-0800
TZOFFSETTO:-0700
TZNAME:PDT
DTSTART:20150308T100000
END:DAYLIGHT
BEGIN:STANDARD
TZOFFSETFROM:-0700
TZOFFSETTO:-0800
TZNAME:PST
DTSTART:20151101T090000
END:STANDARD
BEGIN:DAYLIGHT
TZOFFSETFROM:-0800
TZOFFSETTO:-0700
TZNAME:PDT
DTSTART:20160313T100000
END:DAYLIGHT
BEGIN:STANDARD
TZOFFSETFROM:-0700
TZOFFSETTO:-0800
TZNAME:PST
DTSTART:20161106T090000
END:STANDARD
BEGIN:DAYLIGHT
TZOFFSETFROM:-0800
TZOFFSETTO:-0700
TZNAME:PDT
DTSTART:20170312T100000
END:DAYLIGHT
BEGIN:STANDARD
TZOFFSETFROM:-0700
TZOFFSETTO:-0800
TZNAME:PST
DTSTART:20171105T090000
END:STANDARD
END:VTIMEZONE
BEGIN:VEVENT
DTSTART;TZID=America/Los_Angeles:20161107T183000
DTEND;TZID=America/Los_Angeles:20161107T200000
DTSTAMP:20260422T232221
CREATED:20161012T000700Z
LAST-MODIFIED:20161101T024927Z
UID:1850-1478543400-1478548800@sactoinsight.org
SUMMARY:Buddhist Recovery Group
DESCRIPTION:Our Buddhist Recovery Group meets every Monday evening from 6:30 pm–8:00 pm at the Sacramento Dharma Center\, 3111 Wissemann Drive\, Sacramento\, CA 95826 . \nFor additional information\, visit the 12 Step Sangha page at https://sactoinsight.org/activities/practice-opportunities/12-step-sangha/
URL:https://sactoinsight.org/event/buddhist-recovery-group-55/
LOCATION:CA
CATEGORIES:Buddhist Recovery Group,Weekly Meditation
END:VEVENT
BEGIN:VEVENT
DTSTART;TZID=America/Los_Angeles:20161114T183000
DTEND;TZID=America/Los_Angeles:20161114T200000
DTSTAMP:20260422T232221
CREATED:20161012T000822Z
LAST-MODIFIED:20161101T025005Z
UID:1852-1479148200-1479153600@sactoinsight.org
SUMMARY:Buddhist Recovery Group
DESCRIPTION:Our Buddhist Recovery Group meets every Monday evening from 6:30 pm–8:00 pm at the Sacramento Dharma Center\, 3111 Wissemann Drive\, Sacramento\, CA 95826 . \nFor additional information\, visit the 12 Step Sangha page at https://sactoinsight.org/activities/practice-opportunities/12-step-sangha/
URL:https://sactoinsight.org/event/buddhist-recovery-group-56/
LOCATION:CA
CATEGORIES:Buddhist Recovery Group,Weekly Meditation
END:VEVENT
BEGIN:VEVENT
DTSTART;TZID=America/Los_Angeles:20161121T183000
DTEND;TZID=America/Los_Angeles:20161121T200000
DTSTAMP:20260422T232221
CREATED:20161012T001056Z
LAST-MODIFIED:20161101T025119Z
UID:1856-1479753000-1479758400@sactoinsight.org
SUMMARY:Buddhist Recovery Group
DESCRIPTION:Our Buddhist Recovery Group meets every Monday evening from 6:30 pm–8:00 pm at the Sacramento Dharma Center\, 3111 Wissemann Drive\, Sacramento\, CA 95826 . \nFor additional information\, visit the 12 Step Sangha page at https://sactoinsight.org/activities/practice-opportunities/12-step-sangha/
URL:https://sactoinsight.org/event/buddhist-recovery-group-58/
LOCATION:CA
CATEGORIES:Buddhist Recovery Group,Weekly Meditation
END:VEVENT
BEGIN:VEVENT
DTSTART;TZID=America/Los_Angeles:20161128T183000
DTEND;TZID=America/Los_Angeles:20161128T200000
DTSTAMP:20260422T232221
CREATED:20161012T000942Z
LAST-MODIFIED:20161110T060439Z
UID:1854-1480357800-1480363200@sactoinsight.org
SUMMARY:Buddhist Recovery Group
DESCRIPTION:Our Buddhist Recovery Group meets every Monday evening from 6:30 pm–8:00 pm at the Sacramento Dharma Center\, 3111 Wissemann Drive\, Sacramento\, CA 95826 . \nFor additional information\, visit the 12 Step Sangha page at https://sactoinsight.org/activities/practice-opportunities/12-step-sangha/
URL:https://sactoinsight.org/event/buddhist-recovery-group-57/
LOCATION:CA
CATEGORIES:Buddhist Recovery Group,Weekly Meditation
END:VEVENT
END:VCALENDAR