BEGIN:VCALENDAR
VERSION:2.0
PRODID:-//Sacramento Insight Meditation - ECPv6.15.16.1//NONSGML v1.0//EN
CALSCALE:GREGORIAN
METHOD:PUBLISH
X-ORIGINAL-URL:https://sactoinsight.org
X-WR-CALDESC:Events for Sacramento Insight Meditation
REFRESH-INTERVAL;VALUE=DURATION:PT1H
X-Robots-Tag:noindex
X-PUBLISHED-TTL:PT1H
BEGIN:VTIMEZONE
TZID:America/Los_Angeles
BEGIN:DAYLIGHT
TZOFFSETFROM:-0800
TZOFFSETTO:-0700
TZNAME:PDT
DTSTART:20150308T100000
END:DAYLIGHT
BEGIN:STANDARD
TZOFFSETFROM:-0700
TZOFFSETTO:-0800
TZNAME:PST
DTSTART:20151101T090000
END:STANDARD
BEGIN:DAYLIGHT
TZOFFSETFROM:-0800
TZOFFSETTO:-0700
TZNAME:PDT
DTSTART:20160313T100000
END:DAYLIGHT
BEGIN:STANDARD
TZOFFSETFROM:-0700
TZOFFSETTO:-0800
TZNAME:PST
DTSTART:20161106T090000
END:STANDARD
BEGIN:DAYLIGHT
TZOFFSETFROM:-0800
TZOFFSETTO:-0700
TZNAME:PDT
DTSTART:20170312T100000
END:DAYLIGHT
BEGIN:STANDARD
TZOFFSETFROM:-0700
TZOFFSETTO:-0800
TZNAME:PST
DTSTART:20171105T090000
END:STANDARD
END:VTIMEZONE
BEGIN:VEVENT
DTSTART;TZID=America/Los_Angeles:20161003T183000
DTEND;TZID=America/Los_Angeles:20161003T200000
DTSTAMP:20260423T003432
CREATED:20160831T195638Z
LAST-MODIFIED:20161003T231335Z
UID:1677-1475519400-1475524800@sactoinsight.org
SUMMARY:Buddhist Recovery Group
DESCRIPTION:Our Buddhist Recovery Group meets every Monday evening from 6:30 pm–8:00 pm at the Sacramento Dharma Center\, 3111 Wissemann Drive\, Sacramento\, CA  95826 (off Folsom Blvd. between Howe and Watt Avenues).   \nWe explore how the Buddha’s teachings — the Four Noble Truths and the Eightfold Path – can heal the pain and suffering that addiction and compulsive behaviors have caused in our lives and the lives of our loved ones. The meeting includes a period of meditation\, readings that investigate the benefits of applying Buddhist teachings to our recovery\, and open sharing. \n“Newcomers” and “old timers” alike are welcome to attend. Advance registration is not required nor are there any dues or fees.  We “pass the hat” to cover rent and literature expenses. \nFor additional information please call\, text\, or email Brian McKinsey at (916) 225-7251\, brian@sactoinsight.org.
URL:https://sactoinsight.org/event/buddhist-recovery-group-50/
LOCATION:CA
CATEGORIES:Buddhist Recovery Group,Weekly Meditation
END:VEVENT
BEGIN:VEVENT
DTSTART;TZID=America/Los_Angeles:20161010T183000
DTEND;TZID=America/Los_Angeles:20161010T200000
DTSTAMP:20260423T003432
CREATED:20160831T200951Z
LAST-MODIFIED:20161003T231415Z
UID:1679-1476124200-1476129600@sactoinsight.org
SUMMARY:Buddhist Recovery Group
DESCRIPTION:Our Buddhist Recovery Group meets every Monday evening from 6:30 pm–8:00 pm at the Sacramento Dharma Center\, 3111 Wissemann Drive\, Sacramento\, CA  95826 (off Folsom Blvd. between Howe and Watt Avenues).   \nWe explore how the Buddha’s teachings — the Four Noble Truths and the Eightfold Path – can heal the pain and suffering that addiction and compulsive behaviors have caused in our lives and the lives of our loved ones. The meeting includes a period of meditation\, readings that investigate the benefits of applying Buddhist teachings to our recovery\, and open sharing. \n“Newcomers” and “old timers” alike are welcome to attend. Advance registration is not required nor are there any dues or fees.  We “pass the hat” to cover rent and literature expenses. \nFor additional information please call\, text\, or email Brian McKinsey at (916) 225-7251\, brian@sactoinsight.org.
URL:https://sactoinsight.org/event/buddhist-recovery-group-51/
LOCATION:CA
CATEGORIES:Buddhist Recovery Group,Weekly Meditation
END:VEVENT
BEGIN:VEVENT
DTSTART;TZID=America/Los_Angeles:20161017T183000
DTEND;TZID=America/Los_Angeles:20161017T200000
DTSTAMP:20260423T003432
CREATED:20160831T201034Z
LAST-MODIFIED:20161003T231458Z
UID:1681-1476729000-1476734400@sactoinsight.org
SUMMARY:Buddhist Recovery Group
DESCRIPTION:Our Buddhist Recovery Group meets every Monday evening from 6:30 pm–8:00 pm at the Sacramento Dharma Center\, 3111 Wissemann Drive\, Sacramento\, CA  95826 (off Folsom Blvd. between Howe and Watt Avenues).   \nWe explore how the Buddha’s teachings — the Four Noble Truths and the Eightfold Path – can heal the pain and suffering that addiction and compulsive behaviors have caused in our lives and the lives of our loved ones. The meeting includes a period of meditation\, readings that investigate the benefits of applying Buddhist teachings to our recovery\, and open sharing. \n“Newcomers” and “old timers” alike are welcome to attend. Advance registration is not required nor are there any dues or fees.  We “pass the hat” to cover rent and literature expenses.\nFor additional information please call\, text\, or email Brian McKinsey at (916) 225-7251\, brian@sactoinsight.org.
URL:https://sactoinsight.org/event/buddhist-recovery-group-52/
LOCATION:CA
CATEGORIES:Buddhist Recovery Group,Weekly Meditation
END:VEVENT
BEGIN:VEVENT
DTSTART;TZID=America/Los_Angeles:20161024T183000
DTEND;TZID=America/Los_Angeles:20161024T200000
DTSTAMP:20260423T003432
CREATED:20160831T201120Z
LAST-MODIFIED:20161003T231616Z
UID:1683-1477333800-1477339200@sactoinsight.org
SUMMARY:Buddhist Recovery Group
DESCRIPTION:Our Buddhist Recovery Group meets every Monday evening from 6:30 pm–8:00 pm at the Sacramento Dharma Center\, 3111 Wissemann Drive\, Sacramento\, CA  95826 (off Folsom Blvd. between Howe and Watt Avenues).   \nWe explore how the Buddha’s teachings — the Four Noble Truths and the Eightfold Path – can heal the pain and suffering that addiction and compulsive behaviors have caused in our lives and the lives of our loved ones. The meeting includes a period of meditation\, readings that investigate the benefits of applying Buddhist teachings to our recovery\, and open sharing. \n“Newcomers” and “old timers” alike are welcome to attend. Advance registration is not required nor are there any dues or fees.  We “pass the hat” to cover rent and literature expenses. \nFor additional information please call\, text\, or email Brian McKinsey at (916) 225-7251\, brian@sactoinsight.org.
URL:https://sactoinsight.org/event/buddhist-recovery-group-53/
LOCATION:CA
CATEGORIES:Buddhist Recovery Group,Weekly Meditation
END:VEVENT
BEGIN:VEVENT
DTSTART;TZID=America/Los_Angeles:20161031T183000
DTEND;TZID=America/Los_Angeles:20161031T200000
DTSTAMP:20260423T003432
CREATED:20160831T201159Z
LAST-MODIFIED:20161101T024811Z
UID:1685-1477938600-1477944000@sactoinsight.org
SUMMARY:Buddhist Recovery Group
DESCRIPTION:Our Buddhist Recovery Group meets every Monday evening from 6:30 pm–8:00 pm at the Sacramento Dharma Center\, 3111 Wissemann Drive\, Sacramento\, CA 95826 . \nFor additional information\, visit the 12 Step Sangha page at https://sactoinsight.org/activities/practice-opportunities/12-step-sangha/ \n.
URL:https://sactoinsight.org/event/buddhist-recovery-group-54/
LOCATION:CA
CATEGORIES:Buddhist Recovery Group,Weekly Meditation
END:VEVENT
END:VCALENDAR