BEGIN:VCALENDAR
VERSION:2.0
PRODID:-//Sacramento Insight Meditation - ECPv6.15.16.1//NONSGML v1.0//EN
CALSCALE:GREGORIAN
METHOD:PUBLISH
X-ORIGINAL-URL:https://sactoinsight.org
X-WR-CALDESC:Events for Sacramento Insight Meditation
REFRESH-INTERVAL;VALUE=DURATION:PT1H
X-Robots-Tag:noindex
X-PUBLISHED-TTL:PT1H
BEGIN:VTIMEZONE
TZID:America/Los_Angeles
BEGIN:DAYLIGHT
TZOFFSETFROM:-0800
TZOFFSETTO:-0700
TZNAME:PDT
DTSTART:20150308T100000
END:DAYLIGHT
BEGIN:STANDARD
TZOFFSETFROM:-0700
TZOFFSETTO:-0800
TZNAME:PST
DTSTART:20151101T090000
END:STANDARD
BEGIN:DAYLIGHT
TZOFFSETFROM:-0800
TZOFFSETTO:-0700
TZNAME:PDT
DTSTART:20160313T100000
END:DAYLIGHT
BEGIN:STANDARD
TZOFFSETFROM:-0700
TZOFFSETTO:-0800
TZNAME:PST
DTSTART:20161106T090000
END:STANDARD
BEGIN:DAYLIGHT
TZOFFSETFROM:-0800
TZOFFSETTO:-0700
TZNAME:PDT
DTSTART:20170312T100000
END:DAYLIGHT
BEGIN:STANDARD
TZOFFSETFROM:-0700
TZOFFSETTO:-0800
TZNAME:PST
DTSTART:20171105T090000
END:STANDARD
END:VTIMEZONE
BEGIN:VEVENT
DTSTART;TZID=America/Los_Angeles:20160905T183000
DTEND;TZID=America/Los_Angeles:20160905T200000
DTSTAMP:20260423T020250
CREATED:20160831T195100Z
LAST-MODIFIED:20160831T195100Z
UID:1668-1473100200-1473105600@sactoinsight.org
SUMMARY:Buddhist Recovery Group
DESCRIPTION:Our Buddhist Recovery Group meets every Monday evening from 6:30 pm–8:00 pm at the Friend’s Meeting House located at 890 57th Street\, Sacramento\, CA 95819. “Newcomers” and “old timers” alike are welcome to attend. The solution to craving and addictive behaviors will be explored using the Four Noble Truths and the Eightfold Path. Registration is not required nor are there any dues or fees. However\, to cover rent and literature we will pass the “hat.” We have a Sit and Read from an Author who has not only a personal 12 Step background\, but more importantly\, a Buddhist background\, on how to use our Buddhist Practice in conjunction with the 12 Steps to Recover from extreme Suffering. \nFor additional informational please call\, text\, or email Brian McKinsey at (916) 225-7251\, brian@sactoinsight.org.
URL:https://sactoinsight.org/event/buddhist-recovery-group-46/
LOCATION:Friends Meeting House\, 890 57th Street\, Sacramento\, CA\, 95819-3327\, United States
CATEGORIES:Buddhist Recovery Group
END:VEVENT
BEGIN:VEVENT
DTSTART;TZID=America/Los_Angeles:20160912T183000
DTEND;TZID=America/Los_Angeles:20160912T200000
DTSTAMP:20260423T020250
CREATED:20160831T195224Z
LAST-MODIFIED:20160831T195224Z
UID:1670-1473705000-1473710400@sactoinsight.org
SUMMARY:Buddhist Recovery Group
DESCRIPTION:Our Buddhist Recovery Group meets every Monday evening from 6:30 pm–8:00 pm at the Friend’s Meeting House located at 890 57th Street\, Sacramento\, CA 95819. “Newcomers” and “old timers” alike are welcome to attend. The solution to craving and addictive behaviors will be explored using the Four Noble Truths and the Eightfold Path. Registration is not required nor are there any dues or fees. However\, to cover rent and literature we will pass the “hat.” We have a Sit and Read from an Author who has not only a personal 12 Step background\, but more importantly\, a Buddhist background\, on how to use our Buddhist Practice in conjunction with the 12 Steps to Recover from extreme Suffering. \nFor additional informational please call\, text\, or email Brian McKinsey at (916) 225-7251\, brian@sactoinsight.org.
URL:https://sactoinsight.org/event/buddhist-recovery-group-47/
LOCATION:Friends Meeting House\, 890 57th Street\, Sacramento\, CA\, 95819-3327\, United States
CATEGORIES:Buddhist Recovery Group
END:VEVENT
BEGIN:VEVENT
DTSTART;TZID=America/Los_Angeles:20160919T183000
DTEND;TZID=America/Los_Angeles:20160919T200000
DTSTAMP:20260423T020250
CREATED:20160831T195323Z
LAST-MODIFIED:20160919T144227Z
UID:1673-1474309800-1474315200@sactoinsight.org
SUMMARY:Buddhist Recovery Group
DESCRIPTION:** Starting  Sep 19\, the meeting location has changed from the Friend’s Meeting House to the new Sacramento Dharma Center at 3111 Wissemann Drive\, Sacramento\, CA. \nOur Buddhist Recovery Group meets every Monday evening from 6:30 pm–8:00 pm. “Newcomers” and “old timers” alike are welcome to attend. The solution to craving and addictive behaviors will be explored using the Four Noble Truths and the Eightfold Path. Registration is not required nor are there any dues or fees. However\, to cover rent and literature we will pass the “hat.” We have a Sit and Read from an Author who has not only a personal 12 Step background\, but more importantly\, a Buddhist background\, on how to use our Buddhist Practice in conjunction with the 12 Steps to Recover from extreme Suffering. \nFor additional informational please call\, text\, or email Brian McKinsey at (916) 225-7251\, brian@sactoinsight.org.
URL:https://sactoinsight.org/event/buddhist-recovery-group-48/
LOCATION:CA
CATEGORIES:Buddhist Recovery Group,Weekly Meditation
END:VEVENT
BEGIN:VEVENT
DTSTART;TZID=America/Los_Angeles:20160926T183000
DTEND;TZID=America/Los_Angeles:20160926T200000
DTSTAMP:20260423T020250
CREATED:20160831T195522Z
LAST-MODIFIED:20160919T043040Z
UID:1675-1474914600-1474920000@sactoinsight.org
SUMMARY:Buddhist Recovery Group
DESCRIPTION:Our Buddhist Recovery Group meets every Monday evening from 6:30 pm–8:00 pm. “Newcomers” and “old timers” alike are welcome to attend. The solution to craving and addictive behaviors will be explored using the Four Noble Truths and the Eightfold Path. Registration is not required nor are there any dues or fees. However\, to cover rent and literature we will pass the “hat.” We have a Sit and Read from an Author who has not only a personal 12 Step background\, but more importantly\, a Buddhist background\, on how to use our Buddhist Practice in conjunction with the 12 Steps to Recover from extreme Suffering. \nFor additional information please call\, text\, or email Brian McKinsey at (916) 225-7251\, brian@sactoinsight.org.
URL:https://sactoinsight.org/event/buddhist-recovery-group-49/
LOCATION:CA
CATEGORIES:Buddhist Recovery Group,Weekly Meditation
END:VEVENT
END:VCALENDAR