BEGIN:VCALENDAR
VERSION:2.0
PRODID:-//Sacramento Insight Meditation - ECPv6.15.16.1//NONSGML v1.0//EN
CALSCALE:GREGORIAN
METHOD:PUBLISH
X-ORIGINAL-URL:https://sactoinsight.org
X-WR-CALDESC:Events for Sacramento Insight Meditation
REFRESH-INTERVAL;VALUE=DURATION:PT1H
X-Robots-Tag:noindex
X-PUBLISHED-TTL:PT1H
BEGIN:VTIMEZONE
TZID:America/Los_Angeles
BEGIN:DAYLIGHT
TZOFFSETFROM:-0800
TZOFFSETTO:-0700
TZNAME:PDT
DTSTART:20150308T100000
END:DAYLIGHT
BEGIN:STANDARD
TZOFFSETFROM:-0700
TZOFFSETTO:-0800
TZNAME:PST
DTSTART:20151101T090000
END:STANDARD
BEGIN:DAYLIGHT
TZOFFSETFROM:-0800
TZOFFSETTO:-0700
TZNAME:PDT
DTSTART:20160313T100000
END:DAYLIGHT
BEGIN:STANDARD
TZOFFSETFROM:-0700
TZOFFSETTO:-0800
TZNAME:PST
DTSTART:20161106T090000
END:STANDARD
BEGIN:DAYLIGHT
TZOFFSETFROM:-0800
TZOFFSETTO:-0700
TZNAME:PDT
DTSTART:20170312T100000
END:DAYLIGHT
BEGIN:STANDARD
TZOFFSETFROM:-0700
TZOFFSETTO:-0800
TZNAME:PST
DTSTART:20171105T090000
END:STANDARD
END:VTIMEZONE
BEGIN:VEVENT
DTSTART;TZID=America/Los_Angeles:20160801T183000
DTEND;TZID=America/Los_Angeles:20160801T200000
DTSTAMP:20260423T044839
CREATED:20160831T194135Z
LAST-MODIFIED:20160831T194658Z
UID:1657-1470076200-1470081600@sactoinsight.org
SUMMARY:Buddhist Recovery Group
DESCRIPTION:Our Buddhist Recovery Group meets every Monday evening from 6:30 pm–8:00 pm at the Friend’s Meeting House located at 890 57th Street\, Sacramento\, CA 95819. “Newcomers” and “old timers” alike are welcome to attend. The solution to craving and addictive behaviors will be explored using the Four Noble Truths and the Eightfold Path. Registration is not required nor are there any dues or fees. However\, to cover rent and literature we will pass the “hat.” We have a Sit and Read from an Author who has not only a personal 12 Step background\, but more importantly\, a Buddhist background\, on how to use our Buddhist Practice in conjunction with the 12 Steps to Recover from extreme Suffering. \nFor additional informational please call\, text\, or email Brian McKinsey at (916) 225-7251\, brian@sactoinsight.org.
URL:https://sactoinsight.org/event/buddhist-recovery-group-41/
LOCATION:Friends Meeting House\, 890 57th Street\, Sacramento\, CA\, 95819-3327\, United States
CATEGORIES:Buddhist Recovery Group
END:VEVENT
BEGIN:VEVENT
DTSTART;TZID=America/Los_Angeles:20160808T183000
DTEND;TZID=America/Los_Angeles:20160808T200000
DTSTAMP:20260423T044839
CREATED:20160831T194246Z
LAST-MODIFIED:20160831T195431Z
UID:1660-1470681000-1470686400@sactoinsight.org
SUMMARY:Buddhist Recovery Group
DESCRIPTION:Our Buddhist Recovery Group meets every Monday evening from 6:30 pm–8:00 pm at the Friend’s Meeting House located at 890 57th Street\, Sacramento\, CA 95819. “Newcomers” and “old timers” alike are welcome to attend. The solution to craving and addictive behaviors will be explored using the Four Noble Truths and the Eightfold Path. Registration is not required nor are there any dues or fees. However\, to cover rent and literature we will pass the “hat.” We have a Sit and Read from an Author who has not only a personal 12 Step background\, but more importantly\, a Buddhist background\, on how to use our Buddhist Practice in conjunction with the 12 Steps to Recover from extreme Suffering. \nFor additional informational please call\, text\, or email Brian McKinsey at (916) 225-7251\, brian@sactoinsight.org.
URL:https://sactoinsight.org/event/buddhist-recovery-group-42/
LOCATION:Friends Meeting House\, 890 57th Street\, Sacramento\, CA\, 95819-3327\, United States
CATEGORIES:Buddhist Recovery Group,Weekly Meditation
END:VEVENT
BEGIN:VEVENT
DTSTART;TZID=America/Los_Angeles:20160815T183000
DTEND;TZID=America/Los_Angeles:20160815T200000
DTSTAMP:20260423T044839
CREATED:20160831T194337Z
LAST-MODIFIED:20160831T195416Z
UID:1662-1471285800-1471291200@sactoinsight.org
SUMMARY:Buddhist Recovery Group
DESCRIPTION:Our Buddhist Recovery Group meets every Monday evening from 6:30 pm–8:00 pm at the Friend’s Meeting House located at 890 57th Street\, Sacramento\, CA 95819. “Newcomers” and “old timers” alike are welcome to attend. The solution to craving and addictive behaviors will be explored using the Four Noble Truths and the Eightfold Path. Registration is not required nor are there any dues or fees. However\, to cover rent and literature we will pass the “hat.” We have a Sit and Read from an Author who has not only a personal 12 Step background\, but more importantly\, a Buddhist background\, on how to use our Buddhist Practice in conjunction with the 12 Steps to Recover from extreme Suffering. \nFor additional informational please call\, text\, or email Brian McKinsey at (916) 225-7251\, brian@sactoinsight.org.
URL:https://sactoinsight.org/event/buddhist-recovery-group-43/
LOCATION:Friends Meeting House\, 890 57th Street\, Sacramento\, CA\, 95819-3327\, United States
CATEGORIES:Buddhist Recovery Group,Weekly Meditation
END:VEVENT
BEGIN:VEVENT
DTSTART;TZID=America/Los_Angeles:20160822T183000
DTEND;TZID=America/Los_Angeles:20160822T200000
DTSTAMP:20260423T044839
CREATED:20160831T194836Z
LAST-MODIFIED:20160831T194836Z
UID:1664-1471890600-1471896000@sactoinsight.org
SUMMARY:Buddhist Recovery Group
DESCRIPTION:Our Buddhist Recovery Group meets every Monday evening from 6:30 pm–8:00 pm at the Friend’s Meeting House located at 890 57th Street\, Sacramento\, CA 95819. “Newcomers” and “old timers” alike are welcome to attend. The solution to craving and addictive behaviors will be explored using the Four Noble Truths and the Eightfold Path. Registration is not required nor are there any dues or fees. However\, to cover rent and literature we will pass the “hat.” We have a Sit and Read from an Author who has not only a personal 12 Step background\, but more importantly\, a Buddhist background\, on how to use our Buddhist Practice in conjunction with the 12 Steps to Recover from extreme Suffering. \nFor additional informational please call\, text\, or email Brian McKinsey at (916) 225-7251\, brian@sactoinsight.org.
URL:https://sactoinsight.org/event/buddhist-recovery-group-44/
LOCATION:Friends Meeting House\, 890 57th Street\, Sacramento\, CA\, 95819-3327\, United States
CATEGORIES:Buddhist Recovery Group
END:VEVENT
BEGIN:VEVENT
DTSTART;TZID=America/Los_Angeles:20160829T183000
DTEND;TZID=America/Los_Angeles:20160829T200000
DTSTAMP:20260423T044839
CREATED:20160831T194933Z
LAST-MODIFIED:20160831T194933Z
UID:1666-1472495400-1472500800@sactoinsight.org
SUMMARY:Buddhist Recovery Group
DESCRIPTION:Our Buddhist Recovery Group meets every Monday evening from 6:30 pm–8:00 pm at the Friend’s Meeting House located at 890 57th Street\, Sacramento\, CA 95819. “Newcomers” and “old timers” alike are welcome to attend. The solution to craving and addictive behaviors will be explored using the Four Noble Truths and the Eightfold Path. Registration is not required nor are there any dues or fees. However\, to cover rent and literature we will pass the “hat.” We have a Sit and Read from an Author who has not only a personal 12 Step background\, but more importantly\, a Buddhist background\, on how to use our Buddhist Practice in conjunction with the 12 Steps to Recover from extreme Suffering. \nFor additional informational please call\, text\, or email Brian McKinsey at (916) 225-7251\, brian@sactoinsight.org.
URL:https://sactoinsight.org/event/buddhist-recovery-group-45/
LOCATION:Friends Meeting House\, 890 57th Street\, Sacramento\, CA\, 95819-3327\, United States
CATEGORIES:Buddhist Recovery Group
END:VEVENT
END:VCALENDAR