BEGIN:VCALENDAR
VERSION:2.0
PRODID:-//Sacramento Insight Meditation - ECPv6.15.16.1//NONSGML v1.0//EN
CALSCALE:GREGORIAN
METHOD:PUBLISH
X-ORIGINAL-URL:https://sactoinsight.org
X-WR-CALDESC:Events for Sacramento Insight Meditation
REFRESH-INTERVAL;VALUE=DURATION:PT1H
X-Robots-Tag:noindex
X-PUBLISHED-TTL:PT1H
BEGIN:VTIMEZONE
TZID:America/Los_Angeles
BEGIN:DAYLIGHT
TZOFFSETFROM:-0800
TZOFFSETTO:-0700
TZNAME:PDT
DTSTART:20210314T100000
END:DAYLIGHT
BEGIN:STANDARD
TZOFFSETFROM:-0700
TZOFFSETTO:-0800
TZNAME:PST
DTSTART:20211107T090000
END:STANDARD
BEGIN:DAYLIGHT
TZOFFSETFROM:-0800
TZOFFSETTO:-0700
TZNAME:PDT
DTSTART:20220313T100000
END:DAYLIGHT
BEGIN:STANDARD
TZOFFSETFROM:-0700
TZOFFSETTO:-0800
TZNAME:PST
DTSTART:20221106T090000
END:STANDARD
BEGIN:DAYLIGHT
TZOFFSETFROM:-0800
TZOFFSETTO:-0700
TZNAME:PDT
DTSTART:20230312T100000
END:DAYLIGHT
BEGIN:STANDARD
TZOFFSETFROM:-0700
TZOFFSETTO:-0800
TZNAME:PST
DTSTART:20231105T090000
END:STANDARD
END:VTIMEZONE
BEGIN:VEVENT
DTSTART;TZID=America/Los_Angeles:20220602T190000
DTEND;TZID=America/Los_Angeles:20220602T211500
DTSTAMP:20260421T040847
CREATED:20220511T234246Z
LAST-MODIFIED:20220512T001920Z
UID:25979-1654196400-1654204500@sactoinsight.org
SUMMARY:(Hybrid) Sit & Dharma Talk with Visiting Teacher Walt Opie
DESCRIPTION:Talk Topic: to be announced\n\n\n\nSit & Dharma Talk with Visiting Teacher Walt Opie\n\n\n\n* Hybrid events can be attended via Zoom or in-person at the Sacramento Dharma Center\n\n\n\nJoin online meeting: https://us06web.zoom.us/j/87885906521\, Passcode: 564755Join by phone: 1-669-900-6833 ( Meeting ID: 878 8590 6521 )For tips and instructions to join the meeting\, click here to check this news blog. \n\n\n\nThursday Night Talk Dana[give_form id=”14984″ show_title=”false” show_content=”none” display_style=”reveal”] “Generosity is the virtue that leads to peace.” – The Historical BuddhaPlease use the form above to donate by credit card or your PayPal account. Enter the amount you’d like to give and 100% of your donation will be shared with Walt Opie.
URL:https://sactoinsight.org/event/remote-sit-dharma-talk-with-visiting-teacher-walt-opie/
LOCATION:Hybrid (in-person and online)\, 3111 Wissemann Drive (or *ZOOM)\, Sacramento\, CA\, 95826\, United States
CATEGORIES:Online Remote,Weekly Meditation
ATTACH;FMTTYPE=image/jpeg:https://sactoinsight.org/wp-content/uploads/2021/07/WaltOpie-2021picx200.jpg
END:VEVENT
BEGIN:VEVENT
DTSTART;TZID=America/Los_Angeles:20220606T183000
DTEND;TZID=America/Los_Angeles:20220606T200000
DTSTAMP:20260421T040847
CREATED:20220511T222458Z
LAST-MODIFIED:20220511T223650Z
UID:25965-1654540200-1654545600@sactoinsight.org
SUMMARY:(Remote) Buddhist Recovery Group
DESCRIPTION:Our Buddhist Recovery Group meets every Monday evening. For additional information\, visit the 12 Step Sangha page at https://sactoinsight.org/activities/practice-opportunities/12-step-sangha/. \n\n\n\nBuddhist Recovery Group Dana[give_form id=”14562″ show_title=”false” show_content=”none” display_style=”reveal”] “Generosity is the virtue that leads to peace.” – The Historical BuddhaPlease use this form to donate by credit card or your PayPal account. \n\n\n\nJoin online meeting: https://us06web.zoom.us/j/81284794280 Passcode: 638196 Join by phone: 1-669-900-6833 ( Meeting ID: 812 8479 4280 ) For tips and instructions on how to participate\, check this news blog.
URL:https://sactoinsight.org/event/buddhist-recovery-group-346/
LOCATION:Remote Meeting Zoom
CATEGORIES:Buddhist Recovery Group,Online Remote,Weekly Meditation
ORGANIZER;CN="Tom Hopkins":MAILTO:thopkins415@gmail.com
END:VEVENT
BEGIN:VEVENT
DTSTART;TZID=America/Los_Angeles:20220609T190000
DTEND;TZID=America/Los_Angeles:20220609T211500
DTSTAMP:20260421T040847
CREATED:20220511T235046Z
LAST-MODIFIED:20220512T002306Z
UID:25984-1654801200-1654809300@sactoinsight.org
SUMMARY:(Hybrid) Sit & Dharma Talk with Visiting Teacher Seth Castleman
DESCRIPTION:Talk Topic: to be announced\n\n\n\nSit & Dharma Talk with Visiting Teacher Seth Castleman\n\n\n\n* Hybrid events can be attended via Zoom or onsite at the Sacramento Dharma Center. The teacher will present on location.\n\n\n\nThursday Night Talk Dana[give_form id=”16677″ show_title=”false” show_content=”none” display_style=”reveal”] “Generosity is the virtue that leads to peace.” – The Historical BuddhaPlease use the form above to donate by credit card or your PayPal account. Enter the amount you’d like to give and 75% of your donation will be shared with Seth Castleman. \n\n\n\nJoin online meeting: https://us06web.zoom.us/j/87578843777 \, Passcode: 969804Join by phone: 1-669-900-6833 ( Meeting ID: 875 7884 3777 )For tips and instructions to join the meeting\, click here to check this news blog. \n\n\n\nSETH CASTLEMAN is a teacher\, writer\, and storyteller with over twenty years experience teaching mindfulness and spiritual practice. Castleman is trained in both the Jewish and Buddhist traditions. After 20 years of meditation practice and two years of silent retreat as a lay-person in the US\, India\, and Nepal and as a monk in Burma\, Seth was trained as a teacher by Jack Kornfield at Spirit Rock Meditation Center in Woodacre\, CA. He was authorized as a meditation/dharma teacher in 2008. Following eight years of rabbinical studies in the US and Israel/Palestine\, Castleman was ordained in 2011 as a rabbi by one Orthodox\, one Conservative\, and one Reform rabbi. Castleman has published in two dozen newspapers\, periodicals\, and anthologies on the intersection of contemplative practice and social justice and the transformational power of brokenness. As a storyteller\, Seth has performed in theaters\, on radio and television\, and at countless kitchen tables. Seth uses myth\, storytelling\, and humor as central tools in his teaching and counseling work. Seth Castleman is married to Reverend Elizabeth Griswold\, making them\, quite possibly\, the only rabbi—Christian minister married couple in the US. Seth and Elizabeth live in Davis\, CA with their three children.
URL:https://sactoinsight.org/event/sit-dharma-talk-with-visiting-teacher-seth-castleman-2/
LOCATION:Hybrid (in-person and online)\, 3111 Wissemann Drive (or *ZOOM)\, Sacramento\, CA\, 95826\, United States
CATEGORIES:Online Remote,Weekly Meditation
ATTACH;FMTTYPE=image/jpeg:https://sactoinsight.org/wp-content/uploads/2020/07/Seth-Castleman-x200.jpg
END:VEVENT
BEGIN:VEVENT
DTSTART;TZID=America/Los_Angeles:20220613T183000
DTEND;TZID=America/Los_Angeles:20220613T200000
DTSTAMP:20260421T040847
CREATED:20220511T222803Z
LAST-MODIFIED:20220511T223808Z
UID:25968-1655145000-1655150400@sactoinsight.org
SUMMARY:(Remote) Buddhist Recovery Group
DESCRIPTION:Our Buddhist Recovery Group meets every Monday evening. For additional information\, visit the 12 Step Sangha page at https://sactoinsight.org/activities/practice-opportunities/12-step-sangha/. \n\n\n\nBuddhist Recovery Group Dana[give_form id=”14562″ show_title=”false” show_content=”none” display_style=”reveal”] “Generosity is the virtue that leads to peace.” – The Historical BuddhaPlease use this form to donate by credit card or your PayPal account. \n\n\n\nJoin online meeting: https://us06web.zoom.us/j/81284794280 Passcode: 638196 Join by phone: 1-669-900-6833 ( Meeting ID: 812 8479 4280 ) For tips and instructions on how to participate\, check this news blog.
URL:https://sactoinsight.org/event/buddhist-recovery-group-347/
LOCATION:Remote Meeting Zoom
CATEGORIES:Buddhist Recovery Group,Online Remote,Weekly Meditation
ORGANIZER;CN="Tom Hopkins":MAILTO:thopkins415@gmail.com
END:VEVENT
BEGIN:VEVENT
DTSTART;TZID=America/Los_Angeles:20220620T183000
DTEND;TZID=America/Los_Angeles:20220620T200000
DTSTAMP:20260421T040847
CREATED:20220511T223016Z
LAST-MODIFIED:20220511T223508Z
UID:25971-1655749800-1655755200@sactoinsight.org
SUMMARY:(Remote) Buddhist Recovery Group
DESCRIPTION:Our Buddhist Recovery Group meets every Monday evening. For additional information\, visit the 12 Step Sangha page at https://sactoinsight.org/activities/practice-opportunities/12-step-sangha/. \n\n\n\nBuddhist Recovery Group Dana[give_form id=”14562″ show_title=”false” show_content=”none” display_style=”reveal”] “Generosity is the virtue that leads to peace.” – The Historical BuddhaPlease use this form to donate by credit card or your PayPal account. \n\n\n\nJoin online meeting: https://us06web.zoom.us/j/81284794280 Passcode: 638196 Join by phone: 1-669-900-6833 ( Meeting ID: 812 8479 4280 ) For tips and instructions on how to participate\, check this news blog.
URL:https://sactoinsight.org/event/buddhist-recovery-group-348/
LOCATION:Remote Meeting Zoom
CATEGORIES:Buddhist Recovery Group,Online Remote,Weekly Meditation
ORGANIZER;CN="Tom Hopkins":MAILTO:thopkins415@gmail.com
END:VEVENT
BEGIN:VEVENT
DTSTART;TZID=America/Los_Angeles:20220623T190000
DTEND;TZID=America/Los_Angeles:20220623T211500
DTSTAMP:20260421T040847
CREATED:20220512T000435Z
LAST-MODIFIED:20220512T000459Z
UID:25988-1656010800-1656018900@sactoinsight.org
SUMMARY:(Hybrid) Sit & Dharma Talk with SIM Community Teacher
DESCRIPTION:Talk topic: to be announced\n\n\n\nSit & Dharma Talk with SIM Community Teacher Rich Howard\n\n\n\n* Hybrid events can be attended via Zoom or onsite at the Sacramento Dharma Center  \n\n\n\nJoin online meeting: https://us06web.zoom.us/j/82213762290 \, Passcode: 023272Join by phone: 1-669-900-6833 ( Meeting ID: 822 1376 2290 )For tips and instructions to join the meeting\, click here to check this news blog. \n\n\n\nThursday Night Talk Dana[give_form id=”10304″ show_title=”false” show_content=”none” display_style=”reveal”] “Generosity is the virtue that leads to peace.” – The Historical BuddhaPlease use this form to donate by credit card or your PayPal account. Enter the amount you’d like to give and 75% of your donation will be shared with Rich Howard.
URL:https://sactoinsight.org/event/sit-dharma-talk-with-sim-community-teacher/
LOCATION:Hybrid (in-person and online)\, 3111 Wissemann Drive (or *ZOOM)\, Sacramento\, CA\, 95826\, United States
CATEGORIES:Online Remote,Weekly Meditation
ATTACH;FMTTYPE=image/jpeg:https://sactoinsight.org/wp-content/uploads/2022/03/RichHoward-pic2022sm.jpg
END:VEVENT
BEGIN:VEVENT
DTSTART;TZID=America/Los_Angeles:20220627T183000
DTEND;TZID=America/Los_Angeles:20220627T200000
DTSTAMP:20260421T040847
CREATED:20220511T223255Z
LAST-MODIFIED:20220511T223308Z
UID:25974-1656354600-1656360000@sactoinsight.org
SUMMARY:(Remote) Buddhist Recovery Group
DESCRIPTION:Our Buddhist Recovery Group meets every Monday evening. For additional information\, visit the 12 Step Sangha page at https://sactoinsight.org/activities/practice-opportunities/12-step-sangha/. \n\n\n\nBuddhist Recovery Group Dana[give_form id=”14562″ show_title=”false” show_content=”none” display_style=”reveal”] “Generosity is the virtue that leads to peace.” – The Historical BuddhaPlease use this form to donate by credit card or your PayPal account. \n\n\n\nJoin online meeting: https://us06web.zoom.us/j/81284794280 Passcode: 638196 Join by phone: 1-669-900-6833 ( Meeting ID: 812 8479 4280 ) For tips and instructions on how to participate\, check this news blog.
URL:https://sactoinsight.org/event/buddhist-recovery-group-349/
LOCATION:Remote Meeting Zoom
CATEGORIES:Buddhist Recovery Group,Online Remote,Weekly Meditation
ORGANIZER;CN="Tom Hopkins":MAILTO:thopkins415@gmail.com
END:VEVENT
BEGIN:VEVENT
DTSTART;TZID=America/Los_Angeles:20220630T190000
DTEND;TZID=America/Los_Angeles:20220630T211500
DTSTAMP:20260421T040847
CREATED:20220512T001038Z
LAST-MODIFIED:20221201T203235Z
UID:25991-1656615600-1656623700@sactoinsight.org
SUMMARY:(Hybrid) Sit & Dharma Talk with SIM Founding Teacher Dennis Warren
DESCRIPTION:Talk Topic: to be announced\n\n\n\nSit & Dharma Talk with SIM Founding Teacher Dennis Warren\n\n\n\n* Hybrid events can be attended via Zoom or in-person at the Sacramento Dharma Center. The teacher plans to present via Zoom.\n\n\n\nThursday Night Talk Dana[give_form id=”10310″ show_title=”false” show_content=”none” display_style=”reveal”] “Generosity is the virtue that leads to peace.” – The Historical BuddhaYou may use the form above to donate by credit card or your PayPal account. Enter the amount you’d like to give and 75% of your donation will be shared with Dennis Warren. \n\n\n\nJoin online meeting: https://us06web.zoom.us/j/83337025914 \, Passcode: 789160Join by phone: 1-669-900-6833 ( Meeting ID: 833 3702 5914 ) For tips and instructions to join the meeting\, click here to check this news blog.
URL:https://sactoinsight.org/event/hybrid-sit-dharma-talk-with-sim-founding-teacher-dennis-warren/
LOCATION:https://us06web.zoom.us/j/83337025914?pwd=dVZtM1ZkRDJhWTdkSXJHM1VxeVUrdz09
CATEGORIES:Online Remote,Weekly Meditation
ATTACH;FMTTYPE=image/jpeg:https://sactoinsight.org/wp-content/uploads/2022/03/DennisWarren-pic2022sm.jpg
END:VEVENT
END:VCALENDAR