BEGIN:VCALENDAR
VERSION:2.0
PRODID:-//Sacramento Insight Meditation - ECPv6.15.16.1//NONSGML v1.0//EN
CALSCALE:GREGORIAN
METHOD:PUBLISH
X-WR-CALNAME:Sacramento Insight Meditation
X-ORIGINAL-URL:https://sactoinsight.org
X-WR-CALDESC:Events for Sacramento Insight Meditation
REFRESH-INTERVAL;VALUE=DURATION:PT1H
X-Robots-Tag:noindex
X-PUBLISHED-TTL:PT1H
BEGIN:VTIMEZONE
TZID:America/Los_Angeles
BEGIN:DAYLIGHT
TZOFFSETFROM:-0800
TZOFFSETTO:-0700
TZNAME:PDT
DTSTART:20190310T100000
END:DAYLIGHT
BEGIN:STANDARD
TZOFFSETFROM:-0700
TZOFFSETTO:-0800
TZNAME:PST
DTSTART:20191103T090000
END:STANDARD
BEGIN:DAYLIGHT
TZOFFSETFROM:-0800
TZOFFSETTO:-0700
TZNAME:PDT
DTSTART:20200308T100000
END:DAYLIGHT
BEGIN:STANDARD
TZOFFSETFROM:-0700
TZOFFSETTO:-0800
TZNAME:PST
DTSTART:20201101T090000
END:STANDARD
BEGIN:DAYLIGHT
TZOFFSETFROM:-0800
TZOFFSETTO:-0700
TZNAME:PDT
DTSTART:20210314T100000
END:DAYLIGHT
BEGIN:STANDARD
TZOFFSETFROM:-0700
TZOFFSETTO:-0800
TZNAME:PST
DTSTART:20211107T090000
END:STANDARD
END:VTIMEZONE
BEGIN:VEVENT
DTSTART;TZID=America/Los_Angeles:20200203T183000
DTEND;TZID=America/Los_Angeles:20200203T200000
DTSTAMP:20260422T180941
CREATED:20191217T025533Z
LAST-MODIFIED:20191217T025533Z
UID:13258-1580754600-1580760000@sactoinsight.org
SUMMARY:Buddhist Recovery Group
DESCRIPTION:Our Buddhist Recovery Group meets every Monday evening. For additional information\, visit the 12 Step Sangha page at https://sactoinsight.org/activities/practice-opportunities/12-step-sangha/.
URL:https://sactoinsight.org/event/buddhist-recovery-group-224/
LOCATION:CA
CATEGORIES:Buddhist Recovery Group
ORGANIZER;CN="Tom Hopkins":MAILTO:thopkins415@gmail.com
END:VEVENT
BEGIN:VEVENT
DTSTART;TZID=America/Los_Angeles:20200206T190000
DTEND;TZID=America/Los_Angeles:20200206T211500
DTSTAMP:20260422T180941
CREATED:20191119T220023Z
LAST-MODIFIED:20200130T235358Z
UID:12844-1581015600-1581023700@sactoinsight.org
SUMMARY:*Sit & Dharma Talk - Dennis Warren - Cross The River of Suffering
DESCRIPTION:What Does It Mean To Cross The River of Suffering\nSit & Dharma Talk with SIM Founding Teacher Dennis Warren \nThe Historical Buddha used the image of our making our way across “the River of Suffering\,” then leaving the boat we arrived in at the water’s edge\, once we are safely on “the other shore.” What does it mean to “cross the river of suffering?” and to reach “the other shore?” Was the Buddha implying that it is our fate to continuously suffer until we have crossed the River?\nThis evening will examination the Buddha’s guidance for community level practitioners – non-monastics – about the pleasures of community life and practice in the context of the responsibilities and obligations of community life.\nThis guidance clearly points to the idea that the teachings are designed to support and create ease in our life\, not to foster a sense of struggle\, and an over-emphasis & self-indulgence\, on suffering that may be present. This guidance\, for those living full community lives\, is a necessary and important element in creating a balanced practice\, and a satisfying & happy life. \nSacramento Insight Meditation events are sustained by the generosity of instructors in offering teachings freely and on the generosity of students and members of the meditative community in the form of financial support\, service and participation in events. With our practice of dana\, we support our Sangha. \nThursday Night Talk Dana\n“Generosity is the virtue that leads to peace.” – The Historical Buddha\nWe recognize that donating by cash or check at the time you attend this event may not always be convenient for you. If that’s the case\, please use the form below to donate by credit card or your PayPal account. Enter the amount you’d like to give and your donation will be shared with Dennis Warren and SIM. \n[give_form id=”10310″ show_title=”false” show_content=”none” display_style=”reveal”]
URL:https://sactoinsight.org/event/sit-dharma-talk-sim-founding-teacher-dennis-warren-36/
LOCATION:CA
CATEGORIES:Weekly Meditation
END:VEVENT
BEGIN:VEVENT
DTSTART;TZID=America/Los_Angeles:20200210T183000
DTEND;TZID=America/Los_Angeles:20200210T200000
DTSTAMP:20260422T180941
CREATED:20191217T025641Z
LAST-MODIFIED:20191217T025641Z
UID:13260-1581359400-1581364800@sactoinsight.org
SUMMARY:Buddhist Recovery Group
DESCRIPTION:Our Buddhist Recovery Group meets every Monday evening. For additional information\, visit the 12 Step Sangha page at https://sactoinsight.org/activities/practice-opportunities/12-step-sangha/.
URL:https://sactoinsight.org/event/buddhist-recovery-group-225/
LOCATION:CA
CATEGORIES:Buddhist Recovery Group
ORGANIZER;CN="Tom Hopkins":MAILTO:thopkins415@gmail.com
END:VEVENT
BEGIN:VEVENT
DTSTART;TZID=America/Los_Angeles:20200211T190000
DTEND;TZID=America/Los_Angeles:20200211T210000
DTSTAMP:20260422T180941
CREATED:20191217T022837Z
LAST-MODIFIED:20191217T022837Z
UID:13233-1581447600-1581454800@sactoinsight.org
SUMMARY:Young Persons Sangha
DESCRIPTION:Meeting on the Second and Fourth Tuesday evenings in the SDC Library\, a ​young persons group studying mindfulness and meditation.
URL:https://sactoinsight.org/event/young-persons-sangha-18/
LOCATION:CA
CATEGORIES:Weekly Meditation,Young Person Sangha
ORGANIZER;CN="Idris Ahmed":MAILTO:idris.ahmed54@gmail.com
END:VEVENT
BEGIN:VEVENT
DTSTART;TZID=America/Los_Angeles:20200213T190000
DTEND;TZID=America/Los_Angeles:20200213T211500
DTSTAMP:20260422T180941
CREATED:20200125T025448Z
LAST-MODIFIED:20200211T232544Z
UID:13684-1581620400-1581628500@sactoinsight.org
SUMMARY:*Sit & Dharma Talk - Heather Sundberg - the Fire Sermon
DESCRIPTION:Sit & Dharma Talk with Visiting Teacher Heather Sundberg\nHeather will be teaching on the Fire Sermon from the Buddha.  “The world is burning with reactivity. How do we practice to cool the fires?” \nThis talk will not be recorded.\nSacramento Insight Meditation events are sustained by the generosity of instructors in offering teachings freely and on the generosity of students and members of the meditative community in the form of financial support\, service and participation in events. With our practice of dana\, we support our Sangha. \nThursday Night Talk Dana\n“Generosity is the virtue that leads to peace.” – The Historical Buddha\nWe recognize that donating by cash or check at the time you attend this Heather Sundberg event may not always be convenient for you. If that’s the case\, please use the form below to donate by credit card or your PayPal account. Enter the amount you’d like to give. \n[give_form id=”4336″ show_title=”false” show_goal=”false” show_content=”none” display_style=”reveal”]
URL:https://sactoinsight.org/event/sit-dharma-talk-visiting-teacher-heather-sundberg-8/
LOCATION:CA
CATEGORIES:Weekly Meditation
END:VEVENT
BEGIN:VEVENT
DTSTART;TZID=America/Los_Angeles:20200217T183000
DTEND;TZID=America/Los_Angeles:20200217T200000
DTSTAMP:20260422T180941
CREATED:20191217T025827Z
LAST-MODIFIED:20191217T025827Z
UID:13264-1581964200-1581969600@sactoinsight.org
SUMMARY:Buddhist Recovery Group
DESCRIPTION:Our Buddhist Recovery Group meets every Monday evening. For additional information\, visit the 12 Step Sangha page at https://sactoinsight.org/activities/practice-opportunities/12-step-sangha/.
URL:https://sactoinsight.org/event/buddhist-recovery-group-227/
LOCATION:CA
CATEGORIES:Buddhist Recovery Group
ORGANIZER;CN="Tom Hopkins":MAILTO:thopkins415@gmail.com
END:VEVENT
BEGIN:VEVENT
DTSTART;TZID=America/Los_Angeles:20200219T183000
DTEND;TZID=America/Los_Angeles:20200219T200000
DTSTAMP:20260422T180941
CREATED:20191217T024152Z
LAST-MODIFIED:20191217T024152Z
UID:13245-1582137000-1582142400@sactoinsight.org
SUMMARY:Climate Sangha
DESCRIPTION:Meeting the 3rd Wednesday of each month\, the Sacramento Climate Sangha provides dharmic support and a refuge for exploration of our hopes and fears about climate change.
URL:https://sactoinsight.org/event/climate-sangha-35/
LOCATION:CA
CATEGORIES:Climate Sangha,SDC
END:VEVENT
BEGIN:VEVENT
DTSTART;TZID=America/Los_Angeles:20200220T190000
DTEND;TZID=America/Los_Angeles:20200220T210000
DTSTAMP:20260422T180941
CREATED:20200125T025754Z
LAST-MODIFIED:20200213T233545Z
UID:13686-1582225200-1582232400@sactoinsight.org
SUMMARY:*Sit & Dharma Talk - Diane Wilde - The Truth About Lying
DESCRIPTION:The Truth About Lying\nSit & Dharma Talk with SIM Community Teacher Diane Wilde\nDo you lie? Yes you do. Research shows we all lie on a daily basis… often many times a day! Yet\, truthfulness\, and the avoidance of falsehood is emphasized over and over again in the Buddha’s teachings. Truthfulness is the first factor of Right Speech with specific guidelines on how to evaluate when\, and how\, to speak truthfully. Speaking truthfully is also the fourth of the Five Training Precepts\, which are the basic virtues to be cultivated on our path to ease and happiness. Yet\, we lie so frequently and for such a variety of reasons\, that lying becomes an acceptable “necessity.” We maintain that we have plausible reasoning for our lies. Did the Buddha mean we must always be truthful? Let’s find out! \nSacramento Insight Meditation events are sustained by the generosity of instructors in offering teachings freely and on the generosity of students and members of the meditative community in the form of financial support\, service and participation in events. With our practice of dana\, we support our Sangha. \nThursday Night Talk Dana\n“Generosity is the virtue that leads to peace.” – The Historical Buddha\nWe recognize that donating by cash or check at the time you attend this event may not always be convenient for you. If that’s the case\, please use the form below to donate by credit card or your PayPal account. Enter the amount you’d like to give and your donation will be shared with Rev. Diane Wilde and SIM. \n[give_form id=”9758″ show_title=”false” show_content=”none” display_style=”reveal”]
URL:https://sactoinsight.org/event/sit-dharma-talk-sim-community-teacher-diane-wilde-11/
LOCATION:CA
CATEGORIES:Weekly Meditation
END:VEVENT
BEGIN:VEVENT
DTSTART;TZID=America/Los_Angeles:20200224T183000
DTEND;TZID=America/Los_Angeles:20200224T183000
DTSTAMP:20260422T180941
CREATED:20191217T025918Z
LAST-MODIFIED:20191217T025918Z
UID:13266-1582569000-1582569000@sactoinsight.org
SUMMARY:Buddhist Recovery Group
DESCRIPTION:Our Buddhist Recovery Group meets every Monday evening. For additional information\, visit the 12 Step Sangha page at https://sactoinsight.org/activities/practice-opportunities/12-step-sangha/.
URL:https://sactoinsight.org/event/buddhist-recovery-group-228/
LOCATION:CA
CATEGORIES:Buddhist Recovery Group
ORGANIZER;CN="Tom Hopkins":MAILTO:thopkins415@gmail.com
END:VEVENT
BEGIN:VEVENT
DTSTART;TZID=America/Los_Angeles:20200225T190000
DTEND;TZID=America/Los_Angeles:20200225T210000
DTSTAMP:20260422T180941
CREATED:20191217T022931Z
LAST-MODIFIED:20200125T044718Z
UID:13235-1582657200-1582664400@sactoinsight.org
SUMMARY:Young Persons Sangha
DESCRIPTION:Meeting on the Second and Fourth Tuesday evenings in the SDC Library\, a ​young persons group studying mindfulness and meditation.
URL:https://sactoinsight.org/event/young-persons-sangha-19/
LOCATION:CA
CATEGORIES:Weekly Meditation,Young Person Sangha
ORGANIZER;CN="Idris Ahmed":MAILTO:idris.ahmed54@gmail.com
END:VEVENT
BEGIN:VEVENT
DTSTART;TZID=America/Los_Angeles:20200227T190000
DTEND;TZID=America/Los_Angeles:20200227T211500
DTSTAMP:20260422T180941
CREATED:20200125T030143Z
LAST-MODIFIED:20200213T225419Z
UID:13690-1582830000-1582838100@sactoinsight.org
SUMMARY:*Sit & Dharma Talk - Rich Howard - Awareness\, Effort\, Right View
DESCRIPTION:Awareness\, Effort\, and Right View\nSit & Dharma Talk with SIM Community Teacher Rich Howard\nGoogle “mindfulness” and you’ll find this definition (from Psychology Today): “Mindfulness is a state of active\, open attention to the present.” On the other hand\, Burmese monk and meditation teacher Sayadaw U Tejaniya titled one of his books “Awareness Alone is Not Enough.” What else is needed? Won’t it be complicated? With all the approaches to mindfulness floating around\, it may be a challenge to know how to practice a simple yet effective form of awareness that leads to insight and eventually freedom. With reminders from Sayadaw’s two most recent books\, “Collecting Gold Dust” and “Relax and Be Aware” as well as his classics\, we will look at the wider context of Awareness/Mindfulness/Attention: how it might differ from some of the popular notions\, how it fits in the Noble Eightfold Path\, and how it supports our search for freedom. This evening will be a good preparation for Rich’s Saturday\, February 29 daylong\, Awareness Practice and Inquiry. \nSacramento Insight Meditation events are sustained by the generosity of instructors in offering teachings freely and on the generosity of students and members of the meditative community in the form of financial support\, service and participation in events. With our practice of dana\, we support our Sangha. \nThursday Night Talk Dana\n“Generosity is the virtue that leads to peace.” – The Historical Buddha\nWe recognize that donating by cash or check at the time you attend this event may not always be convenient for you. If that’s the case\, please use the form below to donate by credit card or your PayPal account. Enter the amount you’d like to give and your donation will be shared with Rich Howard and SIM. \n[give_form id=”10304″ show_title=”false” show_content=”none” display_style=”reveal”]
URL:https://sactoinsight.org/event/sit-dharma-talk-sim-community-teacher-rich-howard-10/
LOCATION:CA
CATEGORIES:Weekly Meditation
END:VEVENT
END:VCALENDAR