BEGIN:VCALENDAR
VERSION:2.0
PRODID:-//Sacramento Insight Meditation - ECPv6.15.16.1//NONSGML v1.0//EN
CALSCALE:GREGORIAN
METHOD:PUBLISH
X-ORIGINAL-URL:https://sactoinsight.org
X-WR-CALDESC:Events for Sacramento Insight Meditation
REFRESH-INTERVAL;VALUE=DURATION:PT1H
X-Robots-Tag:noindex
X-PUBLISHED-TTL:PT1H
BEGIN:VTIMEZONE
TZID:America/Los_Angeles
BEGIN:DAYLIGHT
TZOFFSETFROM:-0800
TZOFFSETTO:-0700
TZNAME:PDT
DTSTART:20180311T100000
END:DAYLIGHT
BEGIN:STANDARD
TZOFFSETFROM:-0700
TZOFFSETTO:-0800
TZNAME:PST
DTSTART:20181104T090000
END:STANDARD
BEGIN:DAYLIGHT
TZOFFSETFROM:-0800
TZOFFSETTO:-0700
TZNAME:PDT
DTSTART:20190310T100000
END:DAYLIGHT
BEGIN:STANDARD
TZOFFSETFROM:-0700
TZOFFSETTO:-0800
TZNAME:PST
DTSTART:20191103T090000
END:STANDARD
BEGIN:DAYLIGHT
TZOFFSETFROM:-0800
TZOFFSETTO:-0700
TZNAME:PDT
DTSTART:20200308T100000
END:DAYLIGHT
BEGIN:STANDARD
TZOFFSETFROM:-0700
TZOFFSETTO:-0800
TZNAME:PST
DTSTART:20201101T090000
END:STANDARD
END:VTIMEZONE
BEGIN:VEVENT
DTSTART;TZID=America/Los_Angeles:20191104T183000
DTEND;TZID=America/Los_Angeles:20191104T203000
DTSTAMP:20260425T054408
CREATED:20191009T220112Z
LAST-MODIFIED:20191009T220112Z
UID:12582-1572892200-1572899400@sactoinsight.org
SUMMARY:Buddhist Recovery Group
DESCRIPTION:Our Buddhist Recovery Group meets every Monday evening. For additional information\, visit the 12 Step Sangha page at https://sactoinsight.org/activities/practice-opportunities/12-step-sangha/.
URL:https://sactoinsight.org/event/buddhist-recovery-group-211/
LOCATION:CA
CATEGORIES:Buddhist Recovery Group
ORGANIZER;CN="Tom Hopkins":MAILTO:thopkins415@gmail.com
END:VEVENT
BEGIN:VEVENT
DTSTART;TZID=America/Los_Angeles:20191107T190000
DTEND;TZID=America/Los_Angeles:20191107T210000
DTSTAMP:20260425T054408
CREATED:20191025T005107Z
LAST-MODIFIED:20191105T033249Z
UID:12671-1573153200-1573160400@sactoinsight.org
SUMMARY:*Sit & Dharma Talk - Diane Wilde - Buddhism and Euthanasia
DESCRIPTION:Buddhism and Euthanasia\nSit & Dharma Talk with SIM Community Teacher Diane Wilde\nSpot is old\, ill and suffering. As painful as it is for loving pet guardians\, we now have to make a difficult decision — is it time to consider euthanasia? For humans\, California End of Life Option Act is a law which allows terminally ill adults resident in the state of California to access medical aid in dying by self-administering lethal drugs. Would you take advantage of this? Should you? \nWe look to our spiritual traditions for guidance on difficult life and death situations such as this. Tonight we will look at the history of teachings on the subject from a Buddhist perspective and what contemporary teachers have to say. \nSacramento Insight Meditation events are sustained by the generosity of instructors in offering teachings freely and on the generosity of students and members of the meditative community in the form of financial support\, service and participation in events. With our practice of dana\, we support our Sangha. \nThursday Night Talk Dana\n“Generosity is the virtue that leads to peace.” – The Historical Buddha\nWe recognize that donating by cash or check at the time you attend this event may not always be convenient for you. If that’s the case\, please use the form below to donate by credit card or your PayPal account. Enter the amount you’d like to give and your donation will be shared with Rev. Diane Wilde and SIM. \n[give_form id=”9758″ show_title=”false” show_content=”none” display_style=”reveal”]
URL:https://sactoinsight.org/event/sit-dharma-talk-sim-community-teacher-diane-wilde-10/
LOCATION:CA
CATEGORIES:Weekly Meditation
END:VEVENT
BEGIN:VEVENT
DTSTART;TZID=America/Los_Angeles:20191111T183000
DTEND;TZID=America/Los_Angeles:20191111T203000
DTSTAMP:20260425T054408
CREATED:20191009T220201Z
LAST-MODIFIED:20191009T220201Z
UID:12584-1573497000-1573504200@sactoinsight.org
SUMMARY:Buddhist Recovery Group
DESCRIPTION:Our Buddhist Recovery Group meets every Monday evening. For additional information\, visit the 12 Step Sangha page at https://sactoinsight.org/activities/practice-opportunities/12-step-sangha/.
URL:https://sactoinsight.org/event/buddhist-recovery-group-212/
LOCATION:CA
CATEGORIES:Buddhist Recovery Group
ORGANIZER;CN="Tom Hopkins":MAILTO:thopkins415@gmail.com
END:VEVENT
BEGIN:VEVENT
DTSTART;TZID=America/Los_Angeles:20191112T190000
DTEND;TZID=America/Los_Angeles:20191112T210000
DTSTAMP:20260425T054408
CREATED:20191009T214937Z
LAST-MODIFIED:20191009T214937Z
UID:12574-1573585200-1573592400@sactoinsight.org
SUMMARY:Young Persons Sangha
DESCRIPTION:Meeting on the Second and Fourth Tuesday evenings in the SDC Library\, a ​young persons group studying mindfulness and meditation.
URL:https://sactoinsight.org/event/young-persons-sangha-12/
LOCATION:CA
CATEGORIES:Young Person Sangha
ORGANIZER;CN="Idris Ahmed":MAILTO:idris.ahmed54@gmail.com
END:VEVENT
BEGIN:VEVENT
DTSTART;TZID=America/Los_Angeles:20191114T190000
DTEND;TZID=America/Los_Angeles:20191114T211500
DTSTAMP:20260425T054408
CREATED:20191025T005326Z
LAST-MODIFIED:20191025T005326Z
UID:12673-1573758000-1573766100@sactoinsight.org
SUMMARY:Sit & Dharma Talk with Visiting Teacher Tony Bernhard
DESCRIPTION:Sit & Dharma Talk with Visiting Teacher Tony Bernhard\nThe topic of the talk is to be announced. \nTony Bernhard is a Buddhist chaplain and teacher. He maintains an active practice with inmates in Folsom Prison and hosts sitting groups in Davis. He sits on the board of the Sati Center for Buddhist Studies and teaches regularly around the bay area and central valley. His practice is non-traditional\, guided by his chaplaincy work in prison\, his teaching and by his study of the early Pali scriptures. \nSacramento Insight Meditation events are sustained by the generosity of instructors in offering teachings freely and on the generosity of students and members of the meditative community in the form of financial support\, service and participation in events. With our practice of dana\, we support our Sangha.
URL:https://sactoinsight.org/event/sit-dharma-talk-visiting-teacher-tony-bernhard-5/
LOCATION:CA
CATEGORIES:Weekly Meditation
END:VEVENT
BEGIN:VEVENT
DTSTART;TZID=America/Los_Angeles:20191118T183000
DTEND;TZID=America/Los_Angeles:20191118T203000
DTSTAMP:20260425T054408
CREATED:20191009T220250Z
LAST-MODIFIED:20191009T220250Z
UID:12586-1574101800-1574109000@sactoinsight.org
SUMMARY:Buddhist Recovery Group
DESCRIPTION:Our Buddhist Recovery Group meets every Monday evening. For additional information\, visit the 12 Step Sangha page at https://sactoinsight.org/activities/practice-opportunities/12-step-sangha/.
URL:https://sactoinsight.org/event/buddhist-recovery-group-213/
LOCATION:CA
CATEGORIES:Buddhist Recovery Group
ORGANIZER;CN="Tom Hopkins":MAILTO:thopkins415@gmail.com
END:VEVENT
BEGIN:VEVENT
DTSTART;TZID=America/Los_Angeles:20191121T190000
DTEND;TZID=America/Los_Angeles:20191121T210000
DTSTAMP:20260425T054408
CREATED:20191120T231017Z
LAST-MODIFIED:20191120T234615Z
UID:12892-1574362800-1574370000@sactoinsight.org
SUMMARY:Sit & Dharma Talk with Visiting Teacher Neesha Patel
DESCRIPTION:Talk topic to be announced\nSit & Dharma Talk with Visiting Teacher Neesha Patel. \nWe are fortunate to have NEESHA PATEL\, PhD returning to SIM this evening. \n \nNEESHA PATEL\, PhD is deeply grateful for the liberative teachings of the Buddha. She has been fortunate to have practiced in both Asia and the US. Her practice has been influenced by the guidance of many wonderful teachers including Sayadaw U Tejaniya and Thai Forest Tradition teachers. She teaches mindfulness meditation at UC Davis and is a participant in the 2017-2021 Insight Meditation Society Teacher Training Program. \nSacramento Insight Meditation events are sustained by the generosity of instructors in offering teachings freely and on the generosity of students and members of the meditative community in the form of financial support\, service and participation in events. With our practice of dana\, we support our Sangha.
URL:https://sactoinsight.org/event/sit-dharma-talk-visiting-teacher-neesha-patel-2/
LOCATION:CA
CATEGORIES:Weekly Meditation
END:VEVENT
BEGIN:VEVENT
DTSTART;TZID=America/Los_Angeles:20191125T080000
DTEND;TZID=America/Los_Angeles:20191125T170000
DTSTAMP:20260425T054408
CREATED:20191009T220341Z
LAST-MODIFIED:20191009T220341Z
UID:12588-1574668800-1574701200@sactoinsight.org
SUMMARY:Buddhist Recovery Group
DESCRIPTION:Our Buddhist Recovery Group meets every Monday evening. For additional information\, visit the 12 Step Sangha page at https://sactoinsight.org/activities/practice-opportunities/12-step-sangha/.
URL:https://sactoinsight.org/event/buddhist-recovery-group-214/
LOCATION:CA
CATEGORIES:Buddhist Recovery Group
ORGANIZER;CN="Tom Hopkins":MAILTO:thopkins415@gmail.com
END:VEVENT
BEGIN:VEVENT
DTSTART;TZID=America/Los_Angeles:20191126T190000
DTEND;TZID=America/Los_Angeles:20191126T210000
DTSTAMP:20260425T054408
CREATED:20191009T215030Z
LAST-MODIFIED:20191009T215030Z
UID:12576-1574794800-1574802000@sactoinsight.org
SUMMARY:Young Persons Sangha
DESCRIPTION:Meeting on the Second and Fourth Tuesday evenings in the SDC Library\, a ​young persons group studying mindfulness and meditation.
URL:https://sactoinsight.org/event/young-persons-sangha-13/
LOCATION:CA
CATEGORIES:Young Person Sangha
ORGANIZER;CN="Idris Ahmed":MAILTO:idris.ahmed54@gmail.com
END:VEVENT
BEGIN:VEVENT
DTSTART;VALUE=DATE:20191128
DTEND;VALUE=DATE:20191129
DTSTAMP:20260425T054408
CREATED:20191025T005614Z
LAST-MODIFIED:20191025T005614Z
UID:12675-1574899200-1574985599@sactoinsight.org
SUMMARY:NO EVENTS TODAY
DESCRIPTION:There are no events scheduled by SIM today due to the Thanksgiving Holiday.
URL:https://sactoinsight.org/event/no-events-today-2/
LOCATION:CA
CATEGORIES:Weekly Meditation
END:VEVENT
END:VCALENDAR