BEGIN:VCALENDAR
VERSION:2.0
PRODID:-//Sacramento Insight Meditation - ECPv6.15.16.1//NONSGML v1.0//EN
CALSCALE:GREGORIAN
METHOD:PUBLISH
X-WR-CALNAME:Sacramento Insight Meditation
X-ORIGINAL-URL:https://sactoinsight.org
X-WR-CALDESC:Events for Sacramento Insight Meditation
REFRESH-INTERVAL;VALUE=DURATION:PT1H
X-Robots-Tag:noindex
X-PUBLISHED-TTL:PT1H
BEGIN:VTIMEZONE
TZID:America/Los_Angeles
BEGIN:DAYLIGHT
TZOFFSETFROM:-0800
TZOFFSETTO:-0700
TZNAME:PDT
DTSTART:20180311T100000
END:DAYLIGHT
BEGIN:STANDARD
TZOFFSETFROM:-0700
TZOFFSETTO:-0800
TZNAME:PST
DTSTART:20181104T090000
END:STANDARD
BEGIN:DAYLIGHT
TZOFFSETFROM:-0800
TZOFFSETTO:-0700
TZNAME:PDT
DTSTART:20190310T100000
END:DAYLIGHT
BEGIN:STANDARD
TZOFFSETFROM:-0700
TZOFFSETTO:-0800
TZNAME:PST
DTSTART:20191103T090000
END:STANDARD
BEGIN:DAYLIGHT
TZOFFSETFROM:-0800
TZOFFSETTO:-0700
TZNAME:PDT
DTSTART:20200308T100000
END:DAYLIGHT
BEGIN:STANDARD
TZOFFSETFROM:-0700
TZOFFSETTO:-0800
TZNAME:PST
DTSTART:20201101T090000
END:STANDARD
END:VTIMEZONE
BEGIN:VEVENT
DTSTART;TZID=America/Los_Angeles:20191003T190000
DTEND;TZID=America/Los_Angeles:20191003T211500
DTSTAMP:20260425T072438
CREATED:20190912T223959Z
LAST-MODIFIED:20190924T224742Z
UID:12416-1570129200-1570137300@sactoinsight.org
SUMMARY:Sit & Dharma Talk with Visiting Teacher Neesha Patel
DESCRIPTION:Talk topic and date to be announced\nSit & Dharma Talk with Visiting Teacher Neesha Patel. \n  \n \nNEESHA PATEL\, PhD is deeply grateful for the liberative teachings of the Buddha. She has been fortunate to have practiced in both Asia and the US. Her practice has been influenced by the guidance of many wonderful teachers including Sayadaw U Tejaniya and Thai Forest Tradition teachers. She teaches mindfulness meditation at UC Davis and is a participant in the 2017-2021 Insight Meditation Society Teacher Training Program. \nSacramento Insight Meditation events are sustained by the generosity of instructors in offering teachings freely and on the generosity of students and members of the meditative community in the form of financial support\, service and participation in events. With our practice of dana\, we support our Sangha.
URL:https://sactoinsight.org/event/sit-dharma-talk-visiting-teacher-neesha-patel/
LOCATION:CA
CATEGORIES:Weekly Meditation
END:VEVENT
BEGIN:VEVENT
DTSTART;TZID=America/Los_Angeles:20191007T183000
DTEND;TZID=America/Los_Angeles:20191007T200000
DTSTAMP:20260425T072438
CREATED:20190731T223035Z
LAST-MODIFIED:20190731T223035Z
UID:12117-1570473000-1570478400@sactoinsight.org
SUMMARY:Buddhist Recovery Group
DESCRIPTION:Our Buddhist Recovery Group meets every Monday evening. For additional information\, visit the 12 Step Sangha page at https://sactoinsight.org/activities/practice-opportunities/12-step-sangha/.
URL:https://sactoinsight.org/event/buddhist-recovery-group-207/
LOCATION:CA
CATEGORIES:Buddhist Recovery Group
ORGANIZER;CN="Tom Hopkins":MAILTO:thopkins415@gmail.com
END:VEVENT
BEGIN:VEVENT
DTSTART;TZID=America/Los_Angeles:20191008T190000
DTEND;TZID=America/Los_Angeles:20191008T210000
DTSTAMP:20260425T072438
CREATED:20191009T214713Z
LAST-MODIFIED:20191009T214713Z
UID:12570-1570561200-1570568400@sactoinsight.org
SUMMARY:Young Persons Sangha
DESCRIPTION:Meeting on the Second and Fourth Tuesday evenings in the SDC Library\, a ​young persons group studying mindfulness and meditation.
URL:https://sactoinsight.org/event/young-persons-sangha-10/
LOCATION:CA
CATEGORIES:Young Person Sangha
ORGANIZER;CN="Idris Ahmed":MAILTO:idris.ahmed54@gmail.com
END:VEVENT
BEGIN:VEVENT
DTSTART;TZID=America/Los_Angeles:20191010T190000
DTEND;TZID=America/Los_Angeles:20191010T210000
DTSTAMP:20260425T072438
CREATED:20190609T233940Z
LAST-MODIFIED:20191001T234255Z
UID:11687-1570734000-1570741200@sactoinsight.org
SUMMARY:*Sit & Dharma Talk - Diane Wilde - Waking Up in Perilous Times
DESCRIPTION:Waking Up in Perilous Times\nSit & Dharma Talk with SIM Community Teacher Diane Wilde\nThe times they are a-changing! This could be stated by every generation and each new epoch in our human and natural history. But the unimaginable changes taking place now — the climate emergency as well as “alternative” political realities — have never happened so quickly leaving little time to adjust. It’s no longer just the individual who struggles with dukkha or stress\, as the Buddha taught. Now our entire natural world is suffering and truth itself is continually being redefined according to partisan politics. This begs the question\, is our individual awakening the remedy for the situation in which we find ourselves? Or do we need to start investigating and practicing a “societal awakening.” And if so\, what would that look like? How does it align with Buddhist principles? And do we even want to? Not an easy topic\, but one that needs to be considered right now. \nSacramento Insight Meditation events are sustained by the generosity of instructors in offering teachings freely and on the generosity of students and members of the meditative community in the form of financial support\, service and participation in events. With our practice of dana\, we support our Sangha. \nThursday Night Talk Dana\n“Generosity is the virtue that leads to peace.” – The Historical Buddha\nWe recognize that donating by cash or check at the time you attend this event may not always be convenient for you. If that’s the case\, please use the form below to donate by credit card or your PayPal account. Enter the amount you’d like to give and your donation will be shared with Rev. Diane Wilde and SIM. \n[give_form id=”9758″ show_title=”false” show_content=”none” display_style=”reveal”]
URL:https://sactoinsight.org/event/sit-dharma-talk-sim-community-teacher-diane-wilde-8/
LOCATION:CA
CATEGORIES:Weekly Meditation
END:VEVENT
BEGIN:VEVENT
DTSTART;TZID=America/Los_Angeles:20191014T183000
DTEND;TZID=America/Los_Angeles:20191014T200000
DTSTAMP:20260425T072438
CREATED:20190731T223128Z
LAST-MODIFIED:20190731T223128Z
UID:12119-1571077800-1571083200@sactoinsight.org
SUMMARY:Buddhist Recovery Group
DESCRIPTION:Our Buddhist Recovery Group meets every Monday evening. For additional information\, visit the 12 Step Sangha page at https://sactoinsight.org/activities/practice-opportunities/12-step-sangha/.
URL:https://sactoinsight.org/event/buddhist-recovery-group-208/
LOCATION:CA
CATEGORIES:Buddhist Recovery Group
ORGANIZER;CN="Tom Hopkins":MAILTO:thopkins415@gmail.com
END:VEVENT
BEGIN:VEVENT
DTSTART;TZID=America/Los_Angeles:20191016T183000
DTEND;TZID=America/Los_Angeles:20191016T200000
DTSTAMP:20260425T072438
CREATED:20190609T235904Z
LAST-MODIFIED:20190609T235904Z
UID:11714-1571250600-1571256000@sactoinsight.org
SUMMARY:Climate Sangha
DESCRIPTION:Meeting the 3rd Wednesday of each month\, the Sacramento Climate Sangha provides dharmic support and a refuge for exploration of our hopes and fears about climate change.
URL:https://sactoinsight.org/event/climate-sangha-32/
LOCATION:CA
CATEGORIES:Climate Sangha,SDC
END:VEVENT
BEGIN:VEVENT
DTSTART;TZID=America/Los_Angeles:20191017T190000
DTEND;TZID=America/Los_Angeles:20191017T211500
DTSTAMP:20260425T072438
CREATED:20190912T224729Z
LAST-MODIFIED:20191119T223238Z
UID:12418-1571338800-1571346900@sactoinsight.org
SUMMARY:*Sit & Dharma Talk - Rich Howard - The Five Aggregates
DESCRIPTION:A Lump of Foam: The Five Aggregates\nSit & Dharma Talk with SIM Community Teacher Rich Howard\nThe five Aggregates of Clinging are an excellent means for seeing the three universal characteristics: impermanence\, conditionality/insubstantiality and suffering/stress. This phrase is repeated like a mantra in the many suttas about the aggregates: “This is not mine\, this I am not\, this is not my self.” We will discuss how to use the aggregates in our daily lives to foster insight into how we suffer. \nSacramento Insight Meditation events are sustained by the generosity of instructors in offering teachings freely and on the generosity of students and members of the meditative community in the form of financial support\, service and participation in events. With our practice of dana\, we support our Sangha.
URL:https://sactoinsight.org/event/sit-dharma-talk-sim-community-teacher-rich-howard-7/
LOCATION:CA
CATEGORIES:Weekly Meditation
END:VEVENT
BEGIN:VEVENT
DTSTART;TZID=America/Los_Angeles:20191021T183000
DTEND;TZID=America/Los_Angeles:20191021T203000
DTSTAMP:20260425T072438
CREATED:20191009T215900Z
LAST-MODIFIED:20191009T215900Z
UID:12578-1571682600-1571689800@sactoinsight.org
SUMMARY:Buddhist Recovery Group
DESCRIPTION:Our Buddhist Recovery Group meets every Monday evening. For additional information\, visit the 12 Step Sangha page at https://sactoinsight.org/activities/practice-opportunities/12-step-sangha/.
URL:https://sactoinsight.org/event/buddhist-recovery-group-209/
LOCATION:CA
CATEGORIES:Buddhist Recovery Group
ORGANIZER;CN="Tom Hopkins":MAILTO:thopkins415@gmail.com
END:VEVENT
BEGIN:VEVENT
DTSTART;TZID=America/Los_Angeles:20191022T190000
DTEND;TZID=America/Los_Angeles:20191022T210000
DTSTAMP:20260425T072438
CREATED:20191009T214835Z
LAST-MODIFIED:20191009T214835Z
UID:12572-1571770800-1571778000@sactoinsight.org
SUMMARY:Young Persons Sangha
DESCRIPTION:Meeting on the Second and Fourth Tuesday evenings in the SDC Library\, a ​young persons group studying mindfulness and meditation.
URL:https://sactoinsight.org/event/young-persons-sangha-11/
LOCATION:CA
CATEGORIES:Young Person Sangha
ORGANIZER;CN="Idris Ahmed":MAILTO:idris.ahmed54@gmail.com
END:VEVENT
BEGIN:VEVENT
DTSTART;TZID=America/Los_Angeles:20191024T190000
DTEND;TZID=America/Los_Angeles:20191024T211500
DTSTAMP:20260425T072438
CREATED:20190912T225047Z
LAST-MODIFIED:20190912T225047Z
UID:12420-1571943600-1571951700@sactoinsight.org
SUMMARY:Sit & Dharma Talk with Visiting Teacher Heather Sundberg
DESCRIPTION:Talk Topic : TBD\nSit & Dharma Talk with Visiting Teacher Heather Sundberg\nSacramento Insight Meditation events are sustained by the generosity of instructors in offering teachings freely and on the generosity of students and members of the meditative community in the form of financial support\, service and participation in events. With our practice of dana\, we support our Sangha. \nThursday Night Talk Dana\n“Generosity is the virtue that leads to peace.” – The Historical Buddha\nWe recognize that donating by cash or check at the time you attend this Heather Sundberg event may not always be convenient for you. If that’s the case\, please use the form below to donate by credit card or your PayPal account. Enter the amount you’d like to give. \n[give_form id=”4336″ show_title=”false” show_goal=”false” show_content=”none” display_style=”reveal”]
URL:https://sactoinsight.org/event/sit-dharma-talk-visiting-teacher-heather-sundberg-7/
LOCATION:CA
CATEGORIES:Weekly Meditation
END:VEVENT
BEGIN:VEVENT
DTSTART;TZID=America/Los_Angeles:20191028T183000
DTEND;TZID=America/Los_Angeles:20191028T203000
DTSTAMP:20260425T072438
CREATED:20191009T215947Z
LAST-MODIFIED:20191009T215947Z
UID:12580-1572287400-1572294600@sactoinsight.org
SUMMARY:Buddhist Recovery Group
DESCRIPTION:Our Buddhist Recovery Group meets every Monday evening. For additional information\, visit the 12 Step Sangha page at https://sactoinsight.org/activities/practice-opportunities/12-step-sangha/.
URL:https://sactoinsight.org/event/buddhist-recovery-group-210/
LOCATION:CA
CATEGORIES:Buddhist Recovery Group
ORGANIZER;CN="Tom Hopkins":MAILTO:thopkins415@gmail.com
END:VEVENT
BEGIN:VEVENT
DTSTART;TZID=America/Los_Angeles:20191031T190000
DTEND;TZID=America/Los_Angeles:20191031T211500
DTSTAMP:20260425T072438
CREATED:20190912T225302Z
LAST-MODIFIED:20191025T211058Z
UID:12422-1572548400-1572556500@sactoinsight.org
SUMMARY:*Sit & Dharma Talk - Laura Rosenthal - What’s Working?
DESCRIPTION:What’s Working?\nSit & Dharma Talk with SIM Community Member Laura Rosenthal\nBuddhist practice emphasizes attention to the way our mental\, verbal and physical actions lead us into and out of dukkha – sometimes translated as suffering or a sense of unsatisfactoriness. This experiential inquiry into “suffering and the end of suffering” supports us in cultivating wholesome qualities of mind and heart that help us wake up. But often\, in undertaking this inquiry\, we emphasize those actions that lead to suffering. We may overlook the things we are already doing or experiencing that lead away from suffering and toward peace and ease. \nJoin long-term practitioner and SIM participant Laura Rosenthal in a dharma talk and group conversation about “What’s Working.” We will focus on the way aspects of our lives and actions already support our waking up – and on what we can learn from looking at this. To encourage fluid group participation\, this talk will not be recorded. \nSacramento Insight Meditation events are sustained by the generosity of instructors in offering teachings freely and on the generosity of students and members of the meditative community in the form of financial support\, service and participation in events. With our practice of dana\, we support our Sangha.
URL:https://sactoinsight.org/event/sit-dharma-talk-sim-community-member-laura-rosenthal-11/
LOCATION:CA
CATEGORIES:Weekly Meditation
END:VEVENT
END:VCALENDAR