BEGIN:VCALENDAR
VERSION:2.0
PRODID:-//Sacramento Insight Meditation - ECPv6.15.16.1//NONSGML v1.0//EN
CALSCALE:GREGORIAN
METHOD:PUBLISH
X-WR-CALNAME:Sacramento Insight Meditation
X-ORIGINAL-URL:https://sactoinsight.org
X-WR-CALDESC:Events for Sacramento Insight Meditation
REFRESH-INTERVAL;VALUE=DURATION:PT1H
X-Robots-Tag:noindex
X-PUBLISHED-TTL:PT1H
BEGIN:VTIMEZONE
TZID:America/Los_Angeles
BEGIN:DAYLIGHT
TZOFFSETFROM:-0800
TZOFFSETTO:-0700
TZNAME:PDT
DTSTART:20180311T100000
END:DAYLIGHT
BEGIN:STANDARD
TZOFFSETFROM:-0700
TZOFFSETTO:-0800
TZNAME:PST
DTSTART:20181104T090000
END:STANDARD
BEGIN:DAYLIGHT
TZOFFSETFROM:-0800
TZOFFSETTO:-0700
TZNAME:PDT
DTSTART:20190310T100000
END:DAYLIGHT
BEGIN:STANDARD
TZOFFSETFROM:-0700
TZOFFSETTO:-0800
TZNAME:PST
DTSTART:20191103T090000
END:STANDARD
BEGIN:DAYLIGHT
TZOFFSETFROM:-0800
TZOFFSETTO:-0700
TZNAME:PDT
DTSTART:20200308T100000
END:DAYLIGHT
BEGIN:STANDARD
TZOFFSETFROM:-0700
TZOFFSETTO:-0800
TZNAME:PST
DTSTART:20201101T090000
END:STANDARD
END:VTIMEZONE
BEGIN:VEVENT
DTSTART;TZID=America/Los_Angeles:20190901T100000
DTEND;TZID=America/Los_Angeles:20190901T120000
DTSTAMP:20260425T084524
CREATED:20190809T165353Z
LAST-MODIFIED:20190809T165353Z
UID:12177-1567332000-1567339200@sactoinsight.org
SUMMARY:Touching the Earth Service
DESCRIPTION:NEW Touching the Earth Sundays
URL:https://sactoinsight.org/event/touching-earth-service/
LOCATION:CA
CATEGORIES:Climate Sangha
END:VEVENT
BEGIN:VEVENT
DTSTART;TZID=America/Los_Angeles:20190902T183000
DTEND;TZID=America/Los_Angeles:20190902T200000
DTSTAMP:20260425T084524
CREATED:20190609T235343Z
LAST-MODIFIED:20190609T235343Z
UID:11706-1567449000-1567454400@sactoinsight.org
SUMMARY:Buddhist Recovery Group
DESCRIPTION:Our Buddhist Recovery Group meets every Monday evening. For additional information\, visit the 12 Step Sangha page at https://sactoinsight.org/activities/practice-opportunities/12-step-sangha/.
URL:https://sactoinsight.org/event/buddhist-recovery-group-202/
LOCATION:CA
CATEGORIES:Buddhist Recovery Group
END:VEVENT
BEGIN:VEVENT
DTSTART;TZID=America/Los_Angeles:20190905T190000
DTEND;TZID=America/Los_Angeles:20190905T211500
DTSTAMP:20260425T084524
CREATED:20190731T151036Z
LAST-MODIFIED:20190806T150444Z
UID:12076-1567710000-1567718100@sactoinsight.org
SUMMARY:Sit & Dharma Talk with Visiting Teacher Tony Bernhard
DESCRIPTION:Sit & Dharma Talk with Visiting Teacher Tony Bernhard\nThe topic of the talk is to be announced. \nTony Bernhard is a Buddhist chaplain and teacher. He maintains an active practice with inmates in Folsom Prison and hosts sitting groups in Davis. He sits on the board of the Sati Center for Buddhist Studies and teaches regularly around the bay area and central valley. His practice is non-traditional\, guided by his chaplaincy work in prison\, his teaching and by his study of the early Pali scriptures. \nSacramento Insight Meditation events are sustained by the generosity of instructors in offering teachings freely and on the generosity of students and members of the meditative community in the form of financial support\, service and participation in events. With our practice of dana\, we support our Sangha.
URL:https://sactoinsight.org/event/sit-dharma-talk-visiting-teacher-tony-bernhard-4/
LOCATION:CA
CATEGORIES:Weekly Meditation
END:VEVENT
BEGIN:VEVENT
DTSTART;TZID=America/Los_Angeles:20190909T183000
DTEND;TZID=America/Los_Angeles:20190909T200000
DTSTAMP:20260425T084524
CREATED:20190609T235435Z
LAST-MODIFIED:20190731T222522Z
UID:11708-1568053800-1568059200@sactoinsight.org
SUMMARY:Buddhist Recovery Group
DESCRIPTION:Our Buddhist Recovery Group meets every Monday evening. For additional information\, visit the 12 Step Sangha page at https://sactoinsight.org/activities/practice-opportunities/12-step-sangha/.
URL:https://sactoinsight.org/event/buddhist-recovery-group-203/
LOCATION:CA
CATEGORIES:Buddhist Recovery Group
ORGANIZER;CN="Tom Hopkins":MAILTO:thopkins415@gmail.com
END:VEVENT
BEGIN:VEVENT
DTSTART;TZID=America/Los_Angeles:20190910T190000
DTEND;TZID=America/Los_Angeles:20190910T210000
DTSTAMP:20260425T084524
CREATED:20190731T214842Z
LAST-MODIFIED:20190731T214842Z
UID:12098-1568142000-1568149200@sactoinsight.org
SUMMARY:Young Persons Sangha
DESCRIPTION:Meeting on the Second and Fourth Tuesday evenings in the SDC Library\, a ​young persons group studying mindfulness and meditation.
URL:https://sactoinsight.org/event/young-persons-sangha-8/
LOCATION:CA
CATEGORIES:Young Person Sangha
ORGANIZER;CN="Idris Ahmed":MAILTO:idris.ahmed54@gmail.com
END:VEVENT
BEGIN:VEVENT
DTSTART;TZID=America/Los_Angeles:20190912T190000
DTEND;TZID=America/Los_Angeles:20190912T210000
DTSTAMP:20260425T084524
CREATED:20190822T223654Z
LAST-MODIFIED:20190912T221027Z
UID:12275-1568314800-1568322000@sactoinsight.org
SUMMARY:*Sit & Dharma Talk -  Sue Taylor - WISDOM
DESCRIPTION:Talk topic: Wisdom\nSit & Dharma Talk with Visiting Teacher Sue Taylor \nThe talk will be a short “dharmette” on Wisdom (anchored in the paramis). \n \n  \nSue Taylor\, PhD\, MSW\, is a member of the Sacramento Dharma Center Board\, an ordained Theravada Minister\, and an Environmental Chaplain. She is a professor at CSU Sacramento in the Department of Social Work. \nSacramento Insight Meditation events are sustained by the generosity of instructors in offering teachings freely and on the generosity of students and members of the meditative community in the form of financial support\, service and participation in events. With our practice of dana\, we support our Sangha. \nThursday Night Talk Dana\n“Generosity is the virtue that leads to peace.” – The Historical Buddha\nWe recognize that donating by cash or check at the time you attend this event may not always be convenient for you. If that’s the case\, please use the form below to donate by credit card or your PayPal account. Enter the amount you’d like to give and your donation will be shared with this presenter and SIM. \n[give_form id=”11566″ show_title=”false” show_content=”none” display_style=”reveal”]
URL:https://sactoinsight.org/event/dharma-talk-visiting-teacher-sue-taylor/
LOCATION:CA
CATEGORIES:Weekly Meditation
END:VEVENT
BEGIN:VEVENT
DTSTART;TZID=America/Los_Angeles:20190916T183000
DTEND;TZID=America/Los_Angeles:20190916T200000
DTSTAMP:20260425T084524
CREATED:20190731T222741Z
LAST-MODIFIED:20190731T222741Z
UID:12111-1568658600-1568664000@sactoinsight.org
SUMMARY:Buddhist Recovery Group
DESCRIPTION:Our Buddhist Recovery Group meets every Monday evening. For additional information\, visit the 12 Step Sangha page at https://sactoinsight.org/activities/practice-opportunities/12-step-sangha/.
URL:https://sactoinsight.org/event/buddhist-recovery-group-204/
LOCATION:CA
CATEGORIES:Buddhist Recovery Group
ORGANIZER;CN="Tom Hopkins":MAILTO:thopkins415@gmail.com
END:VEVENT
BEGIN:VEVENT
DTSTART;TZID=America/Los_Angeles:20190918T183000
DTEND;TZID=America/Los_Angeles:20190918T200000
DTSTAMP:20260425T084524
CREATED:20190609T235804Z
LAST-MODIFIED:20190609T235804Z
UID:11712-1568831400-1568836800@sactoinsight.org
SUMMARY:Climate Sangha
DESCRIPTION:Meeting the 3rd Wednesday of each month\, the Sacramento Climate Sangha provides dharmic support and a refuge for exploration of our hopes and fears about climate change.
URL:https://sactoinsight.org/event/climate-sangha-31/
LOCATION:CA
CATEGORIES:Climate Sangha,SDC
END:VEVENT
BEGIN:VEVENT
DTSTART;TZID=America/Los_Angeles:20190919T190000
DTEND;TZID=America/Los_Angeles:20190919T211500
DTSTAMP:20260425T084524
CREATED:20190731T221049Z
LAST-MODIFIED:20251216T084808Z
UID:12105-1568919600-1568927700@sactoinsight.org
SUMMARY:*Sit & Dharma Talk - Ayya Santacitta - Feminine Perspectives in Buddhism
DESCRIPTION:Talk topic: Feminine Perspectives in Buddhism\nSit & Dharma Talk with Visiting Monastic Ayya Santacitta\nAYYA SANTACITTA was born in Austria and has a multifaceted background in hotel management\, ethnology and avant-garde dance theater. Her first teacher was Ajahn Buddhadasa\, who sparked her interest in Buddhist monastic life. She has practiced meditation for 30 years and trained as a nun in both the East and West since 1993\, primarily in the lineage of Ajahn Chah. Since 2002 she has also received teachings in the lineage of Dilgo Khyentse Rinpoche. Ayya Santacitta is co-founder of Aloka Vihara Forest Monastery\, where she has resided since 2009 and took Bhikkhuni Ordination in 2011. She is particularly interested in creating sanctuary close to nature\, practicing in community\, and bringing wisdom traditions to the environmental movement.
URL:https://sactoinsight.org/event/sit-dharma-talk-visiting-monastic-ayya-santacitta/
LOCATION:CA
CATEGORIES:Weekly Meditation
END:VEVENT
BEGIN:VEVENT
DTSTART;TZID=America/Los_Angeles:20190923T183000
DTEND;TZID=America/Los_Angeles:20190923T200000
DTSTAMP:20260425T084524
CREATED:20190731T222844Z
LAST-MODIFIED:20190731T222844Z
UID:12113-1569263400-1569268800@sactoinsight.org
SUMMARY:Buddhist Recovery Group
DESCRIPTION:Our Buddhist Recovery Group meets every Monday evening. For additional information\, visit the 12 Step Sangha page at https://sactoinsight.org/activities/practice-opportunities/12-step-sangha/.
URL:https://sactoinsight.org/event/buddhist-recovery-group-205/
LOCATION:CA
CATEGORIES:Buddhist Recovery Group
ORGANIZER;CN="Tom Hopkins":MAILTO:thopkins415@gmail.com
END:VEVENT
BEGIN:VEVENT
DTSTART;TZID=America/Los_Angeles:20190924T190000
DTEND;TZID=America/Los_Angeles:20190924T210000
DTSTAMP:20260425T084524
CREATED:20190731T214945Z
LAST-MODIFIED:20190731T215851Z
UID:12100-1569351600-1569358800@sactoinsight.org
SUMMARY:Young Persons Sangha
DESCRIPTION:Meeting on the Second and Fourth Tuesday evenings in the SDC Library\, a ​young persons group studying mindfulness and meditation.
URL:https://sactoinsight.org/event/young-persons-sangha-9/
LOCATION:CA
CATEGORIES:Young Person Sangha
ORGANIZER;CN="Idris Ahmed":MAILTO:idris.ahmed54@gmail.com
END:VEVENT
BEGIN:VEVENT
DTSTART;TZID=America/Los_Angeles:20190926T190000
DTEND;TZID=America/Los_Angeles:20190926T211500
DTSTAMP:20260425T084524
CREATED:20190609T233505Z
LAST-MODIFIED:20190924T233341Z
UID:11684-1569524400-1569532500@sactoinsight.org
SUMMARY:*Sit & Dharma Talk - Dennis Warren - Essential Role of Context
DESCRIPTION:The Essential Role of Context or Framing in Buddhist Practice\nSit & Dharma Talk with SIM Founding Teacher Dennis Warren \nContext – the set of ideas\, beliefs and principles which guide our understanding of ourselves\, others\, our relationships and how the world works – shapes our experience\, our assessment of our experience and the choices we make. Context\, in very real and tangible ways\, determines how we relate to our experience.\nIn most cases\, we don’t give context a second thought. It is the unseen foundation or groundwork of experience that lies just below our normal perception of events.\nBuddhist practice involves a conscious and determined re-framing of the context we use to experience and relate to events. The elements of this re-framing – the ideas and principles – are significantly different than the psychological and emotional viewpoints that dominate conventional thinking. Some elements are radically different. In Buddhist practice we refer to this re—framing process as the “Cultivation of Right View.”\nDuring this evening we’ll look at several areas of difference in fundamental context or View between conventional and Buddhist viewpoints; and how those differences translate into significant differences in how we relate to and understand experience – particularly suffering and satisfaction.\nPlease try to attend this evening if you plan on attending the one-day retreat Dennis will be leading on Saturday\, September 28th. This evening will lay a helpful foundation for your experience of the one-day retreat. \nSacramento Insight Meditation events are sustained by the generosity of instructors in offering teachings freely and on the generosity of students and members of the meditative community in the form of financial support\, service and participation in events. With our practice of dana\, we support our Sangha. \nThursday Night Talk Dana\n“Generosity is the virtue that leads to peace.” – The Historical Buddha\nWe recognize that donating by cash or check at the time you attend this event may not always be convenient for you. If that’s the case\, please use the form below to donate by credit card or your PayPal account. Enter the amount you’d like to give and your donation will be shared with Dennis Warren and SIM. \n[give_form id=”10310″ show_title=”false” show_content=”none” display_style=”reveal”]
URL:https://sactoinsight.org/event/sit-dharma-talk-sim-founding-teacher-dennis-warren-32/
LOCATION:CA
CATEGORIES:Weekly Meditation
END:VEVENT
BEGIN:VEVENT
DTSTART;TZID=America/Los_Angeles:20190930T183000
DTEND;TZID=America/Los_Angeles:20190930T200000
DTSTAMP:20260425T084524
CREATED:20190731T222940Z
LAST-MODIFIED:20190731T222940Z
UID:12115-1569868200-1569873600@sactoinsight.org
SUMMARY:Buddhist Recovery Group
DESCRIPTION:Our Buddhist Recovery Group meets every Monday evening. For additional information\, visit the 12 Step Sangha page at https://sactoinsight.org/activities/practice-opportunities/12-step-sangha/.
URL:https://sactoinsight.org/event/buddhist-recovery-group-206/
LOCATION:CA
CATEGORIES:Buddhist Recovery Group
ORGANIZER;CN="Tom Hopkins":MAILTO:thopkins415@gmail.com
END:VEVENT
END:VCALENDAR