BEGIN:VCALENDAR
VERSION:2.0
PRODID:-//Sacramento Insight Meditation - ECPv6.15.16.1//NONSGML v1.0//EN
CALSCALE:GREGORIAN
METHOD:PUBLISH
X-WR-CALNAME:Sacramento Insight Meditation
X-ORIGINAL-URL:https://sactoinsight.org
X-WR-CALDESC:Events for Sacramento Insight Meditation
REFRESH-INTERVAL;VALUE=DURATION:PT1H
X-Robots-Tag:noindex
X-PUBLISHED-TTL:PT1H
BEGIN:VTIMEZONE
TZID:America/Los_Angeles
BEGIN:DAYLIGHT
TZOFFSETFROM:-0800
TZOFFSETTO:-0700
TZNAME:PDT
DTSTART:20180311T100000
END:DAYLIGHT
BEGIN:STANDARD
TZOFFSETFROM:-0700
TZOFFSETTO:-0800
TZNAME:PST
DTSTART:20181104T090000
END:STANDARD
BEGIN:DAYLIGHT
TZOFFSETFROM:-0800
TZOFFSETTO:-0700
TZNAME:PDT
DTSTART:20190310T100000
END:DAYLIGHT
BEGIN:STANDARD
TZOFFSETFROM:-0700
TZOFFSETTO:-0800
TZNAME:PST
DTSTART:20191103T090000
END:STANDARD
BEGIN:DAYLIGHT
TZOFFSETFROM:-0800
TZOFFSETTO:-0700
TZNAME:PDT
DTSTART:20200308T100000
END:DAYLIGHT
BEGIN:STANDARD
TZOFFSETFROM:-0700
TZOFFSETTO:-0800
TZNAME:PST
DTSTART:20201101T090000
END:STANDARD
END:VTIMEZONE
BEGIN:VEVENT
DTSTART;TZID=America/Los_Angeles:20190501T080000
DTEND;TZID=America/Los_Angeles:20190501T090000
DTSTAMP:20260425T142721
CREATED:20190409T032857Z
LAST-MODIFIED:20190409T032857Z
UID:10959-1556697600-1556701200@sactoinsight.org
SUMMARY:Morning Meditation
DESCRIPTION:All are welcome to this open sitting for anyone interested in starting their morning out by sitting with others. The session is a 60 minute sitting hosted by a SIM Community Member. There’s a limited amount of meditation guidance\, and a few comments at the end of the sitting to set a theme for moving into the world and your daily activities. daily activities.
URL:https://sactoinsight.org/event/morning-meditation-33/
LOCATION:CA
CATEGORIES:Weekly Meditation
END:VEVENT
BEGIN:VEVENT
DTSTART;TZID=America/Los_Angeles:20190502T190000
DTEND;TZID=America/Los_Angeles:20190502T211500
DTSTAMP:20260425T142721
CREATED:20190406T041814Z
LAST-MODIFIED:20190502T143741Z
UID:10892-1556823600-1556831700@sactoinsight.org
SUMMARY:*Sit & Dharma Talk - Dennis Warren - Difficult\, Problematic\, Obsessive Thinking
DESCRIPTION:Difficult\, Problematic and Obsessive Thinking – Part II\nSit & Dharma Talk with SIM Founding Teacher Dennis Warren \nThis will be the second talk\, in a series of two\, on working with difficult\, problematic and obsessive thinking. A four page handout accompanied Dennis’ first talk on this topic on March 7th. It would be helpful to review that handout. It would also be helpful to try the strategy for working with thought as well as the exercise on Thought and Listening\, contained in the handout\, in preparation for this evening.\nThe discussion this evening will look at the differences between working with thought during meditation and working with thought during daily lives. These are two different approaches.\nFor example\, the traditional instruction is to “not go into the content of thought” during meditation. Is that the whole instruction? Doesn’t the Insight Meditation process involve some form of evaluation of thought while one is meditating? How does this basic meditation instruction apply to thought in daily life?\nAmong other thing\, the evening will explore the five strategies the historical Buddha recommended for dealing with difficult\, problematic and/or obsessive thoughts that distract us for seeing into their implications or true nature of being either harmful or unhealthy nature.\n(Note: This talk will not cover the same materials present in the talk on the “Two Types of Thinking” presented earlier this month on April 18 by Community Teacher Diane Wilde.) \nSacramento Insight Meditation events are sustained by the generosity of instructors in offering teachings freely and on the generosity of students and members of the meditative community in the form of financial support\, service and participation in events. With our practice of dana\, we support our Sangha. \nThursday Night Talk Dana\n“Generosity is the virtue that leads to peace.” – The Historical Buddha\nWe recognize that donating by cash or check at the time you attend this event may not always be convenient for you. If that’s the case\, please use the form below to donate by credit card or your PayPal account. Enter the amount you’d like to give and your donation will be shared with Dennis Warren and SIM. \n[give_form id=”10310″ show_title=”false” show_content=”none” display_style=”reveal”]
URL:https://sactoinsight.org/event/sit-dharma-talk-sim-founding-teacher-dennis-warren-29/
LOCATION:CA
CATEGORIES:Weekly Meditation
END:VEVENT
BEGIN:VEVENT
DTSTART;TZID=America/Los_Angeles:20190506T183000
DTEND;TZID=America/Los_Angeles:20190506T200000
DTSTAMP:20260425T142721
CREATED:20190406T045505Z
LAST-MODIFIED:20190406T045505Z
UID:10922-1557167400-1557172800@sactoinsight.org
SUMMARY:Buddhist Recovery Group
DESCRIPTION:Our Buddhist Recovery Group meets every Monday evening. For additional information\, visit the 12 Step Sangha page at https://sactoinsight.org/activities/practice-opportunities/12-step-sangha/
URL:https://sactoinsight.org/event/buddhist-recovery-group-185/
LOCATION:CA
CATEGORIES:Buddhist Recovery Group
END:VEVENT
BEGIN:VEVENT
DTSTART;TZID=America/Los_Angeles:20190508T080000
DTEND;TZID=America/Los_Angeles:20190508T090000
DTSTAMP:20260425T142721
CREATED:20190409T033016Z
LAST-MODIFIED:20190409T033016Z
UID:10961-1557302400-1557306000@sactoinsight.org
SUMMARY:Morning Meditation
DESCRIPTION:All are welcome to this open sitting for anyone interested in starting their morning out by sitting with others. The session is a 60 minute sitting hosted by a SIM Community Member. There’s a limited amount of meditation guidance\, and a few comments at the end of the sitting to set a theme for moving into the world and your daily activities. daily activities.
URL:https://sactoinsight.org/event/morning-meditation-34/
LOCATION:CA
CATEGORIES:Weekly Meditation
END:VEVENT
BEGIN:VEVENT
DTSTART;TZID=America/Los_Angeles:20190509T190000
DTEND;TZID=America/Los_Angeles:20190509T211500
DTSTAMP:20260425T142721
CREATED:20190406T042133Z
LAST-MODIFIED:20190406T042133Z
UID:10894-1557428400-1557436500@sactoinsight.org
SUMMARY:Sit & Dharma Talk with Visiting Teacher Tony Bernhard
DESCRIPTION:Sit & Dharma Talk with Visiting Teacher Tony Bernhard\nThe topic of the talk is to be announced. \nTony Bernhard is a graduate of Spirit Rock’s first Community Dharma Leadership training program\, and the Sati Center’s Chaplaincy program. He is also a Sati Center board member. Along with being the founder/ teacher at Davis Middle Path\, he offers his unique perspective on the Dharma throughout Northern California. \nSacramento Insight Meditation events are sustained by the generosity of instructors in offering teachings freely and on the generosity of students and members of the meditative community in the form of financial support\, service and participation in events. With our practice of dana\, we support our Sangha.
URL:https://sactoinsight.org/event/sit-dharma-talk-visiting-teacher-tony-bernhard-2/
LOCATION:CA
CATEGORIES:Weekly Meditation
END:VEVENT
BEGIN:VEVENT
DTSTART;TZID=America/Los_Angeles:20190513T183000
DTEND;TZID=America/Los_Angeles:20190513T200000
DTSTAMP:20260425T142721
CREATED:20190504T051055Z
LAST-MODIFIED:20190504T051055Z
UID:11326-1557772200-1557777600@sactoinsight.org
SUMMARY:Buddhist Recovery Group
DESCRIPTION:Our Buddhist Recovery Group meets every Monday evening. For additional information\, visit the 12 Step Sangha page at https://sactoinsight.org/activities/practice-opportunities/12-step-sangha/
URL:https://sactoinsight.org/event/buddhist-recovery-group-186/
LOCATION:CA
CATEGORIES:Buddhist Recovery Group
END:VEVENT
BEGIN:VEVENT
DTSTART;TZID=America/Los_Angeles:20190515T080000
DTEND;TZID=America/Los_Angeles:20190515T090000
DTSTAMP:20260425T142721
CREATED:20190409T033120Z
LAST-MODIFIED:20190409T033251Z
UID:10965-1557907200-1557910800@sactoinsight.org
SUMMARY:Morning Meditation
DESCRIPTION:All are welcome to this open sitting for anyone interested in starting their morning out by sitting with others. The session is a 60 minute sitting hosted by a SIM Community Member. There’s a limited amount of meditation guidance\, and a few comments at the end of the sitting to set a theme for moving into the world and your daily activities. daily activities.
URL:https://sactoinsight.org/event/morning-meditation-35/
LOCATION:CA
CATEGORIES:Weekly Meditation
END:VEVENT
BEGIN:VEVENT
DTSTART;TZID=America/Los_Angeles:20190515T183000
DTEND;TZID=America/Los_Angeles:20190515T200000
DTSTAMP:20260425T142721
CREATED:20190406T043455Z
LAST-MODIFIED:20190406T043455Z
UID:10898-1557945000-1557950400@sactoinsight.org
SUMMARY:Climate Sangha
DESCRIPTION:Meeting the 3rd Wednesday of each month\, the Sacramento Climate Sangha provides dharmic support and a refuge for exploration of our hopes and fears about climate change.
URL:https://sactoinsight.org/event/climate-sangha-27/
LOCATION:CA
CATEGORIES:Climate Sangha,SDC
END:VEVENT
BEGIN:VEVENT
DTSTART;TZID=America/Los_Angeles:20190516T190000
DTEND;TZID=America/Los_Angeles:20190516T210000
DTSTAMP:20260425T142721
CREATED:20190406T040908Z
LAST-MODIFIED:20190506T194724Z
UID:10886-1558033200-1558040400@sactoinsight.org
SUMMARY:*Sit & Dharma Talk - Diane Wilde - Vesak and looking at Nibbana
DESCRIPTION:Vesak… and looking at “Nibbana”\nSit & Dharma Talk with SIM Community Teacher Diane Wilde\n  \nThe most important holiday in the Buddhist calendar is Vesak. This year for many Buddhists Vesak is celebrated on Sunday\, May 19. It celebrates the important events in the Buddha’s life… his birth\, enlightenment and reaching a final state of no suffering… paranibbana. \nEnlightenment or Nibbana has a host of definitions\, mostly consisting of what it isn’t. The Buddha never explicitly said what it is\, or for that matter\, even exactly “who” gets enlightened. Due to the inability to speak about “Nibbana\, the“goal” of eliminating suffering is either impossibly vague or has disappeared entirely from view. \nWhat Western Buddhists are left with is the “path” and perfecting the path now appears to be the goal rather than actual enlightenment. Why is that? Is Nibbana the same in 2019 as 2\,600 years ago when the world was so radically different? We’ll investigate the traditional attempts at explaining Nibbana and also some new ideas emanating from the challenges of our times. \n  \nSacramento Insight Meditation events are sustained by the generosity of instructors in offering teachings freely and on the generosity of students and members of the meditative community in the form of financial support\, service and participation in events. With our practice of dana\, we support our Sangha. \nThursday Night Talk Dana\n“Generosity is the virtue that leads to peace.” – The Historical Buddha\nWe recognize that donating by cash or check at the time you attend this event may not always be convenient for you. If that’s the case\, please use the form below to donate by credit card or your PayPal account. Enter the amount you’d like to give and your donation will be shared with Rev. Diane Wilde and SIM. \n[give_form id=”9758″ show_title=”false” show_content=”none” display_style=”reveal”]
URL:https://sactoinsight.org/event/sit-dharma-talk-sim-community-teacher-diane-wilde-6/
LOCATION:CA
CATEGORIES:Weekly Meditation
END:VEVENT
BEGIN:VEVENT
DTSTART;TZID=America/Los_Angeles:20190520T183000
DTEND;TZID=America/Los_Angeles:20190520T200000
DTSTAMP:20260425T142721
CREATED:20190504T051327Z
LAST-MODIFIED:20190504T051327Z
UID:11328-1558377000-1558382400@sactoinsight.org
SUMMARY:Buddhist Recovery Group
DESCRIPTION:Our Buddhist Recovery Group meets every Monday evening. For additional information\, visit the 12 Step Sangha page at https://sactoinsight.org/activities/practice-opportunities/12-step-sangha/.
URL:https://sactoinsight.org/event/buddhist-recovery-group-187/
LOCATION:CA
CATEGORIES:Buddhist Recovery Group
END:VEVENT
BEGIN:VEVENT
DTSTART;TZID=America/Los_Angeles:20190522T080000
DTEND;TZID=America/Los_Angeles:20190522T090000
DTSTAMP:20260425T142721
CREATED:20190409T033353Z
LAST-MODIFIED:20190409T033353Z
UID:10967-1558512000-1558515600@sactoinsight.org
SUMMARY:Morning Meditation
DESCRIPTION:All are welcome to this open sitting for anyone interested in starting their morning out by sitting with others. The session is a 60 minute sitting hosted by a SIM Community Member. There’s a limited amount of meditation guidance\, and a few comments at the end of the sitting to set a theme for moving into the world and your daily activities. daily activities.
URL:https://sactoinsight.org/event/morning-meditation-36/
LOCATION:CA
CATEGORIES:Weekly Meditation
END:VEVENT
BEGIN:VEVENT
DTSTART;TZID=America/Los_Angeles:20190523T190000
DTEND;TZID=America/Los_Angeles:20190523T211500
DTSTAMP:20260425T142721
CREATED:20190406T044820Z
LAST-MODIFIED:20190523T142308Z
UID:10907-1558638000-1558646100@sactoinsight.org
SUMMARY:*Sit & Dharma Talk - Laura Rosenthal - Buddhist Ethical Precepts
DESCRIPTION:The Buddhist Ethical Precepts – Are They Really Not Commandments?\nSit & Dharma Talk with SIM Community Member Laura Rosenthal\nSacramento Insight Meditation events are sustained by the generosity of instructors in offering teachings freely and on the generosity of students and members of the meditative community in the form of financial support\, service and participation in events. With our practice of dana\, we support our Sangha.
URL:https://sactoinsight.org/event/sit-dharma-talk-sim-community-member-laura-rosenthal-9/
LOCATION:CA
CATEGORIES:Weekly Meditation
END:VEVENT
BEGIN:VEVENT
DTSTART;TZID=America/Los_Angeles:20190527T183000
DTEND;TZID=America/Los_Angeles:20190527T200000
DTSTAMP:20260425T142721
CREATED:20190504T051430Z
LAST-MODIFIED:20190504T051430Z
UID:11330-1558981800-1558987200@sactoinsight.org
SUMMARY:Buddhist Recovery Group
DESCRIPTION:Our Buddhist Recovery Group meets every Monday evening. For additional information\, visit the 12 Step Sangha page at https://sactoinsight.org/activities/practice-opportunities/12-step-sangha/.
URL:https://sactoinsight.org/event/buddhist-recovery-group-188/
LOCATION:CA
CATEGORIES:Buddhist Recovery Group
END:VEVENT
BEGIN:VEVENT
DTSTART;TZID=America/Los_Angeles:20190529T080000
DTEND;TZID=America/Los_Angeles:20190529T090000
DTSTAMP:20260425T142721
CREATED:20190409T033455Z
LAST-MODIFIED:20190409T033455Z
UID:10969-1559116800-1559120400@sactoinsight.org
SUMMARY:Morning Meditation
DESCRIPTION:All are welcome to this open sitting for anyone interested in starting their morning out by sitting with others. The session is a 60 minute sitting hosted by a SIM Community Member. There’s a limited amount of meditation guidance\, and a few comments at the end of the sitting to set a theme for moving into the world and your daily activities. daily activities.
URL:https://sactoinsight.org/event/morning-meditation-37/
LOCATION:CA
CATEGORIES:Weekly Meditation
END:VEVENT
BEGIN:VEVENT
DTSTART;TZID=America/Los_Angeles:20190530T190000
DTEND;TZID=America/Los_Angeles:20190530T211500
DTSTAMP:20260425T142721
CREATED:20190406T044203Z
LAST-MODIFIED:20190604T151946Z
UID:10905-1559242800-1559250900@sactoinsight.org
SUMMARY:*Sit & Dharma Talk - Sue Taylor - The Paramitas as a Path...
DESCRIPTION:The Paramitas as a path to awakening in daily life\nSit & Dharma Talk with Visiting Teacher Sue Taylor \nThe paramitas offer us a practice path that helps us identify what Thanissaro Bhikku refers to as the “priorities” of awakening. This reflective investigation is often referred to as a Bodhisattva path. Its focus is on ten elements: generosity\, virtue/morality\, renunciation\, discernment/wisdom\, energy\, patience\, persistence\, truthfulness\, determination\, and good will. Using the paramitas as teachings for both a beginning journey and the culmination of an end of life reflection\, they allow those new to Buddhist practice\, as well as those who have aged with the teachings\, a common framework for the exploration of a fully embraced life. \n\nTalk Handout: A list of Readings\, Audio courses\, video courses (.pdf)\n\n \n  \nSue Taylor\, PhD\, MSW\, is a member of the Sacramento Dharma Center Board\, an ordained Theravada Minister\, and an Environmental Chaplain. She is a professor at CSU Sacramento in the Department of Social Work. \nSacramento Insight Meditation events are sustained by the generosity of instructors in offering teachings freely and on the generosity of students and members of the meditative community in the form of financial support\, service and participation in events. With our practice of dana\, we support our Sangha. \nThursday Night Talk Dana\n“Generosity is the virtue that leads to peace.” – The Historical Buddha\nWe recognize that donating by cash or check at the time you attend this event may not always be convenient for you. If that’s the case\, please use the form below to donate by credit card or your PayPal account. Enter the amount you’d like to give and your donation will be shared with this presenter and SIM. \n[give_form id=”11566″ show_title=”false” show_content=”none” display_style=”reveal”]
URL:https://sactoinsight.org/event/sit-dharma-talk-visiting-teacher-sue-taylor-3/
LOCATION:CA
CATEGORIES:Weekly Meditation
END:VEVENT
END:VCALENDAR