BEGIN:VCALENDAR
VERSION:2.0
PRODID:-//Sacramento Insight Meditation - ECPv6.15.16.1//NONSGML v1.0//EN
CALSCALE:GREGORIAN
METHOD:PUBLISH
X-WR-CALNAME:Sacramento Insight Meditation
X-ORIGINAL-URL:https://sactoinsight.org
X-WR-CALDESC:Events for Sacramento Insight Meditation
REFRESH-INTERVAL;VALUE=DURATION:PT1H
X-Robots-Tag:noindex
X-PUBLISHED-TTL:PT1H
BEGIN:VTIMEZONE
TZID:America/Los_Angeles
BEGIN:DAYLIGHT
TZOFFSETFROM:-0800
TZOFFSETTO:-0700
TZNAME:PDT
DTSTART:20180311T100000
END:DAYLIGHT
BEGIN:STANDARD
TZOFFSETFROM:-0700
TZOFFSETTO:-0800
TZNAME:PST
DTSTART:20181104T090000
END:STANDARD
BEGIN:DAYLIGHT
TZOFFSETFROM:-0800
TZOFFSETTO:-0700
TZNAME:PDT
DTSTART:20190310T100000
END:DAYLIGHT
BEGIN:STANDARD
TZOFFSETFROM:-0700
TZOFFSETTO:-0800
TZNAME:PST
DTSTART:20191103T090000
END:STANDARD
BEGIN:DAYLIGHT
TZOFFSETFROM:-0800
TZOFFSETTO:-0700
TZNAME:PDT
DTSTART:20200308T100000
END:DAYLIGHT
BEGIN:STANDARD
TZOFFSETFROM:-0700
TZOFFSETTO:-0800
TZNAME:PST
DTSTART:20201101T090000
END:STANDARD
END:VTIMEZONE
BEGIN:VEVENT
DTSTART;TZID=America/Los_Angeles:20190304T183000
DTEND;TZID=America/Los_Angeles:20190304T200000
DTSTAMP:20260425T171759
CREATED:20190109T044643Z
LAST-MODIFIED:20190109T044643Z
UID:10077-1551724200-1551729600@sactoinsight.org
SUMMARY:Buddhist Recovery Group
DESCRIPTION:Our Buddhist Recovery Group meets every Monday evening. For additional information\, visit the 12 Step Sangha page at https://sactoinsight.org/activities/practice-opportunities/12-step-sangha/
URL:https://sactoinsight.org/event/buddhist-recovery-group-176/
LOCATION:CA
CATEGORIES:Buddhist Recovery Group
ORGANIZER;CN="Tom Hopkins":MAILTO:thopkins415@gmail.com
END:VEVENT
BEGIN:VEVENT
DTSTART;TZID=America/Los_Angeles:20190306T080000
DTEND;TZID=America/Los_Angeles:20190306T090000
DTSTAMP:20260425T171759
CREATED:20181230T211204Z
LAST-MODIFIED:20190129T211805Z
UID:9976-1551859200-1551862800@sactoinsight.org
SUMMARY:Morning Meditation
DESCRIPTION:All are welcome to this open sitting for anyone interested in starting their morning out by sitting with others. The session is a 60 minute sitting hosted by a SIM Community Member. There’s a limited amount of meditation guidance\, and a few comments at the end of the sitting to set a theme for moving into the world and your daily activities. daily activities.
URL:https://sactoinsight.org/event/morning-meditation-25/
LOCATION:CA
CATEGORIES:Weekly Meditation
END:VEVENT
BEGIN:VEVENT
DTSTART;TZID=America/Los_Angeles:20190307T190000
DTEND;TZID=America/Los_Angeles:20190307T211500
DTSTAMP:20260425T171759
CREATED:20181204T042444Z
LAST-MODIFIED:20190220T034023Z
UID:9659-1551985200-1551993300@sactoinsight.org
SUMMARY:*Sit & Dharma Talk - Dennis Warren - Working with Difficult Thinking
DESCRIPTION:The Important Things To Know In Working With Difficult\, Problematic and Obsessive Thinking.\nSit & Dharma Talk with SIM Founding Teacher Dennis Warren \nWe all know that our minds have “a mind of their own.” It’s not uncommon to find ourselves in situations where we can’t stop thinking about things we don’t want to think about. Or we can’t think the way we want to think in dealing with highly emotional or pressurized issues. Thinking can be difficult\, problematic\, obsessive…and more. It plays a major role in nearly every\, if not every\, intra-personal\, interpersonal and existential question\, delima and dysfunction.\nThis evening will examine what’s important to know in working with thinking. What do we do when we are faced with a mind that seems out of control? How do we deal with thinking that just won’t stop? How do we develop the ability to think clearly and productively when we want to? What are the underlying principles that will help us understanding our thinking patterns and what to do about them?\nThere are basic approaches that will apply to all these topics whether your particular mind’s approach to “thinking” is based primarily on logic\, kinesthetic or body based\, through imagery or emotion\, or one of the other ways the mind processes information\, relates to experience and makes decisions.\nIn preparation for this evening\, please consider the following basic questions: \n\nWhat is “thinking” based on the teachings of the historical Buddha?\nWhat is “thinking” from a meditative and practice perspective?\n\nThis will be an interesting\, fun and\, ultimately\, practical evening. Everyone is welcome. \nSacramento Insight Meditation events are sustained by the generosity of instructors in offering teachings freely and on the generosity of students and members of the meditative community in the form of financial support\, service and participation in events. With our practice of dana\, we support our Sangha. \nThursday Night Talk Dana\n“Generosity is the virtue that leads to peace.” – The Historical Buddha\nWe recognize that donating by cash or check at the time you attend this event may not always be convenient for you. If that’s the case\, please use the form below to donate by credit card or your PayPal account. Enter the amount you’d like to give and your donation will be shared with Dennis Warren and SIM. \n[give_form id=”10310″ show_title=”false” show_content=”none” display_style=”reveal”]
URL:https://sactoinsight.org/event/sit-dharma-talk-sim-founding-teacher-dennis-warren-28/
LOCATION:CA
CATEGORIES:Weekly Meditation
END:VEVENT
BEGIN:VEVENT
DTSTART;TZID=America/Los_Angeles:20190311T183000
DTEND;TZID=America/Los_Angeles:20190311T200000
DTSTAMP:20260425T171759
CREATED:20190109T044810Z
LAST-MODIFIED:20190109T044810Z
UID:10079-1552329000-1552334400@sactoinsight.org
SUMMARY:Buddhist Recovery Group
DESCRIPTION:Our Buddhist Recovery Group meets every Monday evening. For additional information\, visit the 12 Step Sangha page at https://sactoinsight.org/activities/practice-opportunities/12-step-sangha/
URL:https://sactoinsight.org/event/buddhist-recovery-group-177/
LOCATION:CA
CATEGORIES:Buddhist Recovery Group
ORGANIZER;CN="Tom Hopkins":MAILTO:thopkins415@gmail.com
END:VEVENT
BEGIN:VEVENT
DTSTART;TZID=America/Los_Angeles:20190313T080000
DTEND;TZID=America/Los_Angeles:20190313T090000
DTSTAMP:20260425T171759
CREATED:20181230T211315Z
LAST-MODIFIED:20190129T211842Z
UID:9978-1552464000-1552467600@sactoinsight.org
SUMMARY:Morning Meditation
DESCRIPTION:All are welcome to this open sitting for anyone interested in starting their morning out by sitting with others. The session is a 60 minute sitting hosted by a SIM Community Member. There’s a limited amount of meditation guidance\, and a few comments at the end of the sitting to set a theme for moving into the world and your daily activities. daily activities.
URL:https://sactoinsight.org/event/morning-meditation-26/
LOCATION:CA
CATEGORIES:Weekly Meditation
END:VEVENT
BEGIN:VEVENT
DTSTART;TZID=America/Los_Angeles:20190314T190000
DTEND;TZID=America/Los_Angeles:20190314T211500
DTSTAMP:20260425T171759
CREATED:20190109T045631Z
LAST-MODIFIED:20190308T192708Z
UID:10087-1552590000-1552598100@sactoinsight.org
SUMMARY:*Sit & Dharma Talk - Rich Howard - Patience: Antidote and Perfection
DESCRIPTION:Patience: Antidote and Perfection\nSit & Dharma Talk with SIM Community Teacher Rich Howard\nBuilding on SIM Community Teacher Rich Howard’s talk on anger last month\, this evening’s presentation will explore the Buddhist view of patience. In his recent book “Perfecting Patience: Buddhist Techniques to Overcome Anger\,” the Dalai Lama writes\, “The only factor that can give refuge or protection from the destructive effects of anger and hatred is the practice of tolerance and patience.” So\, first we will look at this function of patience as an antidote. \nWe will then look at patience as one of the Paramis\, qualities we need to cultivate and develop to be truly free. The Historical Buddha called Patience the highest virtue\, so we will look into this important but seldom appreciated mind state. This will also be a good opportunity to inquire into the linked practices of refraining from harmful activities and cultivating healthy ones.\nRich will be available for discussion at the community potluck preceding this presentation. \nSacramento Insight Meditation events are sustained by the generosity of instructors in offering teachings freely and on the generosity of students and members of the meditative community in the form of financial support\, service and participation in events. With our practice of dana\, we support our Sangha. \nThursday Night Talk Dana\n“Generosity is the virtue that leads to peace.” – The Historical Buddha\nWe recognize that donating by cash or check at the time you attend this event may not always be convenient for you. If that’s the case\, please use the form below to donate by credit card or your PayPal account. Enter the amount you’d like to give and your donation will be shared with Rich Howard and SIM. \n[give_form id=”10304″ show_title=”false” show_content=”none” display_style=”reveal”]
URL:https://sactoinsight.org/event/sit-dharma-talk-sim-community-teacher-rich-howard-4/
LOCATION:CA
CATEGORIES:Weekly Meditation
END:VEVENT
BEGIN:VEVENT
DTSTART;TZID=America/Los_Angeles:20190318T183000
DTEND;TZID=America/Los_Angeles:20190318T200000
DTSTAMP:20260425T171759
CREATED:20190109T044932Z
LAST-MODIFIED:20190109T044932Z
UID:10081-1552933800-1552939200@sactoinsight.org
SUMMARY:Buddhist Recovery Group
DESCRIPTION:Our Buddhist Recovery Group meets every Monday evening. For additional information\, visit the 12 Step Sangha page at https://sactoinsight.org/activities/practice-opportunities/12-step-sangha/
URL:https://sactoinsight.org/event/buddhist-recovery-group-178/
LOCATION:CA
CATEGORIES:Buddhist Recovery Group
ORGANIZER;CN="Tom Hopkins":MAILTO:thopkins415@gmail.com
END:VEVENT
BEGIN:VEVENT
DTSTART;TZID=America/Los_Angeles:20190320T080000
DTEND;TZID=America/Los_Angeles:20190320T090000
DTSTAMP:20260425T171759
CREATED:20190409T032152Z
LAST-MODIFIED:20190409T032152Z
UID:10947-1553068800-1553072400@sactoinsight.org
SUMMARY:Morning Meditation
DESCRIPTION:All are welcome to this open sitting for anyone interested in starting their morning out by sitting with others. The session is a 60 minute sitting hosted by a SIM Community Member. There’s a limited amount of meditation guidance\, and a few comments at the end of the sitting to set a theme for moving into the world and your daily activities. daily activities.
URL:https://sactoinsight.org/event/morning-meditation-27/
LOCATION:CA
CATEGORIES:Weekly Meditation
END:VEVENT
BEGIN:VEVENT
DTSTART;TZID=America/Los_Angeles:20190320T190000
DTEND;TZID=America/Los_Angeles:20190320T210000
DTSTAMP:20260425T171759
CREATED:20190112T004835Z
LAST-MODIFIED:20190128T072303Z
UID:10127-1553108400-1553115600@sactoinsight.org
SUMMARY:Climate Sangha
DESCRIPTION:Meeting the 3rd Wednesday of each month\, the Sacramento Climate Sangha provides dharmic support and a refuge for exploration of our hopes and fears about climate change.
URL:https://sactoinsight.org/event/climate-sangha-25/
LOCATION:CA
CATEGORIES:Climate Sangha,SDC
END:VEVENT
BEGIN:VEVENT
DTSTART;TZID=America/Los_Angeles:20190321T190000
DTEND;TZID=America/Los_Angeles:20190321T210000
DTSTAMP:20260425T171759
CREATED:20190109T045913Z
LAST-MODIFIED:20190312T201343Z
UID:10090-1553194800-1553202000@sactoinsight.org
SUMMARY:*Sit & Dharma Talk - Diane Wilde - Communicating with the “Other”
DESCRIPTION:Communicating with the “Other”\nSit & Dharma Talk with SIM Community Teacher Diane Wilde\nOur polarized society has caused many of us to not only avoid speaking to those who don’t share our political\, spiritual or cultural views\, but to avoid them altogether. Social scientists state that the animosity towards the “other” is as extreme as it was in the 60s and 70s during the Vietnam war. And yet\, it has never been as critical to speak about the perilous issues that effect everyone. Speaking to each other is a task we all must undertake because we now have no choice. Avoidance has been creating its own downward trajectory… the climate crisis worsens\, and political polarity has resulted in societal paralysis. \nTonight we will discuss steps we might consider taking in communicating with the “other.” The Buddha offered advise in many suttas\, and contemporary social scientists have weighed in on how to begin a conversation eliminating rigidly held dogma or self-righteous anger. \nSacramento Insight Meditation events are sustained by the generosity of instructors in offering teachings freely and on the generosity of students and members of the meditative community in the form of financial support\, service and participation in events. With our practice of dana\, we support our Sangha. \nThursday Night Talk Dana\n“Generosity is the virtue that leads to peace.” – The Historical Buddha\nWe recognize that donating by cash or check at the time you attend this event may not always be convenient for you. If that’s the case\, please use the form below to donate by credit card or your PayPal account. Enter the amount you’d like to give and your donation will be shared with Rev. Diane Wilde and SIM. \n[give_form id=”9758″ show_title=”false” show_content=”none” display_style=”reveal”]
URL:https://sactoinsight.org/event/sit-dharma-talk-sim-community-teacher-diane-wilde-4/
LOCATION:CA
CATEGORIES:Weekly Meditation
END:VEVENT
BEGIN:VEVENT
DTSTART;TZID=America/Los_Angeles:20190325T183000
DTEND;TZID=America/Los_Angeles:20190325T200000
DTSTAMP:20260425T171759
CREATED:20190109T045041Z
LAST-MODIFIED:20190109T045041Z
UID:10083-1553538600-1553544000@sactoinsight.org
SUMMARY:Buddhist Recovery Group
DESCRIPTION:Our Buddhist Recovery Group meets every Monday evening. For additional information\, visit the 12 Step Sangha page at https://sactoinsight.org/activities/practice-opportunities/12-step-sangha/
URL:https://sactoinsight.org/event/buddhist-recovery-group-179/
LOCATION:CA
CATEGORIES:Buddhist Recovery Group
ORGANIZER;CN="Tom Hopkins":MAILTO:thopkins415@gmail.com
END:VEVENT
BEGIN:VEVENT
DTSTART;TZID=America/Los_Angeles:20190327T080000
DTEND;TZID=America/Los_Angeles:20190327T090000
DTSTAMP:20260425T171759
CREATED:20190409T032239Z
LAST-MODIFIED:20190409T032239Z
UID:10949-1553673600-1553677200@sactoinsight.org
SUMMARY:Morning Meditation
DESCRIPTION:All are welcome to this open sitting for anyone interested in starting their morning out by sitting with others. The session is a 60 minute sitting hosted by a SIM Community Member. There’s a limited amount of meditation guidance\, and a few comments at the end of the sitting to set a theme for moving into the world and your daily activities. daily activities.
URL:https://sactoinsight.org/event/morning-meditation-28/
LOCATION:CA
CATEGORIES:Weekly Meditation
END:VEVENT
BEGIN:VEVENT
DTSTART;TZID=America/Los_Angeles:20190328T190000
DTEND;TZID=America/Los_Angeles:20190328T211500
DTSTAMP:20260425T171759
CREATED:20190123T005834Z
LAST-MODIFIED:20190123T010104Z
UID:10186-1553799600-1553807700@sactoinsight.org
SUMMARY:*Sit & Dharma Talk - Vance Pryor - Cultivating Awareness and Wisdom
DESCRIPTION:Cultivating Awareness and Wisdom\nSit & Dharma Talk with Vance Pryor \nVANCE PRYOR\, PsyD\, began insight meditation in 1998. He has been deeply influenced by the teachings of Sayadaw U Pandita and Sayadaw U Tejaniya. His training to become a teacher has been supported by the mentorship of Steve Armstrong and Kamala Masters. He is currently participating in IMS’s 2017-2021 Teacher Training Program. \nSacramento Insight Meditation events are sustained by the generosity of instructors in offering teachings freely and on the generosity of students and members of the meditative community in the form of financial support\, service and participation in events. With our practice of dana\, we support our Sangha.
URL:https://sactoinsight.org/event/sit-dharma-talk-vance-pryor-cultivating-awareness-wisdom/
LOCATION:CA
CATEGORIES:Weekly Meditation
END:VEVENT
END:VCALENDAR