BEGIN:VCALENDAR
VERSION:2.0
PRODID:-//Sacramento Insight Meditation - ECPv6.15.16.1//NONSGML v1.0//EN
CALSCALE:GREGORIAN
METHOD:PUBLISH
X-WR-CALNAME:Sacramento Insight Meditation
X-ORIGINAL-URL:https://sactoinsight.org
X-WR-CALDESC:Events for Sacramento Insight Meditation
REFRESH-INTERVAL;VALUE=DURATION:PT1H
X-Robots-Tag:noindex
X-PUBLISHED-TTL:PT1H
BEGIN:VTIMEZONE
TZID:America/Los_Angeles
BEGIN:DAYLIGHT
TZOFFSETFROM:-0800
TZOFFSETTO:-0700
TZNAME:PDT
DTSTART:20180311T100000
END:DAYLIGHT
BEGIN:STANDARD
TZOFFSETFROM:-0700
TZOFFSETTO:-0800
TZNAME:PST
DTSTART:20181104T090000
END:STANDARD
BEGIN:DAYLIGHT
TZOFFSETFROM:-0800
TZOFFSETTO:-0700
TZNAME:PDT
DTSTART:20190310T100000
END:DAYLIGHT
BEGIN:STANDARD
TZOFFSETFROM:-0700
TZOFFSETTO:-0800
TZNAME:PST
DTSTART:20191103T090000
END:STANDARD
BEGIN:DAYLIGHT
TZOFFSETFROM:-0800
TZOFFSETTO:-0700
TZNAME:PDT
DTSTART:20200308T100000
END:DAYLIGHT
BEGIN:STANDARD
TZOFFSETFROM:-0700
TZOFFSETTO:-0800
TZNAME:PST
DTSTART:20201101T090000
END:STANDARD
END:VTIMEZONE
BEGIN:VEVENT
DTSTART;TZID=America/Los_Angeles:20191001T190000
DTEND;TZID=America/Los_Angeles:20191001T210000
DTSTAMP:20260421T033957
CREATED:20190429T170455Z
LAST-MODIFIED:20190429T170455Z
UID:11241-1569956400-1569963600@sactoinsight.org
SUMMARY:Beginning Meditation Class (3 of 6)
DESCRIPTION:This class is part of a six week meditation course offered twice a year. You must pre-register to the course before attending this class. For course details\, click here. If you are a course participant and would like to make a donation online\, click here.
URL:https://sactoinsight.org/event/beginning-meditation-class-3-6-4/
LOCATION:CA
CATEGORIES:Meditation Course
END:VEVENT
BEGIN:VEVENT
DTSTART;TZID=America/Los_Angeles:20191008T190000
DTEND;TZID=America/Los_Angeles:20191008T210000
DTSTAMP:20260421T033957
CREATED:20190429T170639Z
LAST-MODIFIED:20190429T170639Z
UID:11243-1570561200-1570568400@sactoinsight.org
SUMMARY:Beginning Meditation Class (4 of 6)
DESCRIPTION:This class is part of a six week meditation course offered twice a year. You must pre-register to the course before attending this class. For course details\, click here. If you are a course participant and would like to make a donation online\, click here.
URL:https://sactoinsight.org/event/beginning-meditation-class-4-6-4/
LOCATION:CA
CATEGORIES:Meditation Course
END:VEVENT
BEGIN:VEVENT
DTSTART;TZID=America/Los_Angeles:20191015T190000
DTEND;TZID=America/Los_Angeles:20191015T210000
DTSTAMP:20260421T033957
CREATED:20190429T170856Z
LAST-MODIFIED:20190429T170936Z
UID:11245-1571166000-1571173200@sactoinsight.org
SUMMARY:Beginning Meditation Class (5 of 6)
DESCRIPTION:This class is part of a six week meditation course offered twice a year. You must pre-register to the course before attending this class. For course details\, click here. If you are a course participant and would like to make a donation online\, click here.
URL:https://sactoinsight.org/event/beginning-meditation-class-5-6-4/
LOCATION:CA
CATEGORIES:Meditation Course
END:VEVENT
BEGIN:VEVENT
DTSTART;TZID=America/Los_Angeles:20191019T083000
DTEND;TZID=America/Los_Angeles:20191019T163000
DTSTAMP:20260421T033957
CREATED:20190429T200426Z
LAST-MODIFIED:20190429T200426Z
UID:11252-1571473800-1571502600@sactoinsight.org
SUMMARY:Beginning Meditation Class One-Day Retreat
DESCRIPTION:This retreat is part of a six week meditation course offered twice a year. You must pre-register to the course before attending this retreat.
URL:https://sactoinsight.org/event/beginning-meditation-class-one-day-retreat-6/
LOCATION:CA
CATEGORIES:Meditation Course,Retreat
END:VEVENT
BEGIN:VEVENT
DTSTART;TZID=America/Los_Angeles:20191022T190000
DTEND;TZID=America/Los_Angeles:20191022T210000
DTSTAMP:20260421T033957
CREATED:20190429T171048Z
LAST-MODIFIED:20190429T171048Z
UID:11247-1571770800-1571778000@sactoinsight.org
SUMMARY:Beginning Meditation Class (6 of 6)
DESCRIPTION:This class is part of a six week meditation course offered twice a year. You must pre-register to the course before attending this class. For course details\, click here. If you are a course participant and would like to make a donation online\, click here.
URL:https://sactoinsight.org/event/beginning-meditation-class-6-6-4/
LOCATION:CA
CATEGORIES:Meditation Course
END:VEVENT
BEGIN:VEVENT
DTSTART;TZID=America/Los_Angeles:20191024T180000
DTEND;TZID=America/Los_Angeles:20191024T190000
DTSTAMP:20260421T033957
CREATED:20190912T232835Z
LAST-MODIFIED:20190912T233027Z
UID:12434-1571940000-1571943600@sactoinsight.org
SUMMARY:Introduction to Meditation with SIM Community Teacher Rich Howard
DESCRIPTION:This 45-minute course is suitable for beginners or anyone who would like a refresher. It is offered on the fourth Thursday of every month before the regular sitting and dharma talk. There is no fee. \nRICH HOWARD has been an active practitioner and volunteer at SIM since 2004. His area of interest is bringing meditative awareness into everyday life. He participated in SIM’s 2007 India Pilgrimage and is a graduate of SIM’s second Practice Development and Leadership (PDL) program. The pilgrimage and the PDL program led to an interest in establishing the SIM Kalyana Mitta (Pali for spiritual friends) groups. He coordinated SIM’s network of Kalyana Mitta groups until he joined the SIM Board in 2010. He was one of the SIM representatives to the Inter-Sangha Coordinating Committee\, predecessor to the Sacramento Dharma Center Board\, which now runs our shared space for Buddhist sanghas in Sacramento. He served as a Peace Corps volunteer in southern Africa in the 1970s and is fluent in Spanish. He is a past president of the SIM Board. His teachers are Dennis Warren and Steve Armstrong. \nSacramento Insight Meditation events are sustained by the generosity of instructors in offering teachings freely and on the generosity of students and members of the meditative community in the form of financial support\, service and participation in events. With our practice of dana\, we support our Sangha. \nAt the bottom of this page\, you may enter the number of people planning to attend and select the button “Confirm RSVP“.
URL:https://sactoinsight.org/event/introduction-meditation-sim-community-teacher-rich-howard/
LOCATION:CA
CATEGORIES:Meditation Course
END:VEVENT
END:VCALENDAR