BEGIN:VCALENDAR
VERSION:2.0
PRODID:-//Sacramento Insight Meditation - ECPv6.15.16.1//NONSGML v1.0//EN
CALSCALE:GREGORIAN
METHOD:PUBLISH
X-ORIGINAL-URL:https://sactoinsight.org
X-WR-CALDESC:Events for Sacramento Insight Meditation
REFRESH-INTERVAL;VALUE=DURATION:PT1H
X-Robots-Tag:noindex
X-PUBLISHED-TTL:PT1H
BEGIN:VTIMEZONE
TZID:America/Los_Angeles
BEGIN:DAYLIGHT
TZOFFSETFROM:-0800
TZOFFSETTO:-0700
TZNAME:PDT
DTSTART:20180311T100000
END:DAYLIGHT
BEGIN:STANDARD
TZOFFSETFROM:-0700
TZOFFSETTO:-0800
TZNAME:PST
DTSTART:20181104T090000
END:STANDARD
BEGIN:DAYLIGHT
TZOFFSETFROM:-0800
TZOFFSETTO:-0700
TZNAME:PDT
DTSTART:20190310T100000
END:DAYLIGHT
BEGIN:STANDARD
TZOFFSETFROM:-0700
TZOFFSETTO:-0800
TZNAME:PST
DTSTART:20191103T090000
END:STANDARD
BEGIN:DAYLIGHT
TZOFFSETFROM:-0800
TZOFFSETTO:-0700
TZNAME:PDT
DTSTART:20200308T100000
END:DAYLIGHT
BEGIN:STANDARD
TZOFFSETFROM:-0700
TZOFFSETTO:-0800
TZNAME:PST
DTSTART:20201101T090000
END:STANDARD
END:VTIMEZONE
BEGIN:VEVENT
DTSTART;TZID=America/Los_Angeles:20190917T190000
DTEND;TZID=America/Los_Angeles:20190917T210000
DTSTAMP:20260421T050345
CREATED:20190429T164329Z
LAST-MODIFIED:20190912T070657Z
UID:11232-1568746800-1568754000@sactoinsight.org
SUMMARY:Beginning Meditation Class (6 Week Course)
DESCRIPTION:This class is currently taught by SIM Founding Teacher Dennis Warren and is part of a six week meditation course offered twice a year. Classes meet Tuesday evenings\, September 17\, 24\, October 1\, 8 15\, 22\, with a daylong retreat Saturday\, October 19\, 2019 and details for this event are posted on the Course Overview page. If you have registered to this course and would like to make a donation to support SIM and the course instructor Dennis Warren\, consider donating online via credit card or Paypal.\n \nRegistration Details\nWalk-in registrations are not available since the course registrar provides follow-up information required prior to this first class meeting. \nBefore making the $35 registration payment\, click here to review the terms of use for this website.  To pay the registration fee online\, use the “Tickets” section at the bottom of this page. It’s not necessary to Log in before purchasing and you won’t need to print the ticket on paper. On the left side\, specify the number of people you are registering to this course. On the right side\, click the button “Buy now” and you’ll be automatically directed to a secure webpage where your registration payment can be made by credit card as a guest (no PayPal account required) or payment can be made by PayPal after you sign-in to your PayPal account if you have one. \nNote that all registrants will receive an email communication from the course registrar on the following dates: Thursday\, July 31 and Tuesday\, September 3. \nIf you need to contact the course registrar with any questions\, click here. \nNOTICE – If there are no tickets available\, the course is full however you may add your name to a WAIT LIST – click here.
URL:https://sactoinsight.org/event/beginning-meditation-starts-sep2019/
LOCATION:CA
CATEGORIES:Meditation Course
END:VEVENT
BEGIN:VEVENT
DTSTART;TZID=America/Los_Angeles:20190924T190000
DTEND;TZID=America/Los_Angeles:20190924T210000
DTSTAMP:20260421T050345
CREATED:20190429T170259Z
LAST-MODIFIED:20190429T170259Z
UID:11239-1569351600-1569358800@sactoinsight.org
SUMMARY:Beginning Meditation Class (2 of 6)
DESCRIPTION:This class is part of a six week meditation course offered twice a year. You must pre-register to the course before attending this class. For course details\, click here. If you are a course participant and would like to make a donation online\, click here.
URL:https://sactoinsight.org/event/beginning-meditation-class-2-6-3/
LOCATION:CA
CATEGORIES:Meditation Course
END:VEVENT
BEGIN:VEVENT
DTSTART;TZID=America/Los_Angeles:20190926T180000
DTEND;TZID=America/Los_Angeles:20190926T190000
DTSTAMP:20260421T050345
CREATED:20190731T150123Z
LAST-MODIFIED:20190731T150124Z
UID:12067-1569520800-1569524400@sactoinsight.org
SUMMARY:Introduction to Meditation with Dennis Warren
DESCRIPTION:This 45-minute course is suitable for beginners or anyone who would like a refresher. It is offered on the fourth Thursday of every month before the regular sitting and dharma talk. There is no fee. \nDENNIS WARREN is SIM’s Founding Teacher and has been teaching mindfulness\, meditation and contemplative practices since 1998. He recently completed his 11th year as a Volunteer Clinical Professor in Mindfulness in the Division of Pain Medicine at the UC Davis School of Medicine and Medical Center. He is certified as a Mindfulness Teacher\, Professional Level (CMT-P)\, by the International Mindfulness Teachers Association. He is a graduate of the professional trainings in Mindfulness Based Stress Reduction and Mindfulness Based Cognitive Therapy for Depression. He also is a graduate of the Spirit Rock Medication Center’s Dharma leaders training program. You can learn more about Dennis’ background and activities at https://www.denniswarren.net/ . \nAt the bottom of this page\, you may enter the number of people planning to attend and select the button “Confirm RSVP“.
URL:https://sactoinsight.org/event/introduction-meditation-dennis-warren/
LOCATION:CA
CATEGORIES:Meditation Course
END:VEVENT
END:VCALENDAR