BEGIN:VCALENDAR
VERSION:2.0
PRODID:-//Sacramento Insight Meditation - ECPv6.15.16.1//NONSGML v1.0//EN
CALSCALE:GREGORIAN
METHOD:PUBLISH
X-ORIGINAL-URL:https://sactoinsight.org
X-WR-CALDESC:Events for Sacramento Insight Meditation
REFRESH-INTERVAL;VALUE=DURATION:PT1H
X-Robots-Tag:noindex
X-PUBLISHED-TTL:PT1H
BEGIN:VTIMEZONE
TZID:America/Los_Angeles
BEGIN:DAYLIGHT
TZOFFSETFROM:-0800
TZOFFSETTO:-0700
TZNAME:PDT
DTSTART:20180311T100000
END:DAYLIGHT
BEGIN:STANDARD
TZOFFSETFROM:-0700
TZOFFSETTO:-0800
TZNAME:PST
DTSTART:20181104T090000
END:STANDARD
BEGIN:DAYLIGHT
TZOFFSETFROM:-0800
TZOFFSETTO:-0700
TZNAME:PDT
DTSTART:20190310T100000
END:DAYLIGHT
BEGIN:STANDARD
TZOFFSETFROM:-0700
TZOFFSETTO:-0800
TZNAME:PST
DTSTART:20191103T090000
END:STANDARD
BEGIN:DAYLIGHT
TZOFFSETFROM:-0800
TZOFFSETTO:-0700
TZNAME:PDT
DTSTART:20200308T100000
END:DAYLIGHT
BEGIN:STANDARD
TZOFFSETFROM:-0700
TZOFFSETTO:-0800
TZNAME:PST
DTSTART:20201101T090000
END:STANDARD
END:VTIMEZONE
BEGIN:VEVENT
DTSTART;TZID=America/Los_Angeles:20190501T183000
DTEND;TZID=America/Los_Angeles:20190501T210000
DTSTAMP:20260421T110038
CREATED:20190205T210606Z
LAST-MODIFIED:20190205T210606Z
UID:10356-1556735400-1556744400@sactoinsight.org
SUMMARY:MBSR (Session 2 of 8)
DESCRIPTION:This Mindfulness Based Stress Reduction session is part of an eight week course instructed by Matt Russell. You must pre-register to the course before attending this session. For course registration details\, click here.
URL:https://sactoinsight.org/event/mbsr-session-2-8-2/
LOCATION:CA
CATEGORIES:Meditation Course
END:VEVENT
BEGIN:VEVENT
DTSTART;TZID=America/Los_Angeles:20190508T183000
DTEND;TZID=America/Los_Angeles:20190508T210000
DTSTAMP:20260421T110038
CREATED:20190205T210848Z
LAST-MODIFIED:20190205T210848Z
UID:10358-1557340200-1557349200@sactoinsight.org
SUMMARY:MBSR (Session 3 of 8)
DESCRIPTION:This Mindfulness Based Stress Reduction session is part of an eight week course instructed by Matt Russell. You must pre-register to the course before attending this session. For course registration details\, click here.
URL:https://sactoinsight.org/event/mbsr-session-3-8-2/
LOCATION:CA
CATEGORIES:Meditation Course
END:VEVENT
BEGIN:VEVENT
DTSTART;TZID=America/Los_Angeles:20190509T180000
DTEND;TZID=America/Los_Angeles:20190509T190000
DTSTAMP:20260421T110038
CREATED:20190222T020253Z
LAST-MODIFIED:20190222T020253Z
UID:10547-1557424800-1557428400@sactoinsight.org
SUMMARY:Nurturing Sangha Over Dinner
DESCRIPTION:Nurturing Sangha Over Dinner meets informally at six o’clock on the second Thursday of the month\, before the regular dharma talk and sit. Please bring your dinner and something extra to share\, if you would like. We can continue to get to know one another and talk more about how SIM can support us in our practice. We’ll try this out for a few months and see if it is something we want to continue.
URL:https://sactoinsight.org/event/nurturing-sangha-dinner-15/
LOCATION:CA
CATEGORIES:Study Group
END:VEVENT
BEGIN:VEVENT
DTSTART;TZID=America/Los_Angeles:20190514T190000
DTEND;TZID=America/Los_Angeles:20190514T210000
DTSTAMP:20260421T110038
CREATED:20190504T052923Z
LAST-MODIFIED:20190504T052923Z
UID:11343-1557860400-1557867600@sactoinsight.org
SUMMARY:Young Persons Sangha - first meeting
DESCRIPTION:An inaugural meeting of a Young Persons Sangha. Idris Ahmed is the facilitator and SIM Community Teacher Diane Wilde is the sponsor. Please come and join us as we discuss plans for developing this community of younger practitioners. \n\nYoung Persons Sangha forming at SIM
URL:https://sactoinsight.org/event/young-persons-sangha-first-meeting/
LOCATION:CA
CATEGORIES:Study Group
END:VEVENT
BEGIN:VEVENT
DTSTART;TZID=America/Los_Angeles:20190515T183000
DTEND;TZID=America/Los_Angeles:20190515T210000
DTSTAMP:20260421T110038
CREATED:20190205T210954Z
LAST-MODIFIED:20190205T210954Z
UID:10360-1557945000-1557954000@sactoinsight.org
SUMMARY:MBSR (Session 4 of 8)
DESCRIPTION:This Mindfulness Based Stress Reduction session is part of an eight week course instructed by Matt Russell. You must pre-register to the course before attending this session. For course registration details\, click here.
URL:https://sactoinsight.org/event/mbsr-session-4-8-2/
LOCATION:CA
CATEGORIES:Meditation Course
END:VEVENT
BEGIN:VEVENT
DTSTART;TZID=America/Los_Angeles:20190522T183000
DTEND;TZID=America/Los_Angeles:20190522T210000
DTSTAMP:20260421T110038
CREATED:20190205T211054Z
LAST-MODIFIED:20190205T211054Z
UID:10362-1558549800-1558558800@sactoinsight.org
SUMMARY:MBSR (Session 5 of 8)
DESCRIPTION:This Mindfulness Based Stress Reduction session is part of an eight week course instructed by Matt Russell. You must pre-register to the course before attending this session. For course registration details\, click here.
URL:https://sactoinsight.org/event/mbsr-session-5-8-2/
LOCATION:CA
CATEGORIES:Meditation Course
END:VEVENT
BEGIN:VEVENT
DTSTART;TZID=America/Los_Angeles:20190523T180000
DTEND;TZID=America/Los_Angeles:20190523T190000
DTSTAMP:20260421T110038
CREATED:20190303T061606Z
LAST-MODIFIED:20190519T043047Z
UID:10634-1558634400-1558638000@sactoinsight.org
SUMMARY:Introduction to Meditation with SIM Community Member\, Laura Rosenthal
DESCRIPTION:This 45-minute course is suitable for beginners or anyone who would like a refresher. It is offered on the fourth Thursday of every month before the regular sitting and dharma talk. There is no fee. \nLAURA ROSENTHAL has participated actively in SIM since 2004\, when she was first introduced to Insight Meditation (Vipassana) after meditating in other traditions. She served on the SIM board of directors for five years\, from 2010 to 2015. She is a graduate of Spirit Rock Meditation Center’s Dedicated Practitioners Program (DPP4) and Advanced Practitioners Program (2016-17). In addition\, she participates in Heather Sundberg’s Committed Students Program in Nevada City. Her teachers are Andrea Fella and Heather Sundberg. Laura practiced law in the public sector for almost 40 years\, with an emphasis on access to health insurance and health care. Her other loves include Jewish text study and writing. \nSacramento Insight Meditation events are sustained by the generosity of instructors in offering teachings freely and on the generosity of students and members of the meditative community in the form of financial support\, service and participation in events. With our practice of dana\, we support our Sangha. \nAt the bottom of this page\, you may enter the number of people planning to attend and select the button “Confirm RSVP“.
URL:https://sactoinsight.org/event/introduction-to-meditation-5/
LOCATION:CA
CATEGORIES:Meditation Course
END:VEVENT
BEGIN:VEVENT
DTSTART;TZID=America/Los_Angeles:20190528T190000
DTEND;TZID=America/Los_Angeles:20190528T210000
DTSTAMP:20260421T110038
CREATED:20190519T044953Z
LAST-MODIFIED:20190610T150558Z
UID:11442-1559070000-1559077200@sactoinsight.org
SUMMARY:Young Persons Sangha with Sue Taylor
DESCRIPTION:Meeting on the Second and Fourth Tuesday evenings is a ​young persons group studying mindfulness and meditation. Idris Ahmed is the facilitator and SIM Community Teacher Diane Wilde is the sponsor. \n\nTalk Handout (.pdf) from meeting May 28th:  Buddhas ’ 8-Fold Path
URL:https://sactoinsight.org/event/young-persons-sangha/
LOCATION:CA
CATEGORIES:Study Group
ORGANIZER;CN="Idris Ahmed":MAILTO:idris.ahmed54@gmail.com
END:VEVENT
BEGIN:VEVENT
DTSTART;TZID=America/Los_Angeles:20190529T183000
DTEND;TZID=America/Los_Angeles:20190529T210000
DTSTAMP:20260421T110038
CREATED:20190205T211152Z
LAST-MODIFIED:20190205T211152Z
UID:10364-1559154600-1559163600@sactoinsight.org
SUMMARY:MBSR (Session 6 of 8)
DESCRIPTION:This Mindfulness Based Stress Reduction session is part of an eight week course instructed by Matt Russell. You must pre-register to the course before attending this session. For course registration details\, click here.
URL:https://sactoinsight.org/event/mbsr-session-6-8-2/
LOCATION:CA
CATEGORIES:Meditation Course
END:VEVENT
END:VCALENDAR