BEGIN:VCALENDAR
VERSION:2.0
PRODID:-//Sacramento Insight Meditation - ECPv6.15.16.1//NONSGML v1.0//EN
CALSCALE:GREGORIAN
METHOD:PUBLISH
X-WR-CALNAME:Sacramento Insight Meditation
X-ORIGINAL-URL:https://sactoinsight.org
X-WR-CALDESC:Events for Sacramento Insight Meditation
REFRESH-INTERVAL;VALUE=DURATION:PT1H
X-Robots-Tag:noindex
X-PUBLISHED-TTL:PT1H
BEGIN:VTIMEZONE
TZID:America/Los_Angeles
BEGIN:DAYLIGHT
TZOFFSETFROM:-0800
TZOFFSETTO:-0700
TZNAME:PDT
DTSTART:20170312T100000
END:DAYLIGHT
BEGIN:STANDARD
TZOFFSETFROM:-0700
TZOFFSETTO:-0800
TZNAME:PST
DTSTART:20171105T090000
END:STANDARD
BEGIN:DAYLIGHT
TZOFFSETFROM:-0800
TZOFFSETTO:-0700
TZNAME:PDT
DTSTART:20180311T100000
END:DAYLIGHT
BEGIN:STANDARD
TZOFFSETFROM:-0700
TZOFFSETTO:-0800
TZNAME:PST
DTSTART:20181104T090000
END:STANDARD
BEGIN:DAYLIGHT
TZOFFSETFROM:-0800
TZOFFSETTO:-0700
TZNAME:PDT
DTSTART:20190310T100000
END:DAYLIGHT
BEGIN:STANDARD
TZOFFSETFROM:-0700
TZOFFSETTO:-0800
TZNAME:PST
DTSTART:20191103T090000
END:STANDARD
END:VTIMEZONE
BEGIN:VEVENT
DTSTART;TZID=America/Los_Angeles:20180501T190000
DTEND;TZID=America/Los_Angeles:20180501T211500
DTSTAMP:20260422T030632
CREATED:20171116T020330Z
LAST-MODIFIED:20171116T020330Z
UID:6165-1525201200-1525209300@sactoinsight.org
SUMMARY:Beginning Meditation Class (3 of 6)
DESCRIPTION:This class is part of a six week meditation course offered twice a year. You must pre-register to the course before attending this class. For course details\, click here.
URL:https://sactoinsight.org/event/beginning-meditation-class-3-of-6/
LOCATION:CA
CATEGORIES:Meditation Course
END:VEVENT
BEGIN:VEVENT
DTSTART;TZID=America/Los_Angeles:20180508T190000
DTEND;TZID=America/Los_Angeles:20180508T211500
DTSTAMP:20260422T030632
CREATED:20171116T020448Z
LAST-MODIFIED:20171116T020448Z
UID:6167-1525806000-1525814100@sactoinsight.org
SUMMARY:Beginning Meditation Class (4 of 6)
DESCRIPTION:This class is part of a six week meditation course offered twice a year. You must pre-register to the course before attending this class. For course details\, click here.
URL:https://sactoinsight.org/event/beginning-meditation-class-4-of-6/
LOCATION:CA
CATEGORIES:Meditation Course
END:VEVENT
BEGIN:VEVENT
DTSTART;TZID=America/Los_Angeles:20180510T180000
DTEND;TZID=America/Los_Angeles:20180510T190000
DTSTAMP:20260422T030632
CREATED:20180308T051718Z
LAST-MODIFIED:20180514T001931Z
UID:7450-1525975200-1525978800@sactoinsight.org
SUMMARY:Nurturing Sangha Over Dinner
DESCRIPTION:Nurturing Sangha Over Dinner meets informally at six o’clock on the second Thursday of the month\, before the regular dharma talk and sit. Please bring your dinner and something extra to share\, if you would like. We can continue to get to know one another and talk more about how SIM can support us in our practice. We’ll try this out for a few months and see if it is something we want to continue.
URL:https://sactoinsight.org/event/nurturing-sangha-dinner-4/
LOCATION:CA
CATEGORIES:Study Group
END:VEVENT
BEGIN:VEVENT
DTSTART;TZID=America/Los_Angeles:20180515T190000
DTEND;TZID=America/Los_Angeles:20180515T211500
DTSTAMP:20260422T030632
CREATED:20171116T020656Z
LAST-MODIFIED:20171116T020656Z
UID:6169-1526410800-1526418900@sactoinsight.org
SUMMARY:Beginning Meditation Class (5 of 6)
DESCRIPTION:This class is part of a six week meditation course offered twice a year. You must pre-register to the course before attending this class. For course details\, click here.
URL:https://sactoinsight.org/event/beginning-meditation-class-5-of-6/
LOCATION:CA
CATEGORIES:Meditation Course
END:VEVENT
BEGIN:VEVENT
DTSTART;TZID=America/Los_Angeles:20180519T083000
DTEND;TZID=America/Los_Angeles:20180519T163000
DTSTAMP:20260422T030632
CREATED:20171116T021235Z
LAST-MODIFIED:20171116T021235Z
UID:6174-1526718600-1526747400@sactoinsight.org
SUMMARY:Beginning Meditation Class One-Day Retreat
DESCRIPTION:This retreat is part of a six week meditation course offered twice a year. You must pre-register to the course before attending this retreat.
URL:https://sactoinsight.org/event/beginning-meditation-class-one-day-retreat-3/
LOCATION:CA
CATEGORIES:Meditation Course,Retreat
END:VEVENT
BEGIN:VEVENT
DTSTART;TZID=America/Los_Angeles:20180522T190000
DTEND;TZID=America/Los_Angeles:20180522T211500
DTSTAMP:20260422T030632
CREATED:20171116T020821Z
LAST-MODIFIED:20171116T020938Z
UID:6171-1527015600-1527023700@sactoinsight.org
SUMMARY:Beginning Meditation Class (6 of 6)
DESCRIPTION:This class is part of a six week meditation course offered twice a year. You must pre-register to the course before attending this class. For course details\, click here.
URL:https://sactoinsight.org/event/beginning-meditation-class-5-of-6-2/
LOCATION:CA
CATEGORIES:Meditation Course
END:VEVENT
BEGIN:VEVENT
DTSTART;TZID=America/Los_Angeles:20180524T180000
DTEND;TZID=America/Los_Angeles:20180524T190000
DTSTAMP:20260422T030632
CREATED:20180206T042317Z
LAST-MODIFIED:20180527T224555Z
UID:7245-1527184800-1527188400@sactoinsight.org
SUMMARY:Introduction to Meditation with SIM Community Mentor\, Rich Howard
DESCRIPTION:This 45-minute course is suitable for beginners or anyone who would like a refresher. It is offered on the fourth Thursday of every month before the regular sitting and dharma talk. There is no fee. \nRICH HOWARD has been an active practitioner and volunteer at SIM since 2004. His area of interest is bringing meditative awareness into everyday life. He participated in SIM’s 2007 India Pilgrimage and is a graduate of SIM’s second Practice Development and Leadership (PDL) program. The pilgrimage and the PDL program led to an interest in establishing the SIM Kalyana Mitta (Pali for spiritual friends) groups. He coordinated SIM’s network of Kalyana Mitta groups until he joined the SIM Board in 2010. He was one of the SIM representatives to the Inter-Sangha Coordinating Committee\, predecessor to the Sacramento Dharma Center Board\, which now runs our shared space for Buddhist sanghas in Sacramento. He served as a Peace Corps volunteer in southern Africa in the 1970s and is fluent in Spanish. He is a past president of the SIM Board. His teachers are Dennis Warren and Steve Armstrong. \nSacramento Insight Meditation events are sustained by the generosity of instructors in offering teachings freely and on the generosity of students and members of the meditative community in the form of financial support\, service and participation in events. With our practice of dana\, we support our Sangha. \nAt the bottom of this page\, you may enter the number of people planning to attend and select the button “Confirm RSVP“.
URL:https://sactoinsight.org/event/introduction-meditation-sim-community-mentor-rich-howard-8/
LOCATION:CA
CATEGORIES:Meditation Course
END:VEVENT
END:VCALENDAR