BEGIN:VCALENDAR
VERSION:2.0
PRODID:-//Sacramento Insight Meditation - ECPv6.15.16.1//NONSGML v1.0//EN
CALSCALE:GREGORIAN
METHOD:PUBLISH
X-WR-CALNAME:Sacramento Insight Meditation
X-ORIGINAL-URL:https://sactoinsight.org
X-WR-CALDESC:Events for Sacramento Insight Meditation
REFRESH-INTERVAL;VALUE=DURATION:PT1H
X-Robots-Tag:noindex
X-PUBLISHED-TTL:PT1H
BEGIN:VTIMEZONE
TZID:America/Los_Angeles
BEGIN:DAYLIGHT
TZOFFSETFROM:-0800
TZOFFSETTO:-0700
TZNAME:PDT
DTSTART:20160313T100000
END:DAYLIGHT
BEGIN:STANDARD
TZOFFSETFROM:-0700
TZOFFSETTO:-0800
TZNAME:PST
DTSTART:20161106T090000
END:STANDARD
BEGIN:DAYLIGHT
TZOFFSETFROM:-0800
TZOFFSETTO:-0700
TZNAME:PDT
DTSTART:20170312T100000
END:DAYLIGHT
BEGIN:STANDARD
TZOFFSETFROM:-0700
TZOFFSETTO:-0800
TZNAME:PST
DTSTART:20171105T090000
END:STANDARD
BEGIN:DAYLIGHT
TZOFFSETFROM:-0800
TZOFFSETTO:-0700
TZNAME:PDT
DTSTART:20180311T100000
END:DAYLIGHT
BEGIN:STANDARD
TZOFFSETFROM:-0700
TZOFFSETTO:-0800
TZNAME:PST
DTSTART:20181104T090000
END:STANDARD
END:VTIMEZONE
BEGIN:VEVENT
DTSTART;TZID=America/Los_Angeles:20171107T190000
DTEND;TZID=America/Los_Angeles:20171107T211500
DTSTAMP:20260422T111300
CREATED:20170518T052329Z
LAST-MODIFIED:20170525T190406Z
UID:4328-1510081200-1510089300@sactoinsight.org
SUMMARY:Beginning Meditation Class (5 of 6)
DESCRIPTION:This class is part of a six week meditation course offered twice a year. You must pre-register to the course before attending this class. For course details\, click here.
URL:https://sactoinsight.org/event/beginning-meditation-class-5-6/
LOCATION:CA
CATEGORIES:Meditation Course
END:VEVENT
BEGIN:VEVENT
DTSTART;TZID=America/Los_Angeles:20171111T083000
DTEND;TZID=America/Los_Angeles:20171111T163000
DTSTAMP:20260422T111300
CREATED:20170518T053010Z
LAST-MODIFIED:20170518T053010Z
UID:4334-1510389000-1510417800@sactoinsight.org
SUMMARY:Beginning Meditation Class One-Day Retreat
DESCRIPTION:This retreat is part of a six week meditation course offered twice a year. You must pre-register to the course before attending this retreat.
URL:https://sactoinsight.org/event/beginning-meditation-class-one-day-retreat-2/
LOCATION:CA
CATEGORIES:Meditation Course,Retreat
END:VEVENT
BEGIN:VEVENT
DTSTART;TZID=America/Los_Angeles:20171114T190000
DTEND;TZID=America/Los_Angeles:20171114T211500
DTSTAMP:20260422T111300
CREATED:20170518T052444Z
LAST-MODIFIED:20171112T011015Z
UID:4330-1510686000-1510694100@sactoinsight.org
SUMMARY:Beginning Meditation Class (6 of 6)
DESCRIPTION:This class is part of a six week meditation course offered twice a year. You must pre-register to the course before attending this class. \nUse the form below to donate by credit card or your PayPal account. Enter the amount you’d like to give and your donation will be shared with SIM and the meditation course instructor(s). \n[give_form id=”3298″ show_title=”false” show_content=”none” display_style=”reveal”]
URL:https://sactoinsight.org/event/beginning-meditation-class-6-6/
LOCATION:CA
CATEGORIES:Meditation Course
END:VEVENT
BEGIN:VEVENT
DTSTART;TZID=America/Los_Angeles:20171116T180000
DTEND;TZID=America/Los_Angeles:20171116T184500
DTSTAMP:20260422T111300
CREATED:20170804T045159Z
LAST-MODIFIED:20171125T034028Z
UID:5163-1510855200-1510857900@sactoinsight.org
SUMMARY:Introduction to Meditation with SIM Community Mentor\, Diane Wilde
DESCRIPTION:This 45-minute course is suitable for beginners or anyone who would like a refresher. It is offered on the fourth Thursday of every month before the regular sitting and dharma talk. There is no fee. \nDIANE WILDE has studied meditation in various traditions since 1990. In 2001 she was a founding member of Sacramento Insight Meditation. She founded Buddhist Pathways Prison Project (BP3) in 2010.  Since 2003\, she has been a BP3 prison chaplain and aids in coordination of 75 volunteers who offer Buddhist services at numerous California prisons and jails. She is a graduate of Sati Center’s Buddhist Chaplaincy program and graduated from Spirit Rock Meditation Center’s Community Dharma Leadership Training Program. She is a board member of Sati Center for Buddhist Studies\, Sacramento Dharma Center\, Buddhist Pathways Prison Project and California Dept. of Corrections Volunteer Advisory Board. In 2015 she was lay-ordained as a Buddhist minister by her teacher Gil Fronsdal. \nSacramento Insight Meditation events are sustained by the generosity of instructors in offering teachings freely and on the generosity of students and members of the meditative community in the form of financial support\, service and participation in events. With our practice of dana\, we support our Sangha.
URL:https://sactoinsight.org/event/introduction-meditation-sim-community-mentor-diane-wilde-2/
LOCATION:CA
CATEGORIES:Meditation Course
END:VEVENT
END:VCALENDAR