BEGIN:VCALENDAR
VERSION:2.0
PRODID:-//Sacramento Insight Meditation - ECPv6.15.16.1//NONSGML v1.0//EN
CALSCALE:GREGORIAN
METHOD:PUBLISH
X-WR-CALNAME:Sacramento Insight Meditation
X-ORIGINAL-URL:https://sactoinsight.org
X-WR-CALDESC:Events for Sacramento Insight Meditation
REFRESH-INTERVAL;VALUE=DURATION:PT1H
X-Robots-Tag:noindex
X-PUBLISHED-TTL:PT1H
BEGIN:VTIMEZONE
TZID:America/Los_Angeles
BEGIN:DAYLIGHT
TZOFFSETFROM:-0800
TZOFFSETTO:-0700
TZNAME:PDT
DTSTART:20160313T100000
END:DAYLIGHT
BEGIN:STANDARD
TZOFFSETFROM:-0700
TZOFFSETTO:-0800
TZNAME:PST
DTSTART:20161106T090000
END:STANDARD
BEGIN:DAYLIGHT
TZOFFSETFROM:-0800
TZOFFSETTO:-0700
TZNAME:PDT
DTSTART:20170312T100000
END:DAYLIGHT
BEGIN:STANDARD
TZOFFSETFROM:-0700
TZOFFSETTO:-0800
TZNAME:PST
DTSTART:20171105T090000
END:STANDARD
BEGIN:DAYLIGHT
TZOFFSETFROM:-0800
TZOFFSETTO:-0700
TZNAME:PDT
DTSTART:20180311T100000
END:DAYLIGHT
BEGIN:STANDARD
TZOFFSETFROM:-0700
TZOFFSETTO:-0800
TZNAME:PST
DTSTART:20181104T090000
END:STANDARD
END:VTIMEZONE
BEGIN:VEVENT
DTSTART;TZID=America/Los_Angeles:20170905T190000
DTEND;TZID=America/Los_Angeles:20170905T210000
DTSTAMP:20260422T135521
CREATED:20161125T203141Z
LAST-MODIFIED:20170310T032319Z
UID:2140-1504638000-1504645200@sactoinsight.org
SUMMARY:Brahma Viharas Study Group (8 of 8)
DESCRIPTION:A Brahma Viharas eight month study group that’s facilitated by SIM Community Mentor Diane Wilde. \nAdditional Dana\n[give_form id=”3261″ show_title=”false” show_content=”above” display_style=”reveal”]
URL:https://sactoinsight.org/event/brahma-viharas-study-group-8/
LOCATION:CA
CATEGORIES:Study Group
ORGANIZER;CN="Diane Wilde":MAILTO:diane@sactoinsight.org
END:VEVENT
BEGIN:VEVENT
DTSTART;TZID=America/Los_Angeles:20170928T180000
DTEND;TZID=America/Los_Angeles:20170928T184500
DTSTAMP:20260422T135521
CREATED:20170705T035108Z
LAST-MODIFIED:20170827T044131Z
UID:4837-1506621600-1506624300@sactoinsight.org
SUMMARY:Introduction to Meditation with Visiting Mentor\, Lori Wong
DESCRIPTION:This 45-minute course is suitable for beginners or anyone who would like a refresher. It is offered on the fourth Thursday of every month before the regular sitting and dharma talk. There is no fee. \nLori Wong is the founding teacher of Insight Meditation Central Valley and has been practicing Insight Meditation since 2003 under the guidance and mentorship of Gil Fronsdal\, who is the principal and founding teacher of the Insight Meditation Center (IMC) in Redwood City\, CA. She is a former board member and former president of IMC\, a current board member of the Sati Center for Buddhist Studies (also in Redwood City)\, and was a founding board member of the Buddhist Insight Network. She is a Community Dharma Leader trained through Spirit Rock Meditation Center in Woodacre\, CA.
URL:https://sactoinsight.org/event/introduction-meditation-visiting-mentor-lori-wong/
LOCATION:CA
CATEGORIES:Meditation Course
END:VEVENT
END:VCALENDAR