BEGIN:VCALENDAR
VERSION:2.0
PRODID:-//Sacramento Insight Meditation - ECPv6.15.16.1//NONSGML v1.0//EN
CALSCALE:GREGORIAN
METHOD:PUBLISH
X-ORIGINAL-URL:https://sactoinsight.org
X-WR-CALDESC:Events for Sacramento Insight Meditation
REFRESH-INTERVAL;VALUE=DURATION:PT1H
X-Robots-Tag:noindex
X-PUBLISHED-TTL:PT1H
BEGIN:VTIMEZONE
TZID:America/Los_Angeles
BEGIN:DAYLIGHT
TZOFFSETFROM:-0800
TZOFFSETTO:-0700
TZNAME:PDT
DTSTART:20160313T100000
END:DAYLIGHT
BEGIN:STANDARD
TZOFFSETFROM:-0700
TZOFFSETTO:-0800
TZNAME:PST
DTSTART:20161106T090000
END:STANDARD
BEGIN:DAYLIGHT
TZOFFSETFROM:-0800
TZOFFSETTO:-0700
TZNAME:PDT
DTSTART:20170312T100000
END:DAYLIGHT
BEGIN:STANDARD
TZOFFSETFROM:-0700
TZOFFSETTO:-0800
TZNAME:PST
DTSTART:20171105T090000
END:STANDARD
BEGIN:DAYLIGHT
TZOFFSETFROM:-0800
TZOFFSETTO:-0700
TZNAME:PDT
DTSTART:20180311T100000
END:DAYLIGHT
BEGIN:STANDARD
TZOFFSETFROM:-0700
TZOFFSETTO:-0800
TZNAME:PST
DTSTART:20181104T090000
END:STANDARD
END:VTIMEZONE
BEGIN:VEVENT
DTSTART;TZID=America/Los_Angeles:20170404T190000
DTEND;TZID=America/Los_Angeles:20170404T210000
DTSTAMP:20260422T200215
CREATED:20161125T202340Z
LAST-MODIFIED:20170310T031946Z
UID:2130-1491332400-1491339600@sactoinsight.org
SUMMARY:Brahma Viharas Study Group (3 of 8)
DESCRIPTION:A Brahma Viharas eight month study group that’s facilitated by SIM Community Mentor Diane Wilde. \nAdditional Dana\n[give_form id=”3261″ show_title=”false” show_content=”above” display_style=”reveal”]
URL:https://sactoinsight.org/event/brahma-viharas-study-group-3/
LOCATION:CA
CATEGORIES:Study Group
ORGANIZER;CN="Diane Wilde":MAILTO:diane@sactoinsight.org
END:VEVENT
BEGIN:VEVENT
DTSTART;TZID=America/Los_Angeles:20170427T180000
DTEND;TZID=America/Los_Angeles:20170427T184500
DTSTAMP:20260422T200215
CREATED:20161222T052900Z
LAST-MODIFIED:20170321T195200Z
UID:2478-1493316000-1493318700@sactoinsight.org
SUMMARY:Introduction to Meditation with SIM Founding Teacher Dennis Warren
DESCRIPTION:This 45-minute course is suitable for beginners or anyone who would like a refresher. It is offered on the fourth Thursday of every month before the regular sitting and dharma talk. There is no fee.
URL:https://sactoinsight.org/event/introduction-meditation-sim-founding-teacher-dennis-warren/
LOCATION:CA
CATEGORIES:Meditation Course
END:VEVENT
END:VCALENDAR