BEGIN:VCALENDAR
VERSION:2.0
PRODID:-//Sacramento Insight Meditation - ECPv6.15.16.1//NONSGML v1.0//EN
CALSCALE:GREGORIAN
METHOD:PUBLISH
X-WR-CALNAME:Sacramento Insight Meditation
X-ORIGINAL-URL:https://sactoinsight.org
X-WR-CALDESC:Events for Sacramento Insight Meditation
REFRESH-INTERVAL;VALUE=DURATION:PT1H
X-Robots-Tag:noindex
X-PUBLISHED-TTL:PT1H
BEGIN:VTIMEZONE
TZID:America/Los_Angeles
BEGIN:DAYLIGHT
TZOFFSETFROM:-0800
TZOFFSETTO:-0700
TZNAME:PDT
DTSTART:20250309T100000
END:DAYLIGHT
BEGIN:STANDARD
TZOFFSETFROM:-0700
TZOFFSETTO:-0800
TZNAME:PST
DTSTART:20251102T090000
END:STANDARD
BEGIN:DAYLIGHT
TZOFFSETFROM:-0800
TZOFFSETTO:-0700
TZNAME:PDT
DTSTART:20260308T100000
END:DAYLIGHT
BEGIN:STANDARD
TZOFFSETFROM:-0700
TZOFFSETTO:-0800
TZNAME:PST
DTSTART:20261101T090000
END:STANDARD
BEGIN:DAYLIGHT
TZOFFSETFROM:-0800
TZOFFSETTO:-0700
TZNAME:PDT
DTSTART:20270314T100000
END:DAYLIGHT
BEGIN:STANDARD
TZOFFSETFROM:-0700
TZOFFSETTO:-0800
TZNAME:PST
DTSTART:20271107T090000
END:STANDARD
END:VTIMEZONE
BEGIN:VEVENT
DTSTART;TZID=America/Los_Angeles:20260424T140000
DTEND;TZID=America/Los_Angeles:20260424T160000
DTSTAMP:20260424T032004
CREATED:20251230T004733Z
LAST-MODIFIED:20260323T003836Z
UID:49501-1777039200-1777046400@sactoinsight.org
SUMMARY:(Onsite) Sit and Afternoon Tea with Walt Opie
DESCRIPTION:Insight Meditation and Afternoon Tea with SIM Teacher Walt Opie\n\n\n\nFor biographical details of the teacher Walt Opie\, click here. \n\n\n\n\n\nPlease join us for a three-day teacher weekend with new faculty member Walt Opie. We’ll begin with a 30-minute sit\, then gather for afternoon tea with light refreshments. This is a wonderful opportunity to connect with Walt and enjoy time together as a sangha. \n\n\n\nWe hope you can join us and look forward to seeing you there! \n\n\n\nKindly RSVP below if you plan to attend. \n\n\n\nU \n\n\n\n\n\nWalt Opie\n\n\n\n\n\n\n                \n                        \n                            RSVP Tea Time\n                        \n                        Name(Required)\n                            \n                            \n                                                    First\n                                                    \n                                                \n                            \n                            \n                                                            Last\n                                                            \n                                                        \n                            \n                        Email(Required)\n                                \n                                    Enter Email\n                                    \n                                \n                                \n                                    Confirm Email\n                                    \n                                \n                                \n                            Friday Tea(Required)\n			\n					\n					RSVP – YES\n			\n			\n					\n					RSVP – NO\n			CommentsHave a comment or question for us? Do tell.\n          \n            \n            \n            \n            \n            \n            \n            \n            \n            \n            \n            \n            \n            \n        \n                        Δ \n                        \n\n\n\n\n\n\n\nOffer a Teacher Donation\n\n\n\nWalt Opie will receive at least 75% of your donation. \n\n\n\nUse the following donate button and select Friday Tea Apr  from the dropdown list. \n\n\n\n\nDONATE – Fri Apr 24
URL:https://sactoinsight.org/event/tea-with-walt-20260424/
LOCATION:Sacramento Dharma Center Building\, 3111 Wissemann Drive\, Sacramento\, CA\, 95826\, United States
CATEGORIES:Weekly Meditation
ATTACH;FMTTYPE=image/jpeg:https://sactoinsight.org/wp-content/uploads/2021/01/Tea-GregScharf-e1744698893586.jpg
END:VEVENT
END:VCALENDAR